BEGIN:VCALENDAR
VERSION:2.0
PRODID:-//Home Grown Great - ECPv6.7.0//NONSGML v1.0//EN
CALSCALE:GREGORIAN
METHOD:PUBLISH
X-ORIGINAL-URL:https://www.homegrowngreat.com
X-WR-CALDESC:Events for Home Grown Great
REFRESH-INTERVAL;VALUE=DURATION:PT1H
X-Robots-Tag:noindex
X-PUBLISHED-TTL:PT1H
BEGIN:VTIMEZONE
TZID:America/New_York
BEGIN:DAYLIGHT
TZOFFSETFROM:-0500
TZOFFSETTO:-0400
TZNAME:EDT
DTSTART:20260308T070000
END:DAYLIGHT
BEGIN:STANDARD
TZOFFSETFROM:-0400
TZOFFSETTO:-0500
TZNAME:EST
DTSTART:20261101T060000
END:STANDARD
END:VTIMEZONE
BEGIN:VEVENT
DTSTART;TZID=America/New_York:20261001T150000
DTEND;TZID=America/New_York:20261001T180000
DTSTAMP:20260425T132700
CREATED:20251222T161304Z
LAST-MODIFIED:20251222T195138Z
UID:10002116-1790866800-1790877600@www.homegrowngreat.com
SUMMARY:Piqua Farmer's Market
DESCRIPTION:The Piqua Community Farmer’s Market is back and better than ever for 2026! Held in the heart of downtown Piqua\, this beloved tradition brings together local farmers\, artisans\, and residents to celebrate fresh\, locally sourced food and handcrafted goods. Whether you’re a longtime supporter or a first-time visitor\, there’s something for everyone to enjoy. \nWhen and Where\nThe Farmer’s Market takes place every Thursday from 3:00 PM to 6:00 PM\, running from May 28 through October 8. You’ll find us on High Street between Main and Market Streets\, surrounded by the charm of downtown Piqua’s historic buildings. \nWhat to Expect\nThis year’s market features: \n\nFresh Produce: Shop for seasonal fruits and vegetables grown by local farmers. From sweet strawberries in early summer to crisp apples in the fall\, the market offers an ever-changing selection of the freshest produce.\nArtisan Goods: Discover unique\, handmade items from talented artisans. You’ll find pottery\, jewelry\, candles\, and more—perfect for gifts or treating yourself.\nBaked Treats and Prepared Foods: Indulge in fresh-baked bread\, pastries\, and ready-to-eat meals made with love by local vendors.
URL:https://www.homegrowngreat.com/event/piqua-farmers-market-19/
LOCATION:Downtown Piqua\, 326 N Main St.\, Piqua\, OH\, 45356\, United States
CATEGORIES:Piqua,Seasonal
ATTACH;FMTTYPE=image/png:https://www.homegrowngreat.com/wp-content/uploads/2022/03/Piqua-Community-Farmers-Market4.png
GEO:40.1495535;-84.2400375
X-APPLE-STRUCTURED-LOCATION;VALUE=URI;X-ADDRESS=Downtown Piqua 326 N Main St. Piqua OH 45356 United States;X-APPLE-RADIUS=500;X-TITLE=326 N Main St.:geo:-84.2400375,40.1495535
END:VEVENT
BEGIN:VEVENT
DTSTART;TZID=America/New_York:20261003T130000
DTEND;TZID=America/New_York:20261003T190000
DTSTAMP:20260425T132700
CREATED:20260402T133010Z
LAST-MODIFIED:20260402T133010Z
UID:10002225-1791032400-1791054000@www.homegrowngreat.com
SUMMARY:Autumn Evenings on the Farm
DESCRIPTION:Johnston Farm & Indian Agency will be open select Saturdays in October to enjoy Autumn activities – wagon rides\, Johnston House tours & a hearth-cooked treat\, and more! Boat Ride 2:30 pm. \nCost: $10 per person\, members and Kids 5 & under FREE.
URL:https://www.homegrowngreat.com/event/autumn-evenings-on-the-farm/
LOCATION:Johnston Farm & Indian Agency\, 9845 North Hardin Rd.\, Piqua\, OH\, 45356\, United States
CATEGORIES:Entertainment,Heritage,Piqua
ATTACH;FMTTYPE=image/jpeg:https://www.homegrowngreat.com/wp-content/uploads/2026/04/YUNC0037-medium.jpg
GEO:40.1805329;-84.256978
X-APPLE-STRUCTURED-LOCATION;VALUE=URI;X-ADDRESS=Johnston Farm & Indian Agency 9845 North Hardin Rd. Piqua OH 45356 United States;X-APPLE-RADIUS=500;X-TITLE=9845 North Hardin Rd.:geo:-84.256978,40.1805329
END:VEVENT
BEGIN:VEVENT
DTSTART;TZID=America/New_York:20261004T110000
DTEND;TZID=America/New_York:20261004T180000
DTSTAMP:20260425T132700
CREATED:20260209T143401Z
LAST-MODIFIED:20260209T143401Z
UID:10002180-1791111600-1791136800@www.homegrowngreat.com
SUMMARY:Food Truck Rally at The Exchange
DESCRIPTION:October 4\, 2026\n11AM-6 PM\nLet’s eat!\nTry some amazing food trucks and hang in the yard\nFree axe throwing\nFree yard games
URL:https://www.homegrowngreat.com/event/food-truck-rally-at-the-exchange/
LOCATION:The Exchange\, 210 West High St\, Pleasant Hill\, OH\, 45359\, United States
CATEGORIES:Entertainment,Festivals
ATTACH;FMTTYPE=image/jpeg:https://www.homegrowngreat.com/wp-content/uploads/2026/02/taco-bus.jpg
GEO:40.0529821;-84.3482536
X-APPLE-STRUCTURED-LOCATION;VALUE=URI;X-ADDRESS=The Exchange 210 West High St Pleasant Hill OH 45359 United States;X-APPLE-RADIUS=500;X-TITLE=210 West High St:geo:-84.3482536,40.0529821
END:VEVENT
BEGIN:VEVENT
DTSTART;TZID=America/New_York:20261008T150000
DTEND;TZID=America/New_York:20261008T180000
DTSTAMP:20260425T132700
CREATED:20251222T161335Z
LAST-MODIFIED:20251222T195145Z
UID:10002117-1791471600-1791482400@www.homegrowngreat.com
SUMMARY:Piqua Farmer's Market
DESCRIPTION:The Piqua Community Farmer’s Market is back and better than ever for 2026! Held in the heart of downtown Piqua\, this beloved tradition brings together local farmers\, artisans\, and residents to celebrate fresh\, locally sourced food and handcrafted goods. Whether you’re a longtime supporter or a first-time visitor\, there’s something for everyone to enjoy. \nWhen and Where\nThe Farmer’s Market takes place every Thursday from 3:00 PM to 6:00 PM\, running from May 28 through October 8. You’ll find us on High Street between Main and Market Streets\, surrounded by the charm of downtown Piqua’s historic buildings. \nWhat to Expect\nThis year’s market features: \n\nFresh Produce: Shop for seasonal fruits and vegetables grown by local farmers. From sweet strawberries in early summer to crisp apples in the fall\, the market offers an ever-changing selection of the freshest produce.\nArtisan Goods: Discover unique\, handmade items from talented artisans. You’ll find pottery\, jewelry\, candles\, and more—perfect for gifts or treating yourself.\nBaked Treats and Prepared Foods: Indulge in fresh-baked bread\, pastries\, and ready-to-eat meals made with love by local vendors.
URL:https://www.homegrowngreat.com/event/piqua-farmers-market-20/
LOCATION:Downtown Piqua\, 326 N Main St.\, Piqua\, OH\, 45356\, United States
CATEGORIES:Piqua,Seasonal
ATTACH;FMTTYPE=image/png:https://www.homegrowngreat.com/wp-content/uploads/2022/03/Piqua-Community-Farmers-Market4.png
GEO:40.1495535;-84.2400375
X-APPLE-STRUCTURED-LOCATION;VALUE=URI;X-ADDRESS=Downtown Piqua 326 N Main St. Piqua OH 45356 United States;X-APPLE-RADIUS=500;X-TITLE=326 N Main St.:geo:-84.2400375,40.1495535
END:VEVENT
BEGIN:VEVENT
DTSTART;VALUE=DATE:20261009
DTEND;VALUE=DATE:20261011
DTSTAMP:20260425T132700
CREATED:20260121T194948Z
LAST-MODIFIED:20260121T194948Z
UID:10002156-1791504000-1791676799@www.homegrowngreat.com
SUMMARY:In Freedom’s Name: Stories of Service from the Johnston Cemetery
DESCRIPTION:October 9th and 10th.\n5:00 & 7:00 \nCost: $10 per person\, OHC & Friends FREE\nMaximum 30 per tour\nSet among the stones of the Johnston Cemetery\, In Freedom’s Name reflects on lives of service and the lasting meaning of freedom in America’s story.\nCall 937-773-2522 or email info@johnstonfarmohio.com \nLocation: Johnston Cemetery  9480 OH-66\, Piqua\, OH 45356
URL:https://www.homegrowngreat.com/event/stories-of-service-from-the-johnston-cemetery/
LOCATION:Johnston Farm & Indian Agency\, 9845 North Hardin Rd.\, Piqua\, OH\, 45356\, United States
CATEGORIES:America250,Heritage,Piqua
ATTACH;FMTTYPE=image/png:https://www.homegrowngreat.com/wp-content/uploads/2026/01/America-250-Cemetery-tour-image.png
GEO:40.1805329;-84.256978
X-APPLE-STRUCTURED-LOCATION;VALUE=URI;X-ADDRESS=Johnston Farm & Indian Agency 9845 North Hardin Rd. Piqua OH 45356 United States;X-APPLE-RADIUS=500;X-TITLE=9845 North Hardin Rd.:geo:-84.256978,40.1805329
END:VEVENT
BEGIN:VEVENT
DTSTART;VALUE=DATE:20261009
DTEND;VALUE=DATE:20261011
DTSTAMP:20260425T132700
CREATED:20260402T133424Z
LAST-MODIFIED:20260402T133424Z
UID:10002228-1791504000-1791676799@www.homegrowngreat.com
SUMMARY:Dining with the Dead – An Irish Farewell
DESCRIPTION:Join us at Johnston Farm & Indian Agency for a program rooted in Irish farewell traditions\, where food\, music\, and games honor those who came before us.\nCost: $25 public\, members $20\, Registration Required. \nTime: 1pm & 3pm
URL:https://www.homegrowngreat.com/event/dining-with-the-dead-an-irish-farewell/
LOCATION:Johnston Farm & Indian Agency\, 9845 North Hardin Rd.\, Piqua\, OH\, 45356\, United States
CATEGORIES:Entertainment,Heritage,Piqua
ATTACH;FMTTYPE=image/jpeg:https://www.homegrowngreat.com/wp-content/uploads/2026/04/Johnston-Farm8-medium.jpg
GEO:40.1805329;-84.256978
X-APPLE-STRUCTURED-LOCATION;VALUE=URI;X-ADDRESS=Johnston Farm & Indian Agency 9845 North Hardin Rd. Piqua OH 45356 United States;X-APPLE-RADIUS=500;X-TITLE=9845 North Hardin Rd.:geo:-84.256978,40.1805329
END:VEVENT
BEGIN:VEVENT
DTSTART;VALUE=DATE:20261010
DTEND;VALUE=DATE:20261011
DTSTAMP:20260425T132700
CREATED:20260112T144034Z
LAST-MODIFIED:20260112T144125Z
UID:10002135-1791590400-1791676799@www.homegrowngreat.com
SUMMARY:Founders Park Grand Opening
DESCRIPTION:Join us for a community celebration for the Grand Opening of Founders Park in West Milton.\nThe celebration will include trail walks to the founders’ cemetery\, engaging storytelling\, food trucks\, and a movie night under the stars featuring the movie Hocus Pocus! \nThis event is hosted by Project Revival of West Milton.
URL:https://www.homegrowngreat.com/event/founders-park-grand-opening/
LOCATION:Downtown West Milton\, 5 North Miami St.\, West Milton\, OH\, 45383\, United States
CATEGORIES:America250,Festivals,West Milton
ATTACH;FMTTYPE=image/png:https://www.homegrowngreat.com/wp-content/uploads/2026/01/Founders-Park.png
GEO:39.9625622;-84.3279977
X-APPLE-STRUCTURED-LOCATION;VALUE=URI;X-ADDRESS=Downtown West Milton 5 North Miami St. West Milton OH 45383 United States;X-APPLE-RADIUS=500;X-TITLE=5 North Miami St.:geo:-84.3279977,39.9625622
END:VEVENT
BEGIN:VEVENT
DTSTART;VALUE=DATE:20261010
DTEND;VALUE=DATE:20261012
DTSTAMP:20260425T132700
CREATED:20180605T192147Z
LAST-MODIFIED:20260108T134828Z
UID:10000542-1791590400-1791763199@www.homegrowngreat.com
SUMMARY:Fall Farm Fest
DESCRIPTION:Fall Farm Fest\nLost Creek Reserve & Knoop Agricultural Heritage Center\n2385 E. State Route 41\, Troy\nAmidst the tree-lined lanes and colorful foliage at Lost Creek Reserve\, we will host our biggest event of the year\, Fall Farm Fest. On October 11th and 12th the historic Knoop homestead at the Reserve will be transformed into a hub of activity. Over the two-day festival\, thousands of people will join in on the fun to celebrate Miami County’s agricultural heritage. \nGeneral admission is free but there are charges for pumpkins\, pony rides and corn maze/shooter. \nWe hope to see you at Lost Creek Reserve\, you won’t want to miss this event!
URL:https://www.homegrowngreat.com/event/fall-farm-fest/
LOCATION:Lost Creek Reserve\, 2385 OH-41\, Troy\, OH\, 45373\, United States
CATEGORIES:Entertainment,Festivals,Outdoors,Seasonal,Troy
ATTACH;FMTTYPE=image/jpeg:https://www.homegrowngreat.com/wp-content/uploads/2018/06/fall-farm-fest.jpeg
GEO:40.0589272;-84.2476605
X-APPLE-STRUCTURED-LOCATION;VALUE=URI;X-ADDRESS=Lost Creek Reserve 2385 OH-41 Troy OH 45373 United States;X-APPLE-RADIUS=500;X-TITLE=2385 OH-41:geo:-84.2476605,40.0589272
END:VEVENT
BEGIN:VEVENT
DTSTART;TZID=America/New_York:20261010T100000
DTEND;TZID=America/New_York:20261010T170000
DTSTAMP:20260425T132700
CREATED:20260105T141422Z
LAST-MODIFIED:20260106T144509Z
UID:10002125-1791626400-1791651600@www.homegrowngreat.com
SUMMARY:2nd Saturday Vendor Show
DESCRIPTION: Join us for our 2nd Saturday Vendor Events! —a monthly celebration of small businesses\, shopping\, and fun!\n10:00AM-5:00PM\n Explore 30+ vendors and discover unique finds while supporting local businesses.\n Where? Piqua Center Cost? FREE!\nMark your calendars\, and don’t miss it!
URL:https://www.homegrowngreat.com/event/2nd-saturday-vendor-show-5/
LOCATION:Piqua Center\, 987 E. Ash St\, Piqua\, OH\, 45356\, United States
CATEGORIES:Entertainment,Piqua
ATTACH;FMTTYPE=image/jpeg:https://www.homegrowngreat.com/wp-content/uploads/2025/02/Piqua-Center-Vendor-show-e1767712094546.jpg
END:VEVENT
BEGIN:VEVENT
DTSTART;TZID=America/New_York:20261010T130000
DTEND;TZID=America/New_York:20261010T190000
DTSTAMP:20260425T132700
CREATED:20260402T133103Z
LAST-MODIFIED:20260402T133103Z
UID:10002226-1791637200-1791658800@www.homegrowngreat.com
SUMMARY:Autumn Evenings on the Farm
DESCRIPTION:Johnston Farm & Indian Agency will be open select Saturdays in October to enjoy Autumn activities – wagon rides\, Johnston House tours & a hearth-cooked treat\, and more! Boat Ride 2:30 pm. \nCost: $10 per person\, members and Kids 5 & under FREE.
URL:https://www.homegrowngreat.com/event/autumn-evenings-on-the-farm-2/
LOCATION:Johnston Farm & Indian Agency\, 9845 North Hardin Rd.\, Piqua\, OH\, 45356\, United States
CATEGORIES:Entertainment,Heritage,Piqua
ATTACH;FMTTYPE=image/jpeg:https://www.homegrowngreat.com/wp-content/uploads/2026/04/YUNC0037-medium.jpg
GEO:40.1805329;-84.256978
X-APPLE-STRUCTURED-LOCATION;VALUE=URI;X-ADDRESS=Johnston Farm & Indian Agency 9845 North Hardin Rd. Piqua OH 45356 United States;X-APPLE-RADIUS=500;X-TITLE=9845 North Hardin Rd.:geo:-84.256978,40.1805329
END:VEVENT
BEGIN:VEVENT
DTSTART;TZID=America/New_York:20261017T100000
DTEND;TZID=America/New_York:20261018T170000
DTSTAMP:20260425T132700
CREATED:20240911T132404Z
LAST-MODIFIED:20260402T134258Z
UID:10000963-1792231200-1792342800@www.homegrowngreat.com
SUMMARY:Historic Market Faire at Johnston Farm
DESCRIPTION:Step into 18th Century Ohio to witness artists and craftsman demonstrating their trades. Authentic items for sale\, crafts for kids\, and food vendors on hand. Admission TBA
URL:https://www.homegrowngreat.com/event/fall-market-faire-at-johnston-farm/
LOCATION:Johnston Farm & Indian Agency\, 9845 North Hardin Rd.\, Piqua\, OH\, 45356\, United States
CATEGORIES:Entertainment,Festivals,Piqua
ATTACH;FMTTYPE=image/jpeg:https://www.homegrowngreat.com/wp-content/uploads/2018/06/Johnston-Farm-event-1.jpg
GEO:40.1805329;-84.256978
X-APPLE-STRUCTURED-LOCATION;VALUE=URI;X-ADDRESS=Johnston Farm & Indian Agency 9845 North Hardin Rd. Piqua OH 45356 United States;X-APPLE-RADIUS=500;X-TITLE=9845 North Hardin Rd.:geo:-84.256978,40.1805329
END:VEVENT
BEGIN:VEVENT
DTSTART;TZID=America/New_York:20261017T120000
DTEND;TZID=America/New_York:20261017T170000
DTSTAMP:20260425T132700
CREATED:20220329T190959Z
LAST-MODIFIED:20251222T162426Z
UID:10000716-1792238400-1792256400@www.homegrowngreat.com
SUMMARY:Piqua Harvest Fest
DESCRIPTION:Old-fashioned fall fun in downtown Piqua.\nWho’s ready for Harvest Days this year! This year features big games\, pumpkin bowling\, corn pit for the littles\, pet parade and costume contest\, face painting\, live music\, craft fair\, food trucks – and great specials and one-of-a-kind items from local retailers and restaurants! Hope to see you all there in October
URL:https://www.homegrowngreat.com/event/harvest-days/
LOCATION:Downtown Piqua\, 326 N Main St.\, Piqua\, OH\, 45356\, United States
CATEGORIES:Festivals,Outdoors,Piqua
ATTACH;FMTTYPE=image/png:https://www.homegrowngreat.com/wp-content/uploads/2019/03/Harvest-Days.png
GEO:40.1495535;-84.2400375
X-APPLE-STRUCTURED-LOCATION;VALUE=URI;X-ADDRESS=Downtown Piqua 326 N Main St. Piqua OH 45356 United States;X-APPLE-RADIUS=500;X-TITLE=326 N Main St.:geo:-84.2400375,40.1495535
END:VEVENT
BEGIN:VEVENT
DTSTART;TZID=America/New_York:20261024T130000
DTEND;TZID=America/New_York:20261024T190000
DTSTAMP:20260425T132700
CREATED:20260402T133141Z
LAST-MODIFIED:20260402T133141Z
UID:10002227-1792846800-1792868400@www.homegrowngreat.com
SUMMARY:Autumn Evenings on the Farm
DESCRIPTION:Johnston Farm & Indian Agency will be open select Saturdays in October to enjoy Autumn activities – wagon rides\, Johnston House tours & a hearth-cooked treat\, and more! Boat Ride 2:30 pm. \nCost: $10 per person\, members and Kids 5 & under FREE.
URL:https://www.homegrowngreat.com/event/autumn-evenings-on-the-farm-3/
LOCATION:Johnston Farm & Indian Agency\, 9845 North Hardin Rd.\, Piqua\, OH\, 45356\, United States
CATEGORIES:Entertainment,Heritage,Piqua
ATTACH;FMTTYPE=image/jpeg:https://www.homegrowngreat.com/wp-content/uploads/2026/04/YUNC0037-medium.jpg
GEO:40.1805329;-84.256978
X-APPLE-STRUCTURED-LOCATION;VALUE=URI;X-ADDRESS=Johnston Farm & Indian Agency 9845 North Hardin Rd. Piqua OH 45356 United States;X-APPLE-RADIUS=500;X-TITLE=9845 North Hardin Rd.:geo:-84.256978,40.1805329
END:VEVENT
END:VCALENDAR