BEGIN:VCALENDAR
VERSION:2.0
PRODID:-//Home Grown Great - ECPv6.7.0//NONSGML v1.0//EN
CALSCALE:GREGORIAN
METHOD:PUBLISH
X-ORIGINAL-URL:https://www.homegrowngreat.com
X-WR-CALDESC:Events for Home Grown Great
REFRESH-INTERVAL;VALUE=DURATION:PT1H
X-Robots-Tag:noindex
X-PUBLISHED-TTL:PT1H
BEGIN:VTIMEZONE
TZID:America/New_York
BEGIN:DAYLIGHT
TZOFFSETFROM:-0500
TZOFFSETTO:-0400
TZNAME:EDT
DTSTART:20260308T070000
END:DAYLIGHT
BEGIN:STANDARD
TZOFFSETFROM:-0400
TZOFFSETTO:-0500
TZNAME:EST
DTSTART:20261101T060000
END:STANDARD
END:VTIMEZONE
BEGIN:VEVENT
DTSTART;TZID=America/New_York:20260903T150000
DTEND;TZID=America/New_York:20260903T180000
DTSTAMP:20260425T102501
CREATED:20250124T185658Z
LAST-MODIFIED:20251222T195111Z
UID:10001378-1788447600-1788458400@www.homegrowngreat.com
SUMMARY:Piqua Farmer's Market
DESCRIPTION:The Piqua Community Farmer’s Market is back and better than ever for 2026! Held in the heart of downtown Piqua\, this beloved tradition brings together local farmers\, artisans\, and residents to celebrate fresh\, locally sourced food and handcrafted goods. Whether you’re a longtime supporter or a first-time visitor\, there’s something for everyone to enjoy. \nWhen and Where\nThe Farmer’s Market takes place every Thursday from 3:00 PM to 6:00 PM\, running from May 28 through October 8. You’ll find us on High Street between Main and Market Streets\, surrounded by the charm of downtown Piqua’s historic buildings. \nWhat to Expect\nThis year’s market features: \n\nFresh Produce: Shop for seasonal fruits and vegetables grown by local farmers. From sweet strawberries in early summer to crisp apples in the fall\, the market offers an ever-changing selection of the freshest produce.\nArtisan Goods: Discover unique\, handmade items from talented artisans. You’ll find pottery\, jewelry\, candles\, and more—perfect for gifts or treating yourself.\nBaked Treats and Prepared Foods: Indulge in fresh-baked bread\, pastries\, and ready-to-eat meals made with love by local vendors.
URL:https://www.homegrowngreat.com/event/piqua-farmers-market-15/
LOCATION:Downtown Piqua\, 326 N Main St.\, Piqua\, OH\, 45356\, United States
CATEGORIES:Piqua,Seasonal
ATTACH;FMTTYPE=image/png:https://www.homegrowngreat.com/wp-content/uploads/2022/03/Piqua-Community-Farmers-Market4.png
GEO:40.1495535;-84.2400375
X-APPLE-STRUCTURED-LOCATION;VALUE=URI;X-ADDRESS=Downtown Piqua 326 N Main St. Piqua OH 45356 United States;X-APPLE-RADIUS=500;X-TITLE=326 N Main St.:geo:-84.2400375,40.1495535
END:VEVENT
BEGIN:VEVENT
DTSTART;VALUE=DATE:20260905
DTEND;VALUE=DATE:20260908
DTSTAMP:20260425T102501
CREATED:20180605T192100Z
LAST-MODIFIED:20251118T151558Z
UID:10000532-1788566400-1788825599@www.homegrowngreat.com
SUMMARY:Fort Rowdy Gathering
DESCRIPTION:The depiction of a bustling\, small trading village set in the late 1700s and early 1800s is what you step into when you enter the Covington Community Park. \nJoin us in the peaceful setting of yesteryear. \nFalling leaves and the smell of open fires lure you to our “Gathering” and all the homemade foods\, arts and crafts will have you wanting to linger there for the weekend festivities. \nAuthentic demonstrations\, contests\, games\, and entertainment throughout the two-day “Gathering” add up to fun and enjoyment for the whole family. \nOur 208′ long portable footbridge will carry you across the Stillwater River to the Mountainman Encampments and a true feeling of life of a by-gone era. \n 
URL:https://www.homegrowngreat.com/event/fort-rowdy-gathering/
LOCATION:Covington Community Park\, 140 W Broadway St.\, Covington\, OH\, 45318\, United States
CATEGORIES:Covington,Entertainment,Festivals,Heritage,Outdoors
ATTACH;FMTTYPE=image/jpeg:https://www.homegrowngreat.com/wp-content/uploads/2018/06/567x305-FtRowdyGathering1.jpg
GEO:40.1213495;-84.3576759
X-APPLE-STRUCTURED-LOCATION;VALUE=URI;X-ADDRESS=Covington Community Park 140 W Broadway St. Covington OH 45318 United States;X-APPLE-RADIUS=500;X-TITLE=140 W Broadway St.:geo:-84.3576759,40.1213495
END:VEVENT
BEGIN:VEVENT
DTSTART;TZID=America/New_York:20260905T170000
DTEND;TZID=America/New_York:20260905T230000
DTSTAMP:20260425T102501
CREATED:20180605T192102Z
LAST-MODIFIED:20251218T163117Z
UID:10000533-1788627600-1788649200@www.homegrowngreat.com
SUMMARY:Tippapalooza
DESCRIPTION:Tippapalooza is an annual music festival celebrating local music and benefiting charities in and around Tipp City\, Ohio. Held in downtown Tipp City. \nTime: Gate opens at 5 p.m.\, the music starts at 5:30 p.m. \nAdmission: $10 in advance/$15 at door.\nPresale tickets: TICKETS HERE \nThis is an all ages show!
URL:https://www.homegrowngreat.com/event/tippapalooza/
LOCATION:Downtown Tipp City\, 6 South 3rd St.\, Tipp City\, OH\, 45371\, United States
CATEGORIES:Entertainment,Festivals,Tipp City
ATTACH;FMTTYPE=image/jpeg:https://www.homegrowngreat.com/wp-content/uploads/2018/06/567x305-Tippapalooza.jpg
GEO:39.9610122;-84.1710803
X-APPLE-STRUCTURED-LOCATION;VALUE=URI;X-ADDRESS=Downtown Tipp City 6 South 3rd St. Tipp City OH 45371 United States;X-APPLE-RADIUS=500;X-TITLE=6 South 3rd St.:geo:-84.1710803,39.9610122
END:VEVENT
BEGIN:VEVENT
DTSTART;TZID=America/New_York:20260910T150000
DTEND;TZID=America/New_York:20260910T180000
DTSTAMP:20260425T102501
CREATED:20250124T185712Z
LAST-MODIFIED:20251222T195118Z
UID:10001379-1789052400-1789063200@www.homegrowngreat.com
SUMMARY:Piqua Farmer's Market
DESCRIPTION:The Piqua Community Farmer’s Market is back and better than ever for 2026! Held in the heart of downtown Piqua\, this beloved tradition brings together local farmers\, artisans\, and residents to celebrate fresh\, locally sourced food and handcrafted goods. Whether you’re a longtime supporter or a first-time visitor\, there’s something for everyone to enjoy. \nWhen and Where\nThe Farmer’s Market takes place every Thursday from 3:00 PM to 6:00 PM\, running from May 28 through October 8. You’ll find us on High Street between Main and Market Streets\, surrounded by the charm of downtown Piqua’s historic buildings. \nWhat to Expect\nThis year’s market features: \n\nFresh Produce: Shop for seasonal fruits and vegetables grown by local farmers. From sweet strawberries in early summer to crisp apples in the fall\, the market offers an ever-changing selection of the freshest produce.\nArtisan Goods: Discover unique\, handmade items from talented artisans. You’ll find pottery\, jewelry\, candles\, and more—perfect for gifts or treating yourself.\nBaked Treats and Prepared Foods: Indulge in fresh-baked bread\, pastries\, and ready-to-eat meals made with love by local vendors.
URL:https://www.homegrowngreat.com/event/piqua-farmers-market-16/
LOCATION:Downtown Piqua\, 326 N Main St.\, Piqua\, OH\, 45356\, United States
CATEGORIES:Piqua,Seasonal
ATTACH;FMTTYPE=image/png:https://www.homegrowngreat.com/wp-content/uploads/2022/03/Piqua-Community-Farmers-Market4.png
GEO:40.1495535;-84.2400375
X-APPLE-STRUCTURED-LOCATION;VALUE=URI;X-ADDRESS=Downtown Piqua 326 N Main St. Piqua OH 45356 United States;X-APPLE-RADIUS=500;X-TITLE=326 N Main St.:geo:-84.2400375,40.1495535
END:VEVENT
BEGIN:VEVENT
DTSTART;VALUE=DATE:20260912
DTEND;VALUE=DATE:20260913
DTSTAMP:20260425T102501
CREATED:20181010T123816Z
LAST-MODIFIED:20260331T144839Z
UID:10000492-1789171200-1789257599@www.homegrowngreat.com
SUMMARY:Troy\, Ohio PorchFest
DESCRIPTION:So what is PorchFest? Imagine about 40+ bands in a hodgepodge of styles and genres playing throughout the Southwest Historic district on porches\, in side-yards\, lots and patios.\nPick up a walkable map of the event and choose your favorite bands. Tour one concert after the other! There will be food trucks and artisan tents. And bring some bills to put in your favorite band’s cookie jars!
URL:https://www.homegrowngreat.com/event/troy-ohio-porchfest/
LOCATION:Troy-Hayner Cultural Center\, 301 West Main Street\, Troy\, OH\, 45373\, United States
CATEGORIES:Entertainment,Live Music,Troy
ATTACH;FMTTYPE=image/jpeg:https://www.homegrowngreat.com/wp-content/uploads/2018/10/Rhythm-and-Roots-1.jpg
GEO:40.0413541;-84.2063767
X-APPLE-STRUCTURED-LOCATION;VALUE=URI;X-ADDRESS=Troy-Hayner Cultural Center 301 West Main Street Troy OH 45373 United States;X-APPLE-RADIUS=500;X-TITLE=301 West Main Street:geo:-84.2063767,40.0413541
END:VEVENT
BEGIN:VEVENT
DTSTART;TZID=America/New_York:20260912T110000
DTEND;TZID=America/New_York:20260912T140000
DTSTAMP:20260425T102502
CREATED:20260402T131719Z
LAST-MODIFIED:20260402T131719Z
UID:10002223-1789210800-1789221600@www.homegrowngreat.com
SUMMARY:Johnston Farm Architectural and Decorative Art Tour
DESCRIPTION:Explore the decorative arts\, finishes\, and architectural details of the Johnston House during our Architectural Tours\, with special attention to the home’s 2020 restoration and how it returned the house to its early 19th-century appearance.\nTwo tours at 11:00 & 12:30 limited to 15 per tour. Cost $10 for the public. Friends and OHC members free. \nCall 937.773.2522 or email info@johnstonfarmohio.com to register! \n 
URL:https://www.homegrowngreat.com/event/johnston-farm-architectural-and-decorative-art-tour-2/
LOCATION:Johnston Farm & Indian Agency\, 9845 North Hardin Rd.\, Piqua\, OH\, 45356\, United States
CATEGORIES:Entertainment,Heritage,Piqua
ATTACH;FMTTYPE=image/jpeg:https://www.homegrowngreat.com/wp-content/uploads/2019/06/Johnston-Farm9.jpg
GEO:40.1805329;-84.256978
X-APPLE-STRUCTURED-LOCATION;VALUE=URI;X-ADDRESS=Johnston Farm & Indian Agency 9845 North Hardin Rd. Piqua OH 45356 United States;X-APPLE-RADIUS=500;X-TITLE=9845 North Hardin Rd.:geo:-84.256978,40.1805329
END:VEVENT
BEGIN:VEVENT
DTSTART;TZID=America/New_York:20260912T180000
DTEND;TZID=America/New_York:20260912T200000
DTSTAMP:20260425T102502
CREATED:20260318T183652Z
LAST-MODIFIED:20260318T183652Z
UID:10002202-1789236000-1789243200@www.homegrowngreat.com
SUMMARY:Tipp City Library Goes to the Movies: The Avengers
DESCRIPTION:Saturday\, September 12th\, 2-4 pm\, The Avengers (2012) – Join the Tipp City Public Library as we celebrate America250 by participating in Ohio Goes to the Movies – a statewide celebration of movies showcasing Ohio’s actors\, directors\, writers\, composers\, locations\, and topics\, shown in cities and towns across the state. \n\n\nTipp City Public Library will be showing the film The Avengers (2012). The Avengers is about Earth’s mightiest heroes who must come together and learn to fight as a team if they are going to stop the mischievous Loki and his alien army from enslaving humanity. Popcorn and water will be available for patrons during the movie. \n\n\nOhio Connection: This film was made in Ohio\, as well as Directed by two Ohioans (The Russo Brothers)  \n\n\nThis program is funded by a grant from the Miami County Visitor and Convention Bureau.
URL:https://www.homegrowngreat.com/event/tipp-city-library-goes-to-the-movies-avengers/
LOCATION:Tipp City Public LIbrary\, 11 East Main Street\, Tipp City\, 45371\, United States
CATEGORIES:America250,Entertainment,Tipp City
ATTACH;FMTTYPE=image/png:https://www.homegrowngreat.com/wp-content/uploads/2026/01/Tipp-City-Movies.png
END:VEVENT
BEGIN:VEVENT
DTSTART;TZID=America/New_York:20260917T150000
DTEND;TZID=America/New_York:20260917T180000
DTSTAMP:20260425T102502
CREATED:20250124T185727Z
LAST-MODIFIED:20251222T195125Z
UID:10001380-1789657200-1789668000@www.homegrowngreat.com
SUMMARY:Piqua Farmer's Market
DESCRIPTION:The Piqua Community Farmer’s Market is back and better than ever for 2026! Held in the heart of downtown Piqua\, this beloved tradition brings together local farmers\, artisans\, and residents to celebrate fresh\, locally sourced food and handcrafted goods. Whether you’re a longtime supporter or a first-time visitor\, there’s something for everyone to enjoy. \nWhen and Where\nThe Farmer’s Market takes place every Thursday from 3:00 PM to 6:00 PM\, running from May 28 through October 8. You’ll find us on High Street between Main and Market Streets\, surrounded by the charm of downtown Piqua’s historic buildings. \nWhat to Expect\nThis year’s market features: \n\nFresh Produce: Shop for seasonal fruits and vegetables grown by local farmers. From sweet strawberries in early summer to crisp apples in the fall\, the market offers an ever-changing selection of the freshest produce.\nArtisan Goods: Discover unique\, handmade items from talented artisans. You’ll find pottery\, jewelry\, candles\, and more—perfect for gifts or treating yourself.\nBaked Treats and Prepared Foods: Indulge in fresh-baked bread\, pastries\, and ready-to-eat meals made with love by local vendors.
URL:https://www.homegrowngreat.com/event/piqua-farmers-market-17/
LOCATION:Downtown Piqua\, 326 N Main St.\, Piqua\, OH\, 45356\, United States
CATEGORIES:Piqua,Seasonal
ATTACH;FMTTYPE=image/png:https://www.homegrowngreat.com/wp-content/uploads/2022/03/Piqua-Community-Farmers-Market4.png
GEO:40.1495535;-84.2400375
X-APPLE-STRUCTURED-LOCATION;VALUE=URI;X-ADDRESS=Downtown Piqua 326 N Main St. Piqua OH 45356 United States;X-APPLE-RADIUS=500;X-TITLE=326 N Main St.:geo:-84.2400375,40.1495535
END:VEVENT
BEGIN:VEVENT
DTSTART;VALUE=DATE:20260919
DTEND;VALUE=DATE:20260920
DTSTAMP:20260425T102502
CREATED:20180605T192056Z
LAST-MODIFIED:20260109T170144Z
UID:10000528-1789776000-1789862399@www.homegrowngreat.com
SUMMARY:Rock Piqua! Food Truck & Music Fest
DESCRIPTION:FREE concert series  |  September 19\, 2026  |  Lock 9 Pavilion \nAmerica’s 250th anniversary\, known as America250\, commemorates the signing of the Declaration of Independence on July 4\, 1776\, marking 250 years of U.S. independence. Rock Piqua will be turning back time by celebrating music throughout the decades!
URL:https://www.homegrowngreat.com/event/rock-piqua-concert-series-3/
LOCATION:Lock 9 Park – Trevino Performance Pavilion\, 125 East Water Street\, Piqua\, 45356\, United States
CATEGORIES:America250,Entertainment,Live Music,Piqua
ATTACH;FMTTYPE=image/jpeg:https://www.homegrowngreat.com/wp-content/uploads/2018/06/567x305-RockPiquaLogo-1.jpg
END:VEVENT
BEGIN:VEVENT
DTSTART;TZID=America/New_York:20260924T150000
DTEND;TZID=America/New_York:20260924T180000
DTSTAMP:20260425T102502
CREATED:20250124T185746Z
LAST-MODIFIED:20251222T195132Z
UID:10001381-1790262000-1790272800@www.homegrowngreat.com
SUMMARY:Piqua Farmer's Market
DESCRIPTION:The Piqua Community Farmer’s Market is back and better than ever for 2026! Held in the heart of downtown Piqua\, this beloved tradition brings together local farmers\, artisans\, and residents to celebrate fresh\, locally sourced food and handcrafted goods. Whether you’re a longtime supporter or a first-time visitor\, there’s something for everyone to enjoy. \nWhen and Where\nThe Farmer’s Market takes place every Thursday from 3:00 PM to 6:00 PM\, running from May 28 through October 8. You’ll find us on High Street between Main and Market Streets\, surrounded by the charm of downtown Piqua’s historic buildings. \nWhat to Expect\nThis year’s market features: \n\nFresh Produce: Shop for seasonal fruits and vegetables grown by local farmers. From sweet strawberries in early summer to crisp apples in the fall\, the market offers an ever-changing selection of the freshest produce.\nArtisan Goods: Discover unique\, handmade items from talented artisans. You’ll find pottery\, jewelry\, candles\, and more—perfect for gifts or treating yourself.\nBaked Treats and Prepared Foods: Indulge in fresh-baked bread\, pastries\, and ready-to-eat meals made with love by local vendors.
URL:https://www.homegrowngreat.com/event/piqua-farmers-market-18/
LOCATION:Downtown Piqua\, 326 N Main St.\, Piqua\, OH\, 45356\, United States
CATEGORIES:Piqua,Seasonal
ATTACH;FMTTYPE=image/png:https://www.homegrowngreat.com/wp-content/uploads/2022/03/Piqua-Community-Farmers-Market4.png
GEO:40.1495535;-84.2400375
X-APPLE-STRUCTURED-LOCATION;VALUE=URI;X-ADDRESS=Downtown Piqua 326 N Main St. Piqua OH 45356 United States;X-APPLE-RADIUS=500;X-TITLE=326 N Main St.:geo:-84.2400375,40.1495535
END:VEVENT
BEGIN:VEVENT
DTSTART;TZID=America/New_York:20260925T150000
DTEND;TZID=America/New_York:20260925T190000
DTSTAMP:20260425T102502
CREATED:20220329T183537Z
LAST-MODIFIED:20251222T162228Z
UID:10000714-1790348400-1790362800@www.homegrowngreat.com
SUMMARY:Downtown Piqua Chocolate Walk
DESCRIPTION:Spend a delightful evening visiting over 20 downtown Piqua businesses to pick up a variety of chocolate treats. This is a ticketed event. \nVisit www.mainstreetpiqua.com for more information.
URL:https://www.homegrowngreat.com/event/chocolate-walk/
LOCATION:Downtown Piqua\, 326 N Main St.\, Piqua\, OH\, 45356\, United States
CATEGORIES:Entertainment,Outdoors,Piqua
ATTACH;FMTTYPE=image/png:https://www.homegrowngreat.com/wp-content/uploads/2019/03/Chocolate-Walk-Piqua.png
GEO:40.1495535;-84.2400375
X-APPLE-STRUCTURED-LOCATION;VALUE=URI;X-ADDRESS=Downtown Piqua 326 N Main St. Piqua OH 45356 United States;X-APPLE-RADIUS=500;X-TITLE=326 N Main St.:geo:-84.2400375,40.1495535
END:VEVENT
BEGIN:VEVENT
DTSTART;TZID=America/New_York:20260925T160000
DTEND;TZID=America/New_York:20260925T220000
DTSTAMP:20260425T102502
CREATED:20240729T184901Z
LAST-MODIFIED:20251218T163318Z
UID:10000943-1790352000-1790373600@www.homegrowngreat.com
SUMMARY:Mum Festival Cruise In
DESCRIPTION:What: The 32nd Annual Antique and Show Car Cruise-In.\nWhen: Friday\, September 25th from 4pm-10pm\nWhy you should go: This is one of the biggest car shows in the area and the largest festival car show in Ohio.\nWhat will you see: Hundreds of classic cars\, muscle cars\, and sportsters from every era of the automobile.  Prepare to be impressed\, and come hungry as the downtown venue will feature food trucks\, sidewalk vendors as well as sit down eating within Tipp City’s famed restaurants. \n\n 
URL:https://www.homegrowngreat.com/event/mum-festival-cruise-in/
LOCATION:Downtown Tipp City\, 6 South 3rd St.\, Tipp City\, OH\, 45371\, United States
CATEGORIES:Festivals,Tipp City
ATTACH;FMTTYPE=image/jpeg:https://www.homegrowngreat.com/wp-content/uploads/2024/07/Cruise-In-Tipp.jpg
GEO:39.9610122;-84.1710803
X-APPLE-STRUCTURED-LOCATION;VALUE=URI;X-ADDRESS=Downtown Tipp City 6 South 3rd St. Tipp City OH 45371 United States;X-APPLE-RADIUS=500;X-TITLE=6 South 3rd St.:geo:-84.1710803,39.9610122
END:VEVENT
BEGIN:VEVENT
DTSTART;VALUE=DATE:20260926
DTEND;VALUE=DATE:20260928
DTSTAMP:20260425T102502
CREATED:20180625T135146Z
LAST-MODIFIED:20260421T202422Z
UID:10000553-1790380800-1790553599@www.homegrowngreat.com
SUMMARY:Tipp City Mum Fest
DESCRIPTION:The Tipp City Mum Festival is full of activities\, vendors\, entertainment\, arts & crafts\, great food and of course\, MUMS! \nThe Mum Festival Antique and Show Car Cruise-In packs the historic downtown area with hundreds of quality and unique vehicles for the largest festival car show in the state.\nOur Saturday morning parade still draws spectators near and far with bands\, floats\, clowns and entertainment. That’s not all – for two days the City Park turns into the festival grounds with something for everyone!
URL:https://www.homegrowngreat.com/event/tipp-city-mum-fest/
LOCATION:Tipp City Community Park\, 225 Parkwood Drive\, Tipp City\, OH\, 45371\, United States
CATEGORIES:America250,Entertainment,Festivals,Tipp City
ATTACH;FMTTYPE=image/jpeg:https://www.homegrowngreat.com/wp-content/uploads/2018/06/7007200.jpg
GEO:39.9688206;-84.1681629
X-APPLE-STRUCTURED-LOCATION;VALUE=URI;X-ADDRESS=Tipp City Community Park 225 Parkwood Drive Tipp City OH 45371 United States;X-APPLE-RADIUS=500;X-TITLE=225 Parkwood Drive:geo:-84.1681629,39.9688206
END:VEVENT
BEGIN:VEVENT
DTSTART;VALUE=DATE:20260926
DTEND;VALUE=DATE:20260928
DTSTAMP:20260425T102502
CREATED:20260402T131937Z
LAST-MODIFIED:20260402T131937Z
UID:10002224-1790380800-1790553599@www.homegrowngreat.com
SUMMARY:Under the Spinner’s Moon
DESCRIPTION:Learn how fiber was worked to be turned into fabrics\, knits\, and more in times gone by at Johnston Farm & Indian Agency \nBoat rides 12:30 & 2:30 pm. Cost: $10 public\, members FREE. \nSaturday 11am-5pm\nSunday 11am-4pm
URL:https://www.homegrowngreat.com/event/under-the-spinners-moon/
LOCATION:Johnston Farm & Indian Agency\, 9845 North Hardin Rd.\, Piqua\, OH\, 45356\, United States
CATEGORIES:Entertainment,Heritage,Piqua
ATTACH;FMTTYPE=image/jpeg:https://www.homegrowngreat.com/wp-content/uploads/2026/04/YUNC0037-medium.jpg
GEO:40.1805329;-84.256978
X-APPLE-STRUCTURED-LOCATION;VALUE=URI;X-ADDRESS=Johnston Farm & Indian Agency 9845 North Hardin Rd. Piqua OH 45356 United States;X-APPLE-RADIUS=500;X-TITLE=9845 North Hardin Rd.:geo:-84.256978,40.1805329
END:VEVENT
END:VCALENDAR