BEGIN:VCALENDAR
VERSION:2.0
PRODID:-//Home Grown Great - ECPv6.7.0//NONSGML v1.0//EN
CALSCALE:GREGORIAN
METHOD:PUBLISH
X-ORIGINAL-URL:https://www.homegrowngreat.com
X-WR-CALDESC:Events for Home Grown Great
REFRESH-INTERVAL;VALUE=DURATION:PT1H
X-Robots-Tag:noindex
X-PUBLISHED-TTL:PT1H
BEGIN:VTIMEZONE
TZID:America/New_York
BEGIN:DAYLIGHT
TZOFFSETFROM:-0500
TZOFFSETTO:-0400
TZNAME:EDT
DTSTART:20260308T070000
END:DAYLIGHT
BEGIN:STANDARD
TZOFFSETFROM:-0400
TZOFFSETTO:-0500
TZNAME:EST
DTSTART:20261101T060000
END:STANDARD
END:VTIMEZONE
BEGIN:VEVENT
DTSTART;TZID=America/New_York:20260101T100000
DTEND;TZID=America/New_York:20260101T120000
DTSTAMP:20260423T104713
CREATED:20181005T134406Z
LAST-MODIFIED:20251028T134200Z
UID:10000567-1767261600-1767268800@www.homegrowngreat.com
SUMMARY:World Race for Hope 5K
DESCRIPTION:Join runners\, walkers and abolitionists at the annual World Race for Hope 5k in Troy\, Ohio on New Year’s Day. Free To Run Foundation is a nonprofit dedicated to raising awareness of human trafficking and increasing advocacy for social justice. \nOur New Year’s Day event kicks of National Slavery Prevention and Human Trafficking Awareness Month. By participating\, you will help support Free To Run’s education and advocacy programs and support Free To Run’s Dayton-area charity partners\, Oasis House and Abolition Ohio. \nThis event is FREE. Donations received will support Free To Run’s awareness and education programs\, as well as providing support to our charity partners in the Dayton area and around the world. You will have the opportunity to make a donation or create a fundraising page during registration. \nRegistration: https://runsignup.com/Race/OH/Troy/WorldRaceforHopeTroy \n  \n 
URL:https://www.homegrowngreat.com/event/world-race-for-hope-5k/
LOCATION:Hobart Arena\, 255 Adams Street\, Troy\, OH\, 45373\, United States
CATEGORIES:Outdoors,Troy
ATTACH;FMTTYPE=image/jpeg:https://www.homegrowngreat.com/wp-content/uploads/2018/10/World-Race-For-Hope1-e1540922100866.jpg
GEO:40.0458748;-84.2049873
X-APPLE-STRUCTURED-LOCATION;VALUE=URI;X-ADDRESS=Hobart Arena 255 Adams Street Troy OH 45373 United States;X-APPLE-RADIUS=500;X-TITLE=255 Adams Street:geo:-84.2049873,40.0458748
END:VEVENT
BEGIN:VEVENT
DTSTART;TZID=America/New_York:20260102T190000
DTEND;TZID=America/New_York:20260102T190000
DTSTAMP:20260423T104713
CREATED:20210913T132554Z
LAST-MODIFIED:20250724T153304Z
UID:10000667-1767380400-1767380400@www.homegrowngreat.com
SUMMARY:Film Series at Troy-Hayner: Paddington
DESCRIPTION:Friday Night Movies at the Hayner Center feature classic films with an informational introduction\, café style seating\, popcorn\, and soda. All movies are free and open to the public.
URL:https://www.homegrowngreat.com/event/film-series-at-troy-hayner-paddington/
LOCATION:Troy-Hayner Cultural Center\, 301 West Main Street\, Troy\, OH\, 45373\, United States
CATEGORIES:Entertainment,Troy
ATTACH;FMTTYPE=image/jpeg:https://www.homegrowngreat.com/wp-content/uploads/2021/09/paddington-fb-01_orig.jpg
GEO:40.0413541;-84.2063767
X-APPLE-STRUCTURED-LOCATION;VALUE=URI;X-ADDRESS=Troy-Hayner Cultural Center 301 West Main Street Troy OH 45373 United States;X-APPLE-RADIUS=500;X-TITLE=301 West Main Street:geo:-84.2063767,40.0413541
END:VEVENT
BEGIN:VEVENT
DTSTART;TZID=America/New_York:20260109T190000
DTEND;TZID=America/New_York:20260109T220000
DTSTAMP:20260423T104713
CREATED:20250929T142119Z
LAST-MODIFIED:20250929T142119Z
UID:10001531-1767985200-1767996000@www.homegrowngreat.com
SUMMARY:Thunderstruck: America’s AC/DC Tribute & Sabbath: The Complete Black Sabbath Experience at Hobart Arena
DESCRIPTION:Thunderstruck: America’s AC/DC Tribute & Sabbath: The Complete Black Sabbath Experience\nThunderstruck expertly recreates the AC/DC live concert experience just the way fans remember it to bring the power of a genuine AC/DC show back to the stage.  Sabbath will perform Black Sabbath’s greatest hits from the Ozzy Osbourne and Ronnie James Dio era\, from iconic clothes to note-to-note precision.
URL:https://www.homegrowngreat.com/event/thunderstruck-ac-dc-tribute-sabbath-black-sabbath-experience/
LOCATION:Hobart Arena\, 255 Adams Street\, Troy\, OH\, 45373\, United States
CATEGORIES:Entertainment,Live Music,Troy
GEO:40.0458748;-84.2049873
X-APPLE-STRUCTURED-LOCATION;VALUE=URI;X-ADDRESS=Hobart Arena 255 Adams Street Troy OH 45373 United States;X-APPLE-RADIUS=500;X-TITLE=255 Adams Street:geo:-84.2049873,40.0458748
END:VEVENT
BEGIN:VEVENT
DTSTART;TZID=America/New_York:20260110T100000
DTEND;TZID=America/New_York:20260110T170000
DTSTAMP:20260423T104713
CREATED:20250226T173044Z
LAST-MODIFIED:20260106T144252Z
UID:10001398-1768039200-1768064400@www.homegrowngreat.com
SUMMARY:2nd Saturday Vendor Show
DESCRIPTION: Join us for our 2nd Saturday Vendor Events! —a monthly celebration of small businesses\, shopping\, and fun!\n10:00AM-5:00PM\n Explore 30+ vendors and discover unique finds while supporting local businesses.\n Where? Piqua Center Cost? FREE!\nMark your calendars\, and don’t miss it!
URL:https://www.homegrowngreat.com/event/2nd-saturday-vendor-show/
LOCATION:Piqua Center\, 987 E. Ash St\, Piqua\, OH\, 45356\, United States
CATEGORIES:Entertainment,Piqua
ATTACH;FMTTYPE=image/jpeg:https://www.homegrowngreat.com/wp-content/uploads/2025/02/Piqua-Center-Vendor-show-e1767712094546.jpg
END:VEVENT
BEGIN:VEVENT
DTSTART;TZID=America/New_York:20260113T180000
DTEND;TZID=America/New_York:20260113T200000
DTSTAMP:20260423T104713
CREATED:20260106T150025Z
LAST-MODIFIED:20260106T150025Z
UID:10002128-1768327200-1768334400@www.homegrowngreat.com
SUMMARY:Trivia Night at Long Shots - Bingeworthy TV
DESCRIPTION: Bingeworthy TV Show Trivia Night!\nFrom The Office to Game of Thrones\, to Stranger Things & Greys Anatomy… & SO MUCH MORE- this trivia night is for the ultimate binge-watchers!\nTest your knowledge of the shows you couldn’t stop watching\, quote your favorite lines\, & compete for prizes!\n•Free to play!•Prizes for the winner of each round\nSee you there! 
URL:https://www.homegrowngreat.com/event/trivia-night-at-long-shots-bingeworthy-tv/
LOCATION:Long Shots Driving Range\, 2315 South County Rd 25A\, Troy\, OH\, 45373\, United States
CATEGORIES:Entertainment,Troy
GEO:40.0061274;-84.2000866
X-APPLE-STRUCTURED-LOCATION;VALUE=URI;X-ADDRESS=Long Shots Driving Range 2315 South County Rd 25A Troy OH 45373 United States;X-APPLE-RADIUS=500;X-TITLE=2315 South County Rd 25A:geo:-84.2000866,40.0061274
END:VEVENT
BEGIN:VEVENT
DTSTART;TZID=America/New_York:20260116T193000
DTEND;TZID=America/New_York:20260116T193000
DTSTAMP:20260423T104713
CREATED:20221229T150911Z
LAST-MODIFIED:20251223T155901Z
UID:10000810-1768591800-1768591800@www.homegrowngreat.com
SUMMARY:Mountain Dulcimer Society of Dayton concert with Mandy Tyner
DESCRIPTION:Mountain Dulcimer Society of Dayton teams up with the Hayner for Dulcimer Concert. \n\n\n\nWarm up a winter evening with the beautiful\, sweet\, and traditional sound of the mountain dulcimer\, performed by the Mountain Dulcimer Society of Dayton. The ensemble shares folk tunes\, Celtic melodies\, gospel songs\, and contemporary favorites — performed both solo and as a full group.\n Free & open to everyone — no reservations required\n Troy-Hayner Cultural Center\, 301 W. Main Street\, Troy OH Parking on Main Street + library lot\nThe group will also host a dulcimer workshop with Mandy Tyner on Saturday\, January 17.Workshop info: www.DaytonDulcimers.org\nThis concert and all Hayner music programming are made possible through the generosity of the citizens of Troy and the Friends of Hayner.
URL:https://www.homegrowngreat.com/event/mountain-dulcimer-society/
LOCATION:Troy-Hayner Cultural Center\, 301 West Main Street\, Troy\, OH\, 45373\, United States
CATEGORIES:Entertainment,Live Music,Troy
GEO:40.0413541;-84.2063767
X-APPLE-STRUCTURED-LOCATION;VALUE=URI;X-ADDRESS=Troy-Hayner Cultural Center 301 West Main Street Troy OH 45373 United States;X-APPLE-RADIUS=500;X-TITLE=301 West Main Street:geo:-84.2063767,40.0413541
END:VEVENT
BEGIN:VEVENT
DTSTART;TZID=America/New_York:20260117T190000
DTEND;TZID=America/New_York:20260117T210000
DTSTAMP:20260423T104713
CREATED:20250825T142933Z
LAST-MODIFIED:20250924T125646Z
UID:10001505-1768676400-1768683600@www.homegrowngreat.com
SUMMARY:The Gambler Returns: The Ultimate Kenny Rogers Tribute at APAC
DESCRIPTION:The Gambler Returns: Ultimate Kenny Rogers Tribute\, Saturday\, January 17\, 2026\, 7:00pm \nExperience the music of GRAMMY® Award-winning superstar Kenny Rogers with a musical experience that spans over six decades of hit songs! Join us as award-winning\, country-recording-artist Alan Turner recreates the magic of a night with Kenny Rogers in a performance aptly entitled “The Gambler Returns.” This full-band production will take you on a musical journey through the career of an American icon and legend who sold over 120 million albums worldwide and racked up over 24 No.1 hits\, including “Lady\,” “Islands in the Stream\,” “Lucille\,” “She Believes In Me\,” and so many more. \n“We’ve Got Tonight” to ring in the New Year with a sparkling tribute to The Gambler. \nWhile you’re in Miami County\, check out our Ultimate Guide to Restaurants and find a great place for dinner the night of the concert!
URL:https://www.homegrowngreat.com/event/the-gambler-returns-the-ultimate-kenny-rogers-tribute-at-apac/
LOCATION:OH
CATEGORIES:Entertainment,Live Music,Troy
ATTACH;FMTTYPE=image/jpeg:https://www.homegrowngreat.com/wp-content/uploads/2025/08/688c366bca677437acff73d1_kenny-rogers-tribute-rec-p-500.jpg
END:VEVENT
BEGIN:VEVENT
DTSTART;TZID=America/New_York:20260122T180000
DTEND;TZID=America/New_York:20260122T200000
DTSTAMP:20260423T104713
CREATED:20260106T150247Z
LAST-MODIFIED:20260106T150247Z
UID:10002129-1769104800-1769112000@www.homegrowngreat.com
SUMMARY:Winter Warm Up Music BINGO at Long Shots
DESCRIPTION: Winter Warm Up Music BINGO- Summer Hits!\nWho says summer vibes are only for the summer?! We’re heating things up with music bingo featuring all your favorite SUMMER HITS!\nThink beach anthems\, road-trip jams\, & songs that make you feel like the sun is shining- even in the middle of winter.\nFree to play & attend! Prizes for the winners of each round.\nBreak out those warm thoughts & join us for a night of pretending like it’s summer!
URL:https://www.homegrowngreat.com/event/winter-warm-up-music-bingo-at-long-shots/
LOCATION:Long Shots Driving Range\, 2315 South County Rd 25A\, Troy\, OH\, 45373\, United States
CATEGORIES:Entertainment,Troy
GEO:40.0061274;-84.2000866
X-APPLE-STRUCTURED-LOCATION;VALUE=URI;X-ADDRESS=Long Shots Driving Range 2315 South County Rd 25A Troy OH 45373 United States;X-APPLE-RADIUS=500;X-TITLE=2315 South County Rd 25A:geo:-84.2000866,40.0061274
END:VEVENT
BEGIN:VEVENT
DTSTART;TZID=America/New_York:20260126T180000
DTEND;TZID=America/New_York:20260126T190000
DTSTAMP:20260423T104713
CREATED:20260115T133907Z
LAST-MODIFIED:20260115T133907Z
UID:10002141-1769450400-1769454000@www.homegrowngreat.com
SUMMARY:Beginnings: Famous Miami County Firsts
DESCRIPTION:Join us for a fascinating presentation by Local History & Genealogy Center Archivist Patrick Kennedy\, who highlights both the famous and the forgotten “firsts” that helped shape Miami County. No registration required. An America 2025 program: Ohio’s Firsts and Originals.
URL:https://www.homegrowngreat.com/event/beginnings-famous-miami-county-firsts/
LOCATION:Local History & Genealogy Center\, 510 West Water Street\, Second Floor\, Troy\, 45373\, United States
CATEGORIES:America250,Heritage,Troy
ATTACH;FMTTYPE=image/jpeg:https://www.homegrowngreat.com/wp-content/uploads/2026/01/65.jpg
END:VEVENT
BEGIN:VEVENT
DTSTART;TZID=America/New_York:20260127T180000
DTEND;TZID=America/New_York:20260127T200000
DTSTAMP:20260423T104713
CREATED:20260106T150515Z
LAST-MODIFIED:20260106T150515Z
UID:10002130-1769536800-1769544000@www.homegrowngreat.com
SUMMARY:Trivia Night at Long Shots - Harry Potter
DESCRIPTION:Trivia Fans- Grab your fellow witches\, wizards\, & muggles and join us for a magical evening dedicated to the Wizarding World of Harry Potter! \nTest your knowledge on spells\, houses\, characters\, & all things Hogwarts as you compete for prizes!\nFree to play | Free to attend! First come\, first serve.\nWe hope to see you there! 
URL:https://www.homegrowngreat.com/event/trivia-night-at-long-shots-harry-potter/
LOCATION:Long Shots Driving Range\, 2315 South County Rd 25A\, Troy\, OH\, 45373\, United States
CATEGORIES:Entertainment,Troy
GEO:40.0061274;-84.2000866
X-APPLE-STRUCTURED-LOCATION;VALUE=URI;X-ADDRESS=Long Shots Driving Range 2315 South County Rd 25A Troy OH 45373 United States;X-APPLE-RADIUS=500;X-TITLE=2315 South County Rd 25A:geo:-84.2000866,40.0061274
END:VEVENT
BEGIN:VEVENT
DTSTART;TZID=America/New_York:20260127T193000
DTEND;TZID=America/New_York:20260127T193000
DTSTAMP:20260423T104713
CREATED:20221229T151336Z
LAST-MODIFIED:20260106T144114Z
UID:10000811-1769542200-1769542200@www.homegrowngreat.com
SUMMARY:Drawing Room Chamber Concert - Dayton Philharmonic Orchestra Principal String Quartet
DESCRIPTION:Tuesday\, January 27\, 2026 • 7:30 pm \nLocation: East Room \nAdmission: Free \nFeaturing the Dayton Philharmonic Orchestra Principal String Quartet\, this intimate chamber concert offers audiences an up-close musical experience in the elegant setting of the Hayner mansion. \n\nThe Drawing Room Chamber Concert series is presented free to the public through the generosity of the citizens of Troy\, our loyal sponsors and the Friends of Hayner members. Learn more about Hayner’s cultural events and the good folks who support them at www.TroyHayner.org .
URL:https://www.homegrowngreat.com/event/drawing-room-chamber-concert-1/
LOCATION:Troy-Hayner Cultural Center\, 301 West Main Street\, Troy\, OH\, 45373\, United States
CATEGORIES:Entertainment,Live Music,Troy
GEO:40.0413541;-84.2063767
X-APPLE-STRUCTURED-LOCATION;VALUE=URI;X-ADDRESS=Troy-Hayner Cultural Center 301 West Main Street Troy OH 45373 United States;X-APPLE-RADIUS=500;X-TITLE=301 West Main Street:geo:-84.2063767,40.0413541
END:VEVENT
END:VCALENDAR