BEGIN:VCALENDAR
VERSION:2.0
PRODID:-//Home Grown Great - ECPv6.7.0//NONSGML v1.0//EN
CALSCALE:GREGORIAN
METHOD:PUBLISH
X-ORIGINAL-URL:https://www.homegrowngreat.com
X-WR-CALDESC:Events for Home Grown Great
REFRESH-INTERVAL;VALUE=DURATION:PT1H
X-Robots-Tag:noindex
X-PUBLISHED-TTL:PT1H
BEGIN:VTIMEZONE
TZID:America/New_York
BEGIN:DAYLIGHT
TZOFFSETFROM:-0500
TZOFFSETTO:-0400
TZNAME:EDT
DTSTART:20250309T070000
END:DAYLIGHT
BEGIN:STANDARD
TZOFFSETFROM:-0400
TZOFFSETTO:-0500
TZNAME:EST
DTSTART:20251102T060000
END:STANDARD
END:VTIMEZONE
BEGIN:VEVENT
DTSTART;TZID=America/New_York:20250606T160000
DTEND;TZID=America/New_York:20250606T210000
DTSTAMP:20260423T090444
CREATED:20230512T123842Z
LAST-MODIFIED:20250512T130037Z
UID:10000645-1749225600-1749243600@www.homegrowngreat.com
SUMMARY:Jeep Cruise-In by Duck Duck Jeep Ohio
DESCRIPTION:Join us in beautiful Downtown Tipp City for our Annual Jeep Cruise-in!\nMark your calendars for the 3rd Annual Jeep Cruise-In in beautiful downtown Tipp City! This exciting event is the ultimate celebration for Jeep lovers\, families\, and anyone looking for a fun-filled day in our historic downtown. We are thrilled to continue our tradition of collaborating with Duck Duck Jeep Ohio to bring you this exciting event! Together\, we create a fun and unforgettable experience for Jeep enthusiasts and the community. Don’t miss your chance to support the Lunch On Us program\, which provides free summer meals to local children.Expect to see a variety of amazing jeeps lining the streets\, along with food trucks\, and plenty of opportunities to explore all that downtown Tipp City has to offer. Whether you’re a Jeep enthusiast or just enjoying the atmosphere\, there’s something for everyone! \nWe’ll also be presenting awards to the top jeeps of the day\, so be sure to check out the incredible jeeps on display. \nOur downtown businesses will be adding their own special touches to the event with promotions\, sales\, and surprises\, making your visit even more exciting. From unique shopping experiences to exclusive offers\, you won’t want to miss out on the action! \nBest of all\, the Jeep Cruise-In supports the Lunch On Us program\, which provides free meals to children in Tipp City and Monroe Township during the summer. So\, come enjoy the jeeps\, the community\, and the chance to support a great cause. \nGet ready for a fun and memorable day in downtown Tipp City\, we can’t wait to see you there!
URL:https://www.homegrowngreat.com/event/jeep-cruise-in/
LOCATION:Downtown Tipp City\, 6 South 3rd St.\, Tipp City\, OH\, 45371\, United States
CATEGORIES:Entertainment,Tipp City
ORGANIZER;CN="Downtown Tipp City Partnership":MAILTO:tweaver@downtowntippcity.org
GEO:39.9610122;-84.1710803
X-APPLE-STRUCTURED-LOCATION;VALUE=URI;X-ADDRESS=Downtown Tipp City 6 South 3rd St. Tipp City OH 45371 United States;X-APPLE-RADIUS=500;X-TITLE=6 South 3rd St.:geo:-84.1710803,39.9610122
END:VEVENT
BEGIN:VEVENT
DTSTART;TZID=America/New_York:20250606T170000
DTEND;TZID=America/New_York:20250606T210000
DTSTAMP:20260423T090444
CREATED:20250602T140712Z
LAST-MODIFIED:20250602T140712Z
UID:10001471-1749229200-1749243600@www.homegrowngreat.com
SUMMARY:Strawberry Jam - Hometown Celebration
DESCRIPTION:Strawberry Jam – Hometown Celebration\nLet’s Celebrate Troy\, Ohio!\nJoin us on Friday\, June 6th for the Hometown Celebration of everything strawberry!\nWhen: 5:00 – 9:00 pm\nWhere: Downtown Troy\nThe evening will kick off with a ribbon cutting celebration at 4:45pm\, followed by the dying of the fountain. There will be a Concert on Prouty Plaza from 6:00pm-9:00pm.\nDowntown Restaurants & Boutiques may have adjusted hours\, please follow their pages for more information. A limited number of Strawberry Festival vendors will be open throughout the venue on both the Levee and Downtown. \n\nPLEASE NOTE: This event is put on by the The Troy Area Chamber of Commerce but it is NOT the full festival The Festival will begin on Saturday & Sunday June 7th & 8th.
URL:https://www.homegrowngreat.com/event/strawberry-jam-hometown-celebration/
LOCATION:Downtown Troy – Prouty Plaza\, 1 West Main Street\, Troy\, OH\, 45373\, United States
CATEGORIES:Entertainment,Festivals,Live Music,Troy
ATTACH;FMTTYPE=image/jpeg:https://www.homegrowngreat.com/wp-content/uploads/2025/06/Strawberry-Jam-2025.jpg
GEO:40.0396227;-84.2035748
X-APPLE-STRUCTURED-LOCATION;VALUE=URI;X-ADDRESS=Downtown Troy – Prouty Plaza 1 West Main Street Troy OH 45373 United States;X-APPLE-RADIUS=500;X-TITLE=1 West Main Street:geo:-84.2035748,40.0396227
END:VEVENT
BEGIN:VEVENT
DTSTART;TZID=America/New_York:20250614T090000
DTEND;TZID=America/New_York:20250614T120000
DTSTAMP:20260423T090444
CREATED:20250407T130154Z
LAST-MODIFIED:20250407T131051Z
UID:10000624-1749891600-1749902400@www.homegrowngreat.com
SUMMARY:Cherry Street Farmer's Market in Troy
DESCRIPTION:Fresh vegetables\, homemade treats\, and warm\, sunny Saturday mornings are right around the corner! The market will begin on Saturday\, June 14th and will run through September 27th\, 2025\, on Saturday mornings from 9 a.m. to noon. \nThe market features fresh local produce\, bread\, artisan cheeses\, maple syrup\, honey\, baked goods\, locally raised meat\, artists’ booths\, live music\, other entertainment\, and much more.\nThe location on S. Cherry St\, just off W. Main Street\, is convenient for shoppers with adjacent parking. \n 
URL:https://www.homegrowngreat.com/event/downtown-troy-farmers-market-18-2/2025-06-14/
LOCATION:Downtown Troy-Farmer’s Market\, 301 S. Cherry St.\, Troy\, OH\, United States
CATEGORIES:Category,Entertainment,Seasonal
ATTACH;FMTTYPE=image/png:https://www.homegrowngreat.com/wp-content/uploads/2019/05/Troy-Farmers-Market-2.png
GEO:40.0370733;-84.2065115
X-APPLE-STRUCTURED-LOCATION;VALUE=URI;X-ADDRESS=Downtown Troy-Farmer’s Market 301 S. Cherry St. Troy OH United States;X-APPLE-RADIUS=500;X-TITLE=301 S. Cherry St.:geo:-84.2065115,40.0370733
END:VEVENT
BEGIN:VEVENT
DTSTART;TZID=America/New_York:20250614T170000
DTEND;TZID=America/New_York:20250614T220000
DTSTAMP:20260423T090444
CREATED:20180605T192037Z
LAST-MODIFIED:20260223T140032Z
UID:10000517-1749920400-1749938400@www.homegrowngreat.com
SUMMARY:Canal Music Fest
DESCRIPTION:The Canal Music Fest is free and open to the public. No coolers permitted. Join us on June 14 and bring your lawn chair or blanket. You will find us in the park\, north of the Tipp City Aquatic Center. Enter from Parkwood Drive\, where free parking will be available. \n\nAdditional information and directions can be found on our website. \nThe Tipp City Area Arts Council is a non-profit organization dedicated to the promotion\, development and support of the visual\, musical\, performing and literary arts in Tipp City\, Ohio and the surrounding area. \n\n\nwww.TippCityArtsCouncil.com \nFree Admission\, No coolers\, please. \nFest held at the Tipp City Park\, 35 Parkwood Ave.\, Tipp City OH 45371 \n 
URL:https://www.homegrowngreat.com/event/canal-music-fest/
LOCATION:Tipp City Community Park\, 225 Parkwood Drive\, Tipp City\, OH\, 45371\, United States
CATEGORIES:Entertainment,Live Music,Outdoors,Tipp City
ATTACH;FMTTYPE=image/jpeg:https://www.homegrowngreat.com/wp-content/uploads/2018/06/Canal-Music-Fest2.jpg
GEO:39.9688206;-84.1681629
X-APPLE-STRUCTURED-LOCATION;VALUE=URI;X-ADDRESS=Tipp City Community Park 225 Parkwood Drive Tipp City OH 45371 United States;X-APPLE-RADIUS=500;X-TITLE=225 Parkwood Drive:geo:-84.1681629,39.9688206
END:VEVENT
BEGIN:VEVENT
DTSTART;TZID=America/New_York:20250614T190000
DTEND;TZID=America/New_York:20250614T190000
DTSTAMP:20260423T090444
CREATED:20240416T180526Z
LAST-MODIFIED:20250513T143348Z
UID:10000916-1749927600-1749927600@www.homegrowngreat.com
SUMMARY:A Rooftop Beatles Tribute by Come Together!
DESCRIPTION:Join us on June 14th on Prouty Plaza for a rooftop Beatles Tribute by Come Together Tribute!\nThe band will begin their performance atop The Mayflower Encore at 7 PM.
URL:https://www.homegrowngreat.com/event/a-rooftop-beatles-tribute-by-come-together/
LOCATION:Downtown Troy – Prouty Plaza\, 1 West Main Street\, Troy\, OH\, 45373\, United States
CATEGORIES:Entertainment,Live Music,Troy
ATTACH;FMTTYPE=image/png:https://www.homegrowngreat.com/wp-content/uploads/2024/04/Rooftop-Beatles-2025.png
GEO:40.0396227;-84.2035748
X-APPLE-STRUCTURED-LOCATION;VALUE=URI;X-ADDRESS=Downtown Troy – Prouty Plaza 1 West Main Street Troy OH 45373 United States;X-APPLE-RADIUS=500;X-TITLE=1 West Main Street:geo:-84.2035748,40.0396227
END:VEVENT
BEGIN:VEVENT
DTSTART;VALUE=DATE:20250620
DTEND;VALUE=DATE:20250622
DTSTAMP:20260423T090444
CREATED:20240229T141544Z
LAST-MODIFIED:20260402T130751Z
UID:10000906-1750377600-1750550399@www.homegrowngreat.com
SUMMARY:Celtic Heritage Festival
DESCRIPTION:Immerse yourself in a journey through time as we transport you to an era of rugged adventure and captivating melodies. The Johnston Farm & Indian Agency’s Celtic Heritage Event promises an unforgettable experience for history enthusiasts\, music lovers\, and families alike.\nFor the price of admission\, visitors can enjoy the music\, wander through the camps\, watch or partake in the Highland Games\, visit the Johnston House\, take a ride on a historic canal boat\, purchase wares\, and delight the taste buds with a variety of culinary offerings. \n 
URL:https://www.homegrowngreat.com/event/celtic-heritage-festival/
LOCATION:Johnston Farm & Indian Agency\, 9845 North Hardin Rd.\, Piqua\, OH\, 45356\, United States
CATEGORIES:Festivals,Heritage,Outdoors,Piqua
ATTACH;FMTTYPE=image/jpeg:https://www.homegrowngreat.com/wp-content/uploads/2024/02/Johnston-Farm-Celtic-e1730302056132.jpg
GEO:40.1805329;-84.256978
X-APPLE-STRUCTURED-LOCATION;VALUE=URI;X-ADDRESS=Johnston Farm & Indian Agency 9845 North Hardin Rd. Piqua OH 45356 United States;X-APPLE-RADIUS=500;X-TITLE=9845 North Hardin Rd.:geo:-84.256978,40.1805329
END:VEVENT
BEGIN:VEVENT
DTSTART;TZID=America/New_York:20250620T190000
DTEND;TZID=America/New_York:20250620T220000
DTSTAMP:20260423T090444
CREATED:20250513T130300Z
LAST-MODIFIED:20250513T130300Z
UID:10001461-1750446000-1750456800@www.homegrowngreat.com
SUMMARY:Summer Solstice Cocktails & Conversation
DESCRIPTION:A cool breeze chases sundown and soon\, a gathering of your closest friends and family will be the sweetest moment of the summer…the magic of the Summer Solstice.\nWelcome Summer in all her glory with an evening at our Farm Distillery for this private intimate outdoor event!FRIDAY EVENING\, JUNE 20th\n7:00pm until 10:00pm*under the stars…*flickering candles…*sparkling cocktails for your drinking pleasure*delicious dinner ARTfully created by our favorite local chef Art Chin:Chicken & Beef Shish KabobsWild rice & shaved Brussels Sprouts with cranberriesSummer Street Corn SaladBerry Bourbon DessertAND*easy listening music provided by Tyler Cooper\n\n$50.00 per person which includes 1 complimentary cocktailand an experience like no other at the Farm that Whiskey Built.
URL:https://www.homegrowngreat.com/event/summer-solstice-cocktails-conversation/
LOCATION:Indian Creek Distillery\, 7095 Staley Road\, New Carlisle\, OH\, 45344\, United States
CATEGORIES:Entertainment,Tipp City,Troy
ATTACH;FMTTYPE=image/webp:https://www.homegrowngreat.com/wp-content/uploads/2025/05/Indian-Creek-Summer-2025.webp
GEO:39.965322;-84.076101
X-APPLE-STRUCTURED-LOCATION;VALUE=URI;X-ADDRESS=Indian Creek Distillery 7095 Staley Road New Carlisle OH 45344 United States;X-APPLE-RADIUS=500;X-TITLE=7095 Staley Road:geo:-84.076101,39.965322
END:VEVENT
BEGIN:VEVENT
DTSTART;TZID=America/New_York:20250620T193000
DTEND;TZID=America/New_York:20250620T210000
DTSTAMP:20260423T090444
CREATED:20180605T192046Z
LAST-MODIFIED:20250513T141804Z
UID:10000522-1750447800-1750453200@www.homegrowngreat.com
SUMMARY:Fridays on Prouty Concert with Truk and Chad Cremeans
DESCRIPTION:TWO BANDS! Truk and Chad Cremeans\nFriday\, June 20\, 2025 at 7:30 pm \n\nTroy\, Ohio’s free summer concert will feature TWO BANDS on June 20 at 7:30 pm. Truk is the world’s okay’est guitar pickers and Dayton’s third-best option in country music! A fun sing-along country band with a mix of originals and covers since 2014.\nChad Cremeans is a singer/songwriter in Troy\, Ohio. He ended up with many country songs after quite a bit of heartache. \nThe Fridays on Prouty music series takes place on Prouty Plaza right in the heart of downtown Troy on the NW quadrant of the square. Join your neighbors and Miami Valley music lovers for this six-concert series in charming Troy\, Ohio. Presented by Troy Main Street.
URL:https://www.homegrowngreat.com/event/fridays-on-prouty-2/
LOCATION:Prouty Plaza\, 405 Public Sq.\, Troy\, OH\, United States
CATEGORIES:Entertainment,Troy
ATTACH;FMTTYPE=image/jpeg:https://www.homegrowngreat.com/wp-content/uploads/2018/06/Music-at-Mayflower_MBA_2953.jpg
GEO:40.0396458;-84.204227
X-APPLE-STRUCTURED-LOCATION;VALUE=URI;X-ADDRESS=Prouty Plaza 405 Public Sq. Troy OH United States;X-APPLE-RADIUS=500;X-TITLE=405 Public Sq.:geo:-84.204227,40.0396458
END:VEVENT
BEGIN:VEVENT
DTSTART;TZID=America/New_York:20250621T090000
DTEND;TZID=America/New_York:20250621T120000
DTSTAMP:20260423T090444
CREATED:20250407T130154Z
LAST-MODIFIED:20250407T131051Z
UID:10001415-1750496400-1750507200@www.homegrowngreat.com
SUMMARY:Cherry Street Farmer's Market in Troy
DESCRIPTION:Fresh vegetables\, homemade treats\, and warm\, sunny Saturday mornings are right around the corner! The market will begin on Saturday\, June 14th and will run through September 27th\, 2025\, on Saturday mornings from 9 a.m. to noon. \nThe market features fresh local produce\, bread\, artisan cheeses\, maple syrup\, honey\, baked goods\, locally raised meat\, artists’ booths\, live music\, other entertainment\, and much more.\nThe location on S. Cherry St\, just off W. Main Street\, is convenient for shoppers with adjacent parking. \n 
URL:https://www.homegrowngreat.com/event/downtown-troy-farmers-market-18-2/2025-06-21/
LOCATION:Downtown Troy-Farmer’s Market\, 301 S. Cherry St.\, Troy\, OH\, United States
CATEGORIES:Category,Entertainment,Seasonal
ATTACH;FMTTYPE=image/png:https://www.homegrowngreat.com/wp-content/uploads/2019/05/Troy-Farmers-Market-2.png
GEO:40.0370733;-84.2065115
X-APPLE-STRUCTURED-LOCATION;VALUE=URI;X-ADDRESS=Downtown Troy-Farmer’s Market 301 S. Cherry St. Troy OH United States;X-APPLE-RADIUS=500;X-TITLE=301 S. Cherry St.:geo:-84.2065115,40.0370733
END:VEVENT
BEGIN:VEVENT
DTSTART;TZID=America/New_York:20250621T150000
DTEND;TZID=America/New_York:20250621T190000
DTSTAMP:20260423T090444
CREATED:20250404T183249Z
LAST-MODIFIED:20250527T125154Z
UID:10001413-1750518000-1750532400@www.homegrowngreat.com
SUMMARY:Juneteenth Celebration in Troy
DESCRIPTION:Troy\, Ohio celebrates its fifth Juneteenth celebration this year on Saturday\, June 21 at McKaig Race Park beginning at 3:30 pm.\nThe Juneteenth Opening concert will be at Richards Chapel at 831 McKaig Ave. on Friday\, June 20. A special reception will begin at 5:30 pm for an art exhibition by Troy City School students called\, “Before\, During\, After…Historical Influence of African and African American music on United States history.” It will be curated by the outstanding art instructors at the Troy City Schools. The concert will start at 6:30 pm. No reservations or tickets are necessary. This special concert is in collaboration with IDEA Troy\, Richards Chapel and The Troy-Hayner Cultural Center. \nOne of the special features of the event on Saturday is a Juneteenth Walk through town to McKaig Race Park. If you would like to be part of the walk meet at First Place Christian Center at 16 W. Franklin Street at 2:45 pm on Saturday\, June 21. At 3:00 pm the walk will proceed to the McKaig Race Park. The Saturday celebrations begin at 3:30 and feature games\, food\, entertainment and featured speakers.
URL:https://www.homegrowngreat.com/event/juneteenth-celebration-in-troy/
LOCATION:OH
CATEGORIES:Festivals
ATTACH;FMTTYPE=image/jpeg:https://www.homegrowngreat.com/wp-content/uploads/2025/04/Juneteenth-Celebration-IMG_2681-scaled.jpg
END:VEVENT
BEGIN:VEVENT
DTSTART;VALUE=DATE:20250627
DTEND;VALUE=DATE:20250630
DTSTAMP:20260423T090444
CREATED:20250310T132457Z
LAST-MODIFIED:20250310T132457Z
UID:10001406-1750982400-1751241599@www.homegrowngreat.com
SUMMARY:Americana Market at Indian Creek Distillery
DESCRIPTION:The Americana Market is a Small Business vendor market\, showcasing some of Ohio’s most unique handmade items and small businesses. 100% of our vendors are local & trusted Small Business owners with unique and quality products!\nEnjoy the historic and scenic grounds of The Indian Creek Distillery while you shop everything from home decor to clothing\, jewelry\, handmade soaps\, candles\, and more! Don’t forget to grab a bite to eat from our local food trucks while you shop!
URL:https://www.homegrowngreat.com/event/americana-market-at-indian-creek-distillery/
LOCATION:Indian Creek Distillery\, 7095 Staley Road\, New Carlisle\, OH\, 45344\, United States
CATEGORIES:Entertainment,Tipp City
GEO:39.965322;-84.076101
X-APPLE-STRUCTURED-LOCATION;VALUE=URI;X-ADDRESS=Indian Creek Distillery 7095 Staley Road New Carlisle OH 45344 United States;X-APPLE-RADIUS=500;X-TITLE=7095 Staley Road:geo:-84.076101,39.965322
END:VEVENT
BEGIN:VEVENT
DTSTART;TZID=America/New_York:20250627T193000
DTEND;TZID=America/New_York:20250627T210000
DTSTAMP:20260423T090444
CREATED:20180605T192043Z
LAST-MODIFIED:20250513T133323Z
UID:10000520-1751052600-1751058000@www.homegrowngreat.com
SUMMARY:Fridays on Prouty Concert with Cincinnati Transit Authority
DESCRIPTION:Cincinnati Transit Authority\nFriday\, June 27\, 2025 at 7:30 pm\nThe CTA is an eight-piece band paying tribute to the great horn driven sound of Chicago Transit Authority. Originating in Cincinnati\, Ohio\, the band consists of some of the area’s best rock\, jazz\, and blues musicians. The group takes great pride in performing spot-on renditions of iconic Chicago tunes. The band’s replication and dedication to the music make CTA one of the top Chicago tribute bands performing now.Expect to hear all the great hits including “Does Anybody Really Know What Time It Is?”\, “Make Me Smile”\, “Beginnings”\, “Hard Habit To Break”\, “Questions 67 & 68”\, “Saturday In The Park”\, “25 or 6 to 4”\, “We Can Stop The Hurtin’”\, “Introduction”\, “Wake up Sunshine”\, and many more.Rick Auhagen does the lead vocals\, Michael Oakley is on guitar\, Adam Wheeler is on drums\, bass guitar is Adam Scovanner\, keys are Larry Feldner\, Zach Grainger plays trombone\, Erich Lechliter the trumpet and Dwayne Irvin plays saxophone and flute.Concerts are free to the public thanks to a generous grant from the Troy Foundation and the citizens of Troy. Come early and enjoy one of Troy’s downtown restaurants. To learn more about downtown Troy\, Ohio visit the Miami County Visitors Bureau at: www.homegrowngreat.com/dine/troy . Join us in the center of lovely downtown Troy\, Ohio at Prouty Plaza. Bring a lawn chair and your best friend. For more information on the Fridays on Prouty concert series visit: troyhayner.org/fridays-on-prouty.\n 
URL:https://www.homegrowngreat.com/event/fridays-on-prouty-concert-1/
LOCATION:Prouty Plaza\, 405 Public Sq.\, Troy\, OH\, United States
CATEGORIES:Entertainment,Troy
GEO:40.0396458;-84.204227
X-APPLE-STRUCTURED-LOCATION;VALUE=URI;X-ADDRESS=Prouty Plaza 405 Public Sq. Troy OH United States;X-APPLE-RADIUS=500;X-TITLE=405 Public Sq.:geo:-84.204227,40.0396458
END:VEVENT
BEGIN:VEVENT
DTSTART;VALUE=DATE:20250628
DTEND;VALUE=DATE:20250629
DTSTAMP:20260423T090444
CREATED:20200224T143756Z
LAST-MODIFIED:20250102T161654Z
UID:10000629-1751068800-1751155199@www.homegrowngreat.com
SUMMARY:Rock ‘N Roll Car Show
DESCRIPTION:All years of cars and trucks are welcome to be a part of this annual event. \n\nThe Rock N’ Roll Car Show will be cruising back into downtown Piqua on June 28\, 2025!\n\n\nHot rods\, low riders\, and the all-time classics will be on display\, with viewing free for all ages! Snag a snack and snap a shot in downtown Piqua on June 28 with the whole community!
URL:https://www.homegrowngreat.com/event/rock-n-roll-car-show/
LOCATION:Downtown Piqua\, 326 N Main St.\, Piqua\, OH\, 45356\, United States
CATEGORIES:Entertainment,Piqua
ATTACH;FMTTYPE=image/jpeg:https://www.homegrowngreat.com/wp-content/uploads/2020/02/Piqua-Car-SHow-2022.jpg
GEO:40.1495535;-84.2400375
X-APPLE-STRUCTURED-LOCATION;VALUE=URI;X-ADDRESS=Downtown Piqua 326 N Main St. Piqua OH 45356 United States;X-APPLE-RADIUS=500;X-TITLE=326 N Main St.:geo:-84.2400375,40.1495535
END:VEVENT
BEGIN:VEVENT
DTSTART;TZID=America/New_York:20250628T090000
DTEND;TZID=America/New_York:20250628T120000
DTSTAMP:20260423T090444
CREATED:20250407T130154Z
LAST-MODIFIED:20250407T131051Z
UID:10001416-1751101200-1751112000@www.homegrowngreat.com
SUMMARY:Cherry Street Farmer's Market in Troy
DESCRIPTION:Fresh vegetables\, homemade treats\, and warm\, sunny Saturday mornings are right around the corner! The market will begin on Saturday\, June 14th and will run through September 27th\, 2025\, on Saturday mornings from 9 a.m. to noon. \nThe market features fresh local produce\, bread\, artisan cheeses\, maple syrup\, honey\, baked goods\, locally raised meat\, artists’ booths\, live music\, other entertainment\, and much more.\nThe location on S. Cherry St\, just off W. Main Street\, is convenient for shoppers with adjacent parking. \n 
URL:https://www.homegrowngreat.com/event/downtown-troy-farmers-market-18-2/2025-06-28/
LOCATION:Downtown Troy-Farmer’s Market\, 301 S. Cherry St.\, Troy\, OH\, United States
CATEGORIES:Category,Entertainment,Seasonal
ATTACH;FMTTYPE=image/png:https://www.homegrowngreat.com/wp-content/uploads/2019/05/Troy-Farmers-Market-2.png
GEO:40.0370733;-84.2065115
X-APPLE-STRUCTURED-LOCATION;VALUE=URI;X-ADDRESS=Downtown Troy-Farmer’s Market 301 S. Cherry St. Troy OH United States;X-APPLE-RADIUS=500;X-TITLE=301 S. Cherry St.:geo:-84.2065115,40.0370733
END:VEVENT
END:VCALENDAR