BEGIN:VCALENDAR
VERSION:2.0
PRODID:-//Home Grown Great - ECPv6.7.0//NONSGML v1.0//EN
CALSCALE:GREGORIAN
METHOD:PUBLISH
X-ORIGINAL-URL:https://www.homegrowngreat.com
X-WR-CALDESC:Events for Home Grown Great
REFRESH-INTERVAL;VALUE=DURATION:PT1H
X-Robots-Tag:noindex
X-PUBLISHED-TTL:PT1H
BEGIN:VTIMEZONE
TZID:America/New_York
BEGIN:DAYLIGHT
TZOFFSETFROM:-0500
TZOFFSETTO:-0400
TZNAME:EDT
DTSTART:20260308T070000
END:DAYLIGHT
BEGIN:STANDARD
TZOFFSETFROM:-0400
TZOFFSETTO:-0500
TZNAME:EST
DTSTART:20261101T060000
END:STANDARD
END:VTIMEZONE
BEGIN:VEVENT
DTSTART;TZID=America/New_York:20260422T120000
DTEND;TZID=America/New_York:20260422T190000
DTSTAMP:20260421T172324
CREATED:20260406T135704Z
LAST-MODIFIED:20260406T135704Z
UID:10002229-1776859200-1776884400@www.homegrowngreat.com
SUMMARY:Veterans Connect
DESCRIPTION:Veterans Connect is a free event designed to bring veterans\, their families\, and local employers together in one place. Attendees can explore career opportunities\, connect with organizations\, and learn about valuable education programs and VA benefits available to them. Whether you’re a veteran seeking your next mission\, looking to further your education\, or a business searching for motivated\, skilled individuals\, Veterans Connect is the place to build meaningful connections and strengthen our community.
URL:https://www.homegrowngreat.com/event/veterans-connect/
LOCATION:Hobart Arena\, 255 Adams Street\, Troy\, OH\, 45373\, United States
CATEGORIES:Entertainment,Highlights,Troy
ATTACH;FMTTYPE=image/png:https://www.homegrowngreat.com/wp-content/uploads/2026/04/Veterans-Connect-Poster.png
ORGANIZER;CN="Miami County Veterans Services":MAILTO:mcvets@mcvets.org
GEO:40.0458748;-84.2049873
X-APPLE-STRUCTURED-LOCATION;VALUE=URI;X-ADDRESS=Hobart Arena 255 Adams Street Troy OH 45373 United States;X-APPLE-RADIUS=500;X-TITLE=255 Adams Street:geo:-84.2049873,40.0458748
END:VEVENT
END:VCALENDAR