BEGIN:VCALENDAR
VERSION:2.0
PRODID:-//Home Grown Great - ECPv6.7.0//NONSGML v1.0//EN
CALSCALE:GREGORIAN
METHOD:PUBLISH
X-ORIGINAL-URL:https://www.homegrowngreat.com
X-WR-CALDESC:Events for Home Grown Great
REFRESH-INTERVAL;VALUE=DURATION:PT1H
X-Robots-Tag:noindex
X-PUBLISHED-TTL:PT1H
BEGIN:VTIMEZONE
TZID:America/New_York
BEGIN:DAYLIGHT
TZOFFSETFROM:-0500
TZOFFSETTO:-0400
TZNAME:EDT
DTSTART:20260308T070000
END:DAYLIGHT
BEGIN:STANDARD
TZOFFSETFROM:-0400
TZOFFSETTO:-0500
TZNAME:EST
DTSTART:20261101T060000
END:STANDARD
END:VTIMEZONE
BEGIN:VEVENT
DTSTART;TZID=America/New_York:20260419T140000
DTEND;TZID=America/New_York:20260419T153000
DTSTAMP:20260421T173102
CREATED:20250903T194947Z
LAST-MODIFIED:20250903T194947Z
UID:10001520-1776607200-1776612600@www.homegrowngreat.com
SUMMARY:Mrs. Hayner's Birthday Tea
DESCRIPTION:Saturday\, April 19 and Wednesday\, April 23\, 2026 at 2:00pm – $20/person\, Reservations required \nEach spring\, the Troy-Hayner Cultural Center honors the birthday of our founder\, Mary Jane Hayner\, with an elegant afternoon tea. Guests enjoy a beautifully prepared tea service\, complete with sweets\, savories\, and fine tea in the Hayner Ballroom. \nThis year’s program will carry an Americana theme in recognition of America 250\, Miami County’s celebration of our shared history. Guests can expect a live musical performance with a short poetry reading woven into the program. The full lineup will be announced soon\, but the spirit of the event will blend music\, heritage\, and community. The perfect complement to this cherished Hayner tradition.  \nSeating is limited\, and tickets are required.\nTicket sales will open in January\, 2026. Please check back soon.
URL:https://www.homegrowngreat.com/event/mrs-hayners-birthday-tea-2/
LOCATION:Troy-Hayner Cultural Center\, 301 West Main Street\, Troy\, OH\, 45373\, United States
CATEGORIES:America250,Heritage,Troy
ATTACH;FMTTYPE=image/jpeg:https://www.homegrowngreat.com/wp-content/uploads/2025/09/TeaLOGOPink-squ.jpg
GEO:40.0413541;-84.2063767
X-APPLE-STRUCTURED-LOCATION;VALUE=URI;X-ADDRESS=Troy-Hayner Cultural Center 301 West Main Street Troy OH 45373 United States;X-APPLE-RADIUS=500;X-TITLE=301 West Main Street:geo:-84.2063767,40.0413541
END:VEVENT
END:VCALENDAR