BEGIN:VCALENDAR
VERSION:2.0
PRODID:-//Home Grown Great - ECPv6.7.0//NONSGML v1.0//EN
CALSCALE:GREGORIAN
METHOD:PUBLISH
X-ORIGINAL-URL:https://www.homegrowngreat.com
X-WR-CALDESC:Events for Home Grown Great
REFRESH-INTERVAL;VALUE=DURATION:PT1H
X-Robots-Tag:noindex
X-PUBLISHED-TTL:PT1H
BEGIN:VTIMEZONE
TZID:America/New_York
BEGIN:DAYLIGHT
TZOFFSETFROM:-0500
TZOFFSETTO:-0400
TZNAME:EDT
DTSTART:20260308T070000
END:DAYLIGHT
BEGIN:STANDARD
TZOFFSETFROM:-0400
TZOFFSETTO:-0500
TZNAME:EST
DTSTART:20261101T060000
END:STANDARD
END:VTIMEZONE
BEGIN:VEVENT
DTSTART;TZID=America/New_York:20260423T173000
DTEND;TZID=America/New_York:20260423T193000
DTSTAMP:20260423T092301
CREATED:20260410T191224Z
LAST-MODIFIED:20260410T191224Z
UID:10002235-1776965400-1776972600@www.homegrowngreat.com
SUMMARY:Throwback Thursday on Main
DESCRIPTION:Jr. MainStreet is hosting Throwback on Main\, a fun\, free\, community event in downtown Piqua!\nThere will be a Throwback costume contest\, sidewalk games\, prize raffle\, music\, and loads of fun!\nLeading up to the event\, April 9-23\, shop downtown for a raffle ticket to win Totally Rad prizes!\nDowntown shoppers can earn a raffle ticket for each receipt they receive at participating locations. Once you receive your raffle ticket\, write your name and phone number\, then return it to MainStreet Piqua during office hours or during the event on April 23rd\, 5:30-7:30 PM\, to be entered in the prize drawings.\nWinners will be drawn at the end of the event on April 23rd\, 7:30 PM! They will be announced LIVE on MainStreet Piqua’s page\, and the winners will be called from our office to coordinate prize pickup if not at the event.\n***This is a FREE community event. Beware of scammers claiming they have tickets for sale!!
URL:https://www.homegrowngreat.com/event/throwback-thursday-on-main/
LOCATION:Downtown Piqua\, 326 N Main St.\, Piqua\, OH\, 45356\, United States
CATEGORIES:Entertainment,Piqua
ATTACH;FMTTYPE=image/png:https://www.homegrowngreat.com/wp-content/uploads/2026/04/Throwback-Thurs.png
GEO:40.1495535;-84.2400375
X-APPLE-STRUCTURED-LOCATION;VALUE=URI;X-ADDRESS=Downtown Piqua 326 N Main St. Piqua OH 45356 United States;X-APPLE-RADIUS=500;X-TITLE=326 N Main St.:geo:-84.2400375,40.1495535
END:VEVENT
END:VCALENDAR