BEGIN:VCALENDAR
VERSION:2.0
PRODID:-//Home Grown Great - ECPv6.7.0//NONSGML v1.0//EN
CALSCALE:GREGORIAN
METHOD:PUBLISH
X-ORIGINAL-URL:https://www.homegrowngreat.com
X-WR-CALDESC:Events for Home Grown Great
REFRESH-INTERVAL;VALUE=DURATION:PT1H
X-Robots-Tag:noindex
X-PUBLISHED-TTL:PT1H
BEGIN:VTIMEZONE
TZID:America/New_York
BEGIN:DAYLIGHT
TZOFFSETFROM:-0500
TZOFFSETTO:-0400
TZNAME:EDT
DTSTART:20260308T070000
END:DAYLIGHT
BEGIN:STANDARD
TZOFFSETFROM:-0400
TZOFFSETTO:-0500
TZNAME:EST
DTSTART:20261101T060000
END:STANDARD
END:VTIMEZONE
BEGIN:VEVENT
DTSTART;TZID=America/New_York:20261017T100000
DTEND;TZID=America/New_York:20261018T170000
DTSTAMP:20260425T132532
CREATED:20240911T132404Z
LAST-MODIFIED:20260402T134258Z
UID:10000963-1792231200-1792342800@www.homegrowngreat.com
SUMMARY:Historic Market Faire at Johnston Farm
DESCRIPTION:Step into 18th Century Ohio to witness artists and craftsman demonstrating their trades. Authentic items for sale\, crafts for kids\, and food vendors on hand. Admission TBA
URL:https://www.homegrowngreat.com/event/fall-market-faire-at-johnston-farm/
LOCATION:Johnston Farm & Indian Agency\, 9845 North Hardin Rd.\, Piqua\, OH\, 45356\, United States
CATEGORIES:Entertainment,Festivals,Piqua
ATTACH;FMTTYPE=image/jpeg:https://www.homegrowngreat.com/wp-content/uploads/2018/06/Johnston-Farm-event-1.jpg
GEO:40.1805329;-84.256978
X-APPLE-STRUCTURED-LOCATION;VALUE=URI;X-ADDRESS=Johnston Farm & Indian Agency 9845 North Hardin Rd. Piqua OH 45356 United States;X-APPLE-RADIUS=500;X-TITLE=9845 North Hardin Rd.:geo:-84.256978,40.1805329
END:VEVENT
END:VCALENDAR