BEGIN:VCALENDAR
VERSION:2.0
PRODID:-//Home Grown Great - ECPv6.7.0//NONSGML v1.0//EN
CALSCALE:GREGORIAN
METHOD:PUBLISH
X-WR-CALNAME:Home Grown Great
X-ORIGINAL-URL:https://www.homegrowngreat.com
X-WR-CALDESC:Events for Home Grown Great
REFRESH-INTERVAL;VALUE=DURATION:PT1H
X-Robots-Tag:noindex
X-PUBLISHED-TTL:PT1H
BEGIN:VTIMEZONE
TZID:America/New_York
BEGIN:DAYLIGHT
TZOFFSETFROM:-0500
TZOFFSETTO:-0400
TZNAME:EDT
DTSTART:20260308T070000
END:DAYLIGHT
BEGIN:STANDARD
TZOFFSETFROM:-0400
TZOFFSETTO:-0500
TZNAME:EST
DTSTART:20261101T060000
END:STANDARD
END:VTIMEZONE
BEGIN:VEVENT
DTSTART;VALUE=DATE:20260926
DTEND;VALUE=DATE:20260928
DTSTAMP:20260425T115652
CREATED:20180625T135146Z
LAST-MODIFIED:20260421T202422Z
UID:10000553-1790380800-1790553599@www.homegrowngreat.com
SUMMARY:Tipp City Mum Fest
DESCRIPTION:The Tipp City Mum Festival is full of activities\, vendors\, entertainment\, arts & crafts\, great food and of course\, MUMS! \nThe Mum Festival Antique and Show Car Cruise-In packs the historic downtown area with hundreds of quality and unique vehicles for the largest festival car show in the state.\nOur Saturday morning parade still draws spectators near and far with bands\, floats\, clowns and entertainment. That’s not all – for two days the City Park turns into the festival grounds with something for everyone!
URL:https://www.homegrowngreat.com/event/tipp-city-mum-fest/
LOCATION:Tipp City Community Park\, 225 Parkwood Drive\, Tipp City\, OH\, 45371\, United States
CATEGORIES:America250,Entertainment,Festivals,Tipp City
ATTACH;FMTTYPE=image/jpeg:https://www.homegrowngreat.com/wp-content/uploads/2018/06/7007200.jpg
GEO:39.9688206;-84.1681629
X-APPLE-STRUCTURED-LOCATION;VALUE=URI;X-ADDRESS=Tipp City Community Park 225 Parkwood Drive Tipp City OH 45371 United States;X-APPLE-RADIUS=500;X-TITLE=225 Parkwood Drive:geo:-84.1681629,39.9688206
END:VEVENT
BEGIN:VEVENT
DTSTART;VALUE=DATE:20260926
DTEND;VALUE=DATE:20260928
DTSTAMP:20260425T115652
CREATED:20260402T131937Z
LAST-MODIFIED:20260402T131937Z
UID:10002224-1790380800-1790553599@www.homegrowngreat.com
SUMMARY:Under the Spinner’s Moon
DESCRIPTION:Learn how fiber was worked to be turned into fabrics\, knits\, and more in times gone by at Johnston Farm & Indian Agency \nBoat rides 12:30 & 2:30 pm. Cost: $10 public\, members FREE. \nSaturday 11am-5pm\nSunday 11am-4pm
URL:https://www.homegrowngreat.com/event/under-the-spinners-moon/
LOCATION:Johnston Farm & Indian Agency\, 9845 North Hardin Rd.\, Piqua\, OH\, 45356\, United States
CATEGORIES:Entertainment,Heritage,Piqua
ATTACH;FMTTYPE=image/jpeg:https://www.homegrowngreat.com/wp-content/uploads/2026/04/YUNC0037-medium.jpg
GEO:40.1805329;-84.256978
X-APPLE-STRUCTURED-LOCATION;VALUE=URI;X-ADDRESS=Johnston Farm & Indian Agency 9845 North Hardin Rd. Piqua OH 45356 United States;X-APPLE-RADIUS=500;X-TITLE=9845 North Hardin Rd.:geo:-84.256978,40.1805329
END:VEVENT
END:VCALENDAR