BEGIN:VCALENDAR
VERSION:2.0
PRODID:-//Home Grown Great - ECPv6.7.0//NONSGML v1.0//EN
CALSCALE:GREGORIAN
METHOD:PUBLISH
X-ORIGINAL-URL:https://www.homegrowngreat.com
X-WR-CALDESC:Events for Home Grown Great
REFRESH-INTERVAL;VALUE=DURATION:PT1H
X-Robots-Tag:noindex
X-PUBLISHED-TTL:PT1H
BEGIN:VTIMEZONE
TZID:America/New_York
BEGIN:DAYLIGHT
TZOFFSETFROM:-0500
TZOFFSETTO:-0400
TZNAME:EDT
DTSTART:20260308T070000
END:DAYLIGHT
BEGIN:STANDARD
TZOFFSETFROM:-0400
TZOFFSETTO:-0500
TZNAME:EST
DTSTART:20261101T060000
END:STANDARD
END:VTIMEZONE
BEGIN:VEVENT
DTSTART;VALUE=DATE:20260905
DTEND;VALUE=DATE:20260908
DTSTAMP:20260425T161726
CREATED:20180605T192100Z
LAST-MODIFIED:20251118T151558Z
UID:10000532-1788566400-1788825599@www.homegrowngreat.com
SUMMARY:Fort Rowdy Gathering
DESCRIPTION:The depiction of a bustling\, small trading village set in the late 1700s and early 1800s is what you step into when you enter the Covington Community Park. \nJoin us in the peaceful setting of yesteryear. \nFalling leaves and the smell of open fires lure you to our “Gathering” and all the homemade foods\, arts and crafts will have you wanting to linger there for the weekend festivities. \nAuthentic demonstrations\, contests\, games\, and entertainment throughout the two-day “Gathering” add up to fun and enjoyment for the whole family. \nOur 208′ long portable footbridge will carry you across the Stillwater River to the Mountainman Encampments and a true feeling of life of a by-gone era. \n 
URL:https://www.homegrowngreat.com/event/fort-rowdy-gathering/
LOCATION:Covington Community Park\, 140 W Broadway St.\, Covington\, OH\, 45318\, United States
CATEGORIES:Covington,Entertainment,Festivals,Heritage,Outdoors
ATTACH;FMTTYPE=image/jpeg:https://www.homegrowngreat.com/wp-content/uploads/2018/06/567x305-FtRowdyGathering1.jpg
GEO:40.1213495;-84.3576759
X-APPLE-STRUCTURED-LOCATION;VALUE=URI;X-ADDRESS=Covington Community Park 140 W Broadway St. Covington OH 45318 United States;X-APPLE-RADIUS=500;X-TITLE=140 W Broadway St.:geo:-84.3576759,40.1213495
END:VEVENT
END:VCALENDAR