BEGIN:VCALENDAR
VERSION:2.0
PRODID:-//Home Grown Great - ECPv6.7.0//NONSGML v1.0//EN
CALSCALE:GREGORIAN
METHOD:PUBLISH
X-ORIGINAL-URL:https://www.homegrowngreat.com
X-WR-CALDESC:Events for Home Grown Great
REFRESH-INTERVAL;VALUE=DURATION:PT1H
X-Robots-Tag:noindex
X-PUBLISHED-TTL:PT1H
BEGIN:VTIMEZONE
TZID:America/New_York
BEGIN:DAYLIGHT
TZOFFSETFROM:-0500
TZOFFSETTO:-0400
TZNAME:EDT
DTSTART:20260308T070000
END:DAYLIGHT
BEGIN:STANDARD
TZOFFSETFROM:-0400
TZOFFSETTO:-0500
TZNAME:EST
DTSTART:20261101T060000
END:STANDARD
END:VTIMEZONE
BEGIN:VEVENT
DTSTART;TZID=America/New_York:20260803T183000
DTEND;TZID=America/New_York:20260803T200000
DTSTAMP:20260423T234714
CREATED:20260130T143222Z
LAST-MODIFIED:20260130T143222Z
UID:10002165-1785781800-1785787200@www.homegrowngreat.com
SUMMARY:Tipp City Library Goes to the Movies: Toy Story
DESCRIPTION:Monday\, August 3rd\, 6:30 – 8pm\, Toy Story (1995) – Join the Tipp City Public Library as we celebrate America250 by participating in Ohio Goes to the Movies – a statewide celebration of movies showcasing Ohio’s actors\, directors\, writers\, composers\, locations\, and topics\, shown in cities and towns across the state. Tipp City Public Library will be showing the film Toy Story (1995) .\nToy Story is about Woody (Tom Hanks)\, a good-hearted cowboy doll who belongs to a young boy named Andy (John Morris)\, sees his position as Andy’s favorite toy jeopardized when his parents buy him a Buzz Lightyear (Tim Allen) action figure. Even worse\, the arrogant Buzz thinks he’s a real spaceman on a mission to return to his home planet. When Andy’s family moves to a new house\, Woody and Buzz must escape the clutches of maladjusted neighbor Sid Phillips (Erik von Detten) and reunite with their boy.\nPopcorn and water will be available for patrons during the movie.\nOhio Connection: This film’s Actor (Tom Hanks) has strong ties to Cleveland and Wright State University.\nThis program is funded by a grant from the Miami County Visitor and Convention Bureau.
URL:https://www.homegrowngreat.com/event/tipp-city-library-goes-to-the-movies-6/
LOCATION:Tipp City Public LIbrary\, 11 East Main Street\, Tipp City\, 45371\, United States
CATEGORIES:America250,Entertainment,Tipp City
ATTACH;FMTTYPE=image/png:https://www.homegrowngreat.com/wp-content/uploads/2026/01/Tipp-City-Movies.png
END:VEVENT
END:VCALENDAR