BEGIN:VCALENDAR
VERSION:2.0
PRODID:-//Home Grown Great - ECPv6.7.0//NONSGML v1.0//EN
CALSCALE:GREGORIAN
METHOD:PUBLISH
X-WR-CALNAME:Home Grown Great
X-ORIGINAL-URL:https://www.homegrowngreat.com
X-WR-CALDESC:Events for Home Grown Great
REFRESH-INTERVAL;VALUE=DURATION:PT1H
X-Robots-Tag:noindex
X-PUBLISHED-TTL:PT1H
BEGIN:VTIMEZONE
TZID:America/New_York
BEGIN:DAYLIGHT
TZOFFSETFROM:-0500
TZOFFSETTO:-0400
TZNAME:EDT
DTSTART:20260308T070000
END:DAYLIGHT
BEGIN:STANDARD
TZOFFSETFROM:-0400
TZOFFSETTO:-0500
TZNAME:EST
DTSTART:20261101T060000
END:STANDARD
END:VTIMEZONE
BEGIN:VEVENT
DTSTART;TZID=America/New_York:20260801T173000
DTEND;TZID=America/New_York:20260801T210000
DTSTAMP:20260423T193217
CREATED:20180605T192052Z
LAST-MODIFIED:20260422T124042Z
UID:10000525-1785605400-1785618000@www.homegrowngreat.com
SUMMARY:Down a River\, Down a Beer!
DESCRIPTION:Enjoy craft beers and a float down the river in Piqua! \nJoin us for a craft beer tasting event like no other!  Your ticket gets you a unique tasting glass\, 20 tasting tickets\, live music\, access to food trucks\, fire rings on the river\, cornhole\, and a last call fireworks show over the river.  Grab your family\, grab your friends\, and come out for a night of fun! \nTickets on sale June 1st\, 2026: HERE \nPhoto Courtesy of Mike Ullery.
URL:https://www.homegrowngreat.com/event/down-the-river-down-a-beer/
LOCATION:Old Piqua Power Plant\, 919 S. Main Street\, Piqua\, 45356\, United States
CATEGORIES:Entertainment,Highlights,Outdoors,Piqua
ATTACH;FMTTYPE=image/jpeg:https://www.homegrowngreat.com/wp-content/uploads/2018/06/567x305-Down-A-River.jpg
END:VEVENT
BEGIN:VEVENT
DTSTART;TZID=America/New_York:20260801T193000
DTEND;TZID=America/New_York:20260801T210000
DTSTAMP:20260423T193217
CREATED:20260408T144835Z
LAST-MODIFIED:20260408T144835Z
UID:10002233-1785612600-1785618000@www.homegrowngreat.com
SUMMARY:Treasure Island Park Concert with Pink Houses: The Ultimate Mellencamp Music Experience
DESCRIPTION:Bring a chair and enjoy this amazing concert at Treasure Island Park. \nAll concerts are free and open to the public at Treasure Island Park\, 409 N. Elm Street. Each band begins at 7:30 p.m.\, and food trucks will be on site for all three concerts. \n\n– Saturday\, June 20: Richie and The High Street Rockers \n\n\n\n– Saturday\, July 4: Terry Lee Goffee: World’s Greatest Johnny Cash Experience\nStay for the fireworks show at 10 p.m. after the concert!\n\n\n\n– Saturday\, August 1: Pink Houses: The Ultimate Mellencamp Music Experience \n\n\n\nPlease note that Treasure Island Park only permits alcoholic beverages purchased at the venue’s concession area or within the DORA during a time when the DORA is active for Treasure Island. You can view the DORA activation area at www.troyohio.gov/DORA .\n\n\n. Additional information is available at www.troyohio.gov/treasureisland
URL:https://www.homegrowngreat.com/event/music-at-treasure-island-park-3/
LOCATION:Treasure Island Park\, 409 N. Elm St.\, Troy\, OH\, 45373\, United States
CATEGORIES:Entertainment,Live Music,Outdoors,Troy
ATTACH;FMTTYPE=image/jpeg:https://www.homegrowngreat.com/wp-content/uploads/2018/06/Treasure-Island-3.jpg
GEO:40.0471973;-84.2105028
X-APPLE-STRUCTURED-LOCATION;VALUE=URI;X-ADDRESS=Treasure Island Park 409 N. Elm St. Troy OH 45373 United States;X-APPLE-RADIUS=500;X-TITLE=409 N. Elm St.:geo:-84.2105028,40.0471973
END:VEVENT
END:VCALENDAR