BEGIN:VCALENDAR
VERSION:2.0
PRODID:-//Home Grown Great - ECPv6.7.0//NONSGML v1.0//EN
CALSCALE:GREGORIAN
METHOD:PUBLISH
X-ORIGINAL-URL:https://www.homegrowngreat.com
X-WR-CALDESC:Events for Home Grown Great
REFRESH-INTERVAL;VALUE=DURATION:PT1H
X-Robots-Tag:noindex
X-PUBLISHED-TTL:PT1H
BEGIN:VTIMEZONE
TZID:America/New_York
BEGIN:DAYLIGHT
TZOFFSETFROM:-0500
TZOFFSETTO:-0400
TZNAME:EDT
DTSTART:20260308T070000
END:DAYLIGHT
BEGIN:STANDARD
TZOFFSETFROM:-0400
TZOFFSETTO:-0500
TZNAME:EST
DTSTART:20261101T060000
END:STANDARD
END:VTIMEZONE
BEGIN:VEVENT
DTSTART;TZID=America/New_York:20260723T150000
DTEND;TZID=America/New_York:20260723T180000
DTSTAMP:20260423T150328
CREATED:20250124T185422Z
LAST-MODIFIED:20251222T174053Z
UID:10001370-1784818800-1784829600@www.homegrowngreat.com
SUMMARY:Piqua Farmer's Market
DESCRIPTION:The Piqua Community Farmer’s Market is back and better than ever for 2026! Held in the heart of downtown Piqua\, this beloved tradition brings together local farmers\, artisans\, and residents to celebrate fresh\, locally sourced food and handcrafted goods. Whether you’re a longtime supporter or a first-time visitor\, there’s something for everyone to enjoy. \nWhen and Where\nThe Farmer’s Market takes place every Thursday from 3:00 PM to 6:00 PM\, running from May 28 through October 8. You’ll find us on High Street between Main and Market Streets\, surrounded by the charm of downtown Piqua’s historic buildings. \nWhat to Expect\nThis year’s market features: \n\nFresh Produce: Shop for seasonal fruits and vegetables grown by local farmers. From sweet strawberries in early summer to crisp apples in the fall\, the market offers an ever-changing selection of the freshest produce.\nArtisan Goods: Discover unique\, handmade items from talented artisans. You’ll find pottery\, jewelry\, candles\, and more—perfect for gifts or treating yourself.\nBaked Treats and Prepared Foods: Indulge in fresh-baked bread\, pastries\, and ready-to-eat meals made with love by local vendors.
URL:https://www.homegrowngreat.com/event/piqua-farmers-market-9/
LOCATION:Downtown Piqua\, 326 N Main St.\, Piqua\, OH\, 45356\, United States
CATEGORIES:Piqua,Seasonal
ATTACH;FMTTYPE=image/png:https://www.homegrowngreat.com/wp-content/uploads/2022/03/Piqua-Community-Farmers-Market4.png
GEO:40.1495535;-84.2400375
X-APPLE-STRUCTURED-LOCATION;VALUE=URI;X-ADDRESS=Downtown Piqua 326 N Main St. Piqua OH 45356 United States;X-APPLE-RADIUS=500;X-TITLE=326 N Main St.:geo:-84.2400375,40.1495535
END:VEVENT
BEGIN:VEVENT
DTSTART;TZID=America/New_York:20260723T183000
DTEND;TZID=America/New_York:20260723T200000
DTSTAMP:20260423T150328
CREATED:20260130T143027Z
LAST-MODIFIED:20260130T143027Z
UID:10002164-1784831400-1784836800@www.homegrowngreat.com
SUMMARY:Tipp City Library Goes to the Movies: Dog Man
DESCRIPTION:Thursday\, July 23rd\, 6:30 – 8pm\, Dog Man (2025) – Join the Tipp City Public Library as we celebrate America250 by participating in Ohio Goes to the Movies – a statewide celebration of movies showcasing Ohio’s actors\, directors\, writers\, composers\, locations\, and topics\, shown in cities and towns across the state. Tipp City Public Library will be showing the film Dog Man (2025)\nDog Man: When a police officer and his faithful police dog get injured in the line of duty\, a harebrained but life-saving surgery fuses the two of them together — and Dog Man is born. As Dog Man learns to embrace his new identity\, he must stop feline supervillain Petey the Cat from cloning himself and going on a crime spree.\nPopcorn and water will be available for patrons during the movie. \nOhio Connection: This film is based on the national bestseller series by the same name\, written by Ohio Author Dav Pilkey (born in Cleveland\, OH) This program is funded by a grant from the Miami County’s Visitor Bureau.
URL:https://www.homegrowngreat.com/event/tipp-city-library-goes-to-the-movies-5/
LOCATION:Tipp City Public LIbrary\, 11 East Main Street\, Tipp City\, 45371\, United States
CATEGORIES:America250,Entertainment,Tipp City
ATTACH;FMTTYPE=image/png:https://www.homegrowngreat.com/wp-content/uploads/2026/01/Tipp-City-Movies.png
END:VEVENT
END:VCALENDAR