BEGIN:VCALENDAR
VERSION:2.0
PRODID:-//Home Grown Great - ECPv6.7.0//NONSGML v1.0//EN
CALSCALE:GREGORIAN
METHOD:PUBLISH
X-WR-CALNAME:Home Grown Great
X-ORIGINAL-URL:https://www.homegrowngreat.com
X-WR-CALDESC:Events for Home Grown Great
REFRESH-INTERVAL;VALUE=DURATION:PT1H
X-Robots-Tag:noindex
X-PUBLISHED-TTL:PT1H
BEGIN:VTIMEZONE
TZID:America/New_York
BEGIN:DAYLIGHT
TZOFFSETFROM:-0500
TZOFFSETTO:-0400
TZNAME:EDT
DTSTART:20260308T070000
END:DAYLIGHT
BEGIN:STANDARD
TZOFFSETFROM:-0400
TZOFFSETTO:-0500
TZNAME:EST
DTSTART:20261101T060000
END:STANDARD
END:VTIMEZONE
BEGIN:VEVENT
DTSTART;VALUE=DATE:20260717
DTEND;VALUE=DATE:20260719
DTSTAMP:20260425T085918
CREATED:20250325T184002Z
LAST-MODIFIED:20251222T161628Z
UID:10001411-1784246400-1784419199@www.homegrowngreat.com
SUMMARY:Christmas in July - Downtown Piqua
DESCRIPTION:Meet your friends downtown for a festive shopping experience.  All of your favorite stores will have sidewalk sales\, specials\, open houses or new product reveals.  You might even catch a glimpse of Santa himself doing a little shopping.
URL:https://www.homegrowngreat.com/event/christmas-in-july-downtown-piqua/
LOCATION:Downtown Piqua\, 326 N Main St.\, Piqua\, OH\, 45356\, United States
CATEGORIES:Entertainment,Piqua
ATTACH;FMTTYPE=image/png:https://www.homegrowngreat.com/wp-content/uploads/2025/03/Christmas-in-July-Piqua.png
GEO:40.1495535;-84.2400375
X-APPLE-STRUCTURED-LOCATION;VALUE=URI;X-ADDRESS=Downtown Piqua 326 N Main St. Piqua OH 45356 United States;X-APPLE-RADIUS=500;X-TITLE=326 N Main St.:geo:-84.2400375,40.1495535
END:VEVENT
BEGIN:VEVENT
DTSTART;TZID=America/New_York:20260717T190000
DTEND;TZID=America/New_York:20260717T223000
DTSTAMP:20260425T085918
CREATED:20250423T134809Z
LAST-MODIFIED:20260401T140726Z
UID:10001448-1784314800-1784327400@www.homegrowngreat.com
SUMMARY:Lock 9 Concert Series - Party Punch
DESCRIPTION:The lineup for the 2026 Concert Series is: \n\nFriday\, May 29\, 7 to 10 p.m. — McGuffey Lane | The Gage Thomas Band\nFriday\, June 5\, 7 to 10 p.m. — The Groove Brothers Band | Vudu Childe\nSaturday\, June 13\, 7:30 to 9 p.m. — Let’s Sing Taylor\nSaturday\, June 20\, 7 to 10:30 p.m. — Sanitarium | The Creed Tribute\nFriday\, June 26\, 7 to 10 p.m. — Hotel California | Breakdown: A Tom Petty Tribute\nFriday\, July 3\, 7 to 10:30 p.m. — ReFlektion | Cadillac McSwain\nSaturday\, July 4\, 2 to 9:30 p.m. — The Menus | Shifferly Roads\, Kim Campbell and the Southern Memories\, The Driving Force Band\nFriday\, July 17\, 7 to 10:30 p.m. — Party Punch | Kevin and the Others \nFriday\, July 24\, 7 to 10:30 p.m. — Thunderbeard: A Tribute to ZZ Top | BJ Brown Band\nFriday\, July 31\, 7 to 10 p.m. — Neon 90s | Cory Breth\nFriday\, August 7\, 7 to 10 p.m. — Stranger | Latter\nSaturday\, August 15\, 6:30 to 10 p.m. — Eric Jerardi Band | Back to the Blues\nFriday\, August 21\, 7 to 10 p.m. — Naked Karate Girls | That One Party Band\nFriday\, August 28\, 7 to 10:30 p.m. — Alan Jackson Tribute | Strait Country\nSaturday\, August 29\, 7 to 10 p.m. — Jump: America’s Van Halen Experience | Roughouse\n\nConcerts are free to attend\, and guests are encouraged to bring lawn chairs or blankets to enjoy the performances comfortably on the park’s open green space. \nThe Treviño Performance Pavilion in Lock 9 Park was made possible by generous support from the A Better Community Fund of The Piqua Community Foundation.
URL:https://www.homegrowngreat.com/event/lock-9-concert-series-9/
LOCATION:Lock 9 Park – Trevino Performance Pavilion\, 125 East Water Street\, Piqua\, 45356\, United States
CATEGORIES:Entertainment,Live Music,Piqua
ATTACH;FMTTYPE=image/jpeg:https://www.homegrowngreat.com/wp-content/uploads/2025/04/Photo-2025-April-Lock-9-Concert-2024-scaled.jpg
END:VEVENT
END:VCALENDAR