BEGIN:VCALENDAR
VERSION:2.0
PRODID:-//Home Grown Great - ECPv6.7.0//NONSGML v1.0//EN
CALSCALE:GREGORIAN
METHOD:PUBLISH
X-ORIGINAL-URL:https://www.homegrowngreat.com
X-WR-CALDESC:Events for Home Grown Great
REFRESH-INTERVAL;VALUE=DURATION:PT1H
X-Robots-Tag:noindex
X-PUBLISHED-TTL:PT1H
BEGIN:VTIMEZONE
TZID:America/New_York
BEGIN:DAYLIGHT
TZOFFSETFROM:-0500
TZOFFSETTO:-0400
TZNAME:EDT
DTSTART:20260308T070000
END:DAYLIGHT
BEGIN:STANDARD
TZOFFSETFROM:-0400
TZOFFSETTO:-0500
TZNAME:EST
DTSTART:20261101T060000
END:STANDARD
END:VTIMEZONE
BEGIN:VEVENT
DTSTART;TZID=America/New_York:20260711T110000
DTEND;TZID=America/New_York:20260712T170000
DTSTAMP:20260423T134139
CREATED:20260121T194226Z
LAST-MODIFIED:20260121T194226Z
UID:10002154-1783767600-1783875600@www.homegrowngreat.com
SUMMARY:America 250: Red\, White & Blue Ice Cream Social
DESCRIPTION:Celebrate America 250 with a Red\, White & Blue Ice Cream Social at the Johnston Farm! Enjoy free ice cream while learning about the Johnston family’s Revolutionary inheritance and the ideals passed down to the next generation.
URL:https://www.homegrowngreat.com/event/america-250-red-white-blue-ice-cream-social/
LOCATION:Johnston Farm & Indian Agency\, 9845 North Hardin Rd.\, Piqua\, OH\, 45356\, United States
CATEGORIES:America250,Heritage,Outdoors,Piqua
ATTACH;FMTTYPE=image/png:https://www.homegrowngreat.com/wp-content/uploads/2026/01/America-250-Ice-Cream-Social-image-.png
ORGANIZER;CN="Johnston Farm &amp%3B Indian Agency":MAILTO:info@johnstonfarmohio.com
GEO:40.1805329;-84.256978
X-APPLE-STRUCTURED-LOCATION;VALUE=URI;X-ADDRESS=Johnston Farm & Indian Agency 9845 North Hardin Rd. Piqua OH 45356 United States;X-APPLE-RADIUS=500;X-TITLE=9845 North Hardin Rd.:geo:-84.256978,40.1805329
END:VEVENT
END:VCALENDAR