BEGIN:VCALENDAR
VERSION:2.0
PRODID:-//Home Grown Great - ECPv6.7.0//NONSGML v1.0//EN
CALSCALE:GREGORIAN
METHOD:PUBLISH
X-WR-CALNAME:Home Grown Great
X-ORIGINAL-URL:https://www.homegrowngreat.com
X-WR-CALDESC:Events for Home Grown Great
REFRESH-INTERVAL;VALUE=DURATION:PT1H
X-Robots-Tag:noindex
X-PUBLISHED-TTL:PT1H
BEGIN:VTIMEZONE
TZID:America/New_York
BEGIN:DAYLIGHT
TZOFFSETFROM:-0500
TZOFFSETTO:-0400
TZNAME:EDT
DTSTART:20260308T070000
END:DAYLIGHT
BEGIN:STANDARD
TZOFFSETFROM:-0400
TZOFFSETTO:-0500
TZNAME:EST
DTSTART:20261101T060000
END:STANDARD
END:VTIMEZONE
BEGIN:VEVENT
DTSTART;VALUE=DATE:20260626
DTEND;VALUE=DATE:20260629
DTSTAMP:20260425T105013
CREATED:20181009T182702Z
LAST-MODIFIED:20260420T132422Z
UID:10000571-1782432000-1782691199@www.homegrowngreat.com
SUMMARY:Kathy Slack Troy Summer Skating Competition
DESCRIPTION:Come see these young athletes compete! This single and pairs\, as well as dance competition\, is a non-qualifying competition held under the auspices of the U.S. Figure Skating organization. \nSince 1974 Troy Skating Club has hosted its annual Troy Summer Skating Competition. This competition is hosted at Hobart Arena. Troy Summer Competition brings in over 300 skaters from the Midwest and beyond each year. Troy Summer Skating Competition has events ranging from beginners to senior-level skaters\, has both IJS and Test Track events\, showcase as well as Basic Skills.\nStarting in 2018 after the loss of our dear friend and judge Kathy Slack\, who championed\, and put so much passion into this competition\, the Troy Summer Competition was renamed the “Kathy Slack Troy Summer Competition”. \n 
URL:https://www.homegrowngreat.com/event/troy-skating-club-summer-competition/
LOCATION:Hobart Arena\, 255 Adams Street\, Troy\, OH\, 45373\, United States
CATEGORIES:Entertainment,Troy
ATTACH;FMTTYPE=image/jpeg:https://www.homegrowngreat.com/wp-content/uploads/2018/10/567x305-Skating.jpg
GEO:40.0458748;-84.2049873
X-APPLE-STRUCTURED-LOCATION;VALUE=URI;X-ADDRESS=Hobart Arena 255 Adams Street Troy OH 45373 United States;X-APPLE-RADIUS=500;X-TITLE=255 Adams Street:geo:-84.2049873,40.0458748
END:VEVENT
BEGIN:VEVENT
DTSTART;TZID=America/New_York:20260626T190000
DTEND;TZID=America/New_York:20260626T210000
DTSTAMP:20260425T105013
CREATED:20250423T134538Z
LAST-MODIFIED:20260401T140207Z
UID:10001445-1782500400-1782507600@www.homegrowngreat.com
SUMMARY:Lock 9 Concert Series - Hotel California | Breakdown: A Tom Petty Tribute 
DESCRIPTION:The lineup for the 2026 Concert Series is: \n\nFriday\, May 29\, 7 to 10 p.m. — McGuffey Lane | The Gage Thomas Band\nFriday\, June 5\, 7 to 10 p.m. — The Groove Brothers Band | Vudu Childe\nSaturday\, June 13\, 7:30 to 9 p.m. — Let’s Sing Taylor\nSaturday\, June 20\, 7 to 10:30 p.m. — Sanitarium | The Creed Tribute\nFriday\, June 26\, 7 to 10 p.m. — Hotel California | Breakdown: A Tom Petty Tribute\nFriday\, July 3\, 7 to 10:30 p.m. — ReFlektion | Cadillac McSwain\nSaturday\, July 4\, 2 to 9:30 p.m. — The Menus | Shifferly Roads\, Kim Campbell and the Southern Memories\, The Driving Force Band\nFriday\, July 17\, 7 to 10:30 p.m. — Party Punch | Kevin and the Others\nFriday\, July 24\, 7 to 10:30 p.m. — Thunderbeard: A Tribute to ZZ Top | BJ Brown Band\nFriday\, July 31\, 7 to 10 p.m. — Neon 90s | Cory Breth\nFriday\, August 7\, 7 to 10 p.m. — Stranger | Latter\nSaturday\, August 15\, 6:30 to 10 p.m. — Eric Jerardi Band | Back to the Blues\nFriday\, August 21\, 7 to 10 p.m. — Naked Karate Girls | That One Party Band\nFriday\, August 28\, 7 to 10:30 p.m. — Alan Jackson Tribute | Strait Country\nSaturday\, August 29\, 7 to 10 p.m. — Jump: America’s Van Halen Experience | Roughouse\n\nConcerts are free to attend\, and guests are encouraged to bring lawn chairs or blankets to enjoy the performances comfortably on the park’s open green space. \nThe Treviño Performance Pavilion in Lock 9 Park was made possible by generous support from the A Better Community Fund of The Piqua Community Foundation.
URL:https://www.homegrowngreat.com/event/lock-9-concert-series-6/
LOCATION:Lock 9 Park – Trevino Performance Pavilion\, 125 East Water Street\, Piqua\, 45356\, United States
CATEGORIES:Entertainment,Live Music,Piqua
ATTACH;FMTTYPE=image/jpeg:https://www.homegrowngreat.com/wp-content/uploads/2025/04/Photo-2025-April-Lock-9-Concert-2024-scaled.jpg
END:VEVENT
END:VCALENDAR