BEGIN:VCALENDAR
VERSION:2.0
PRODID:-//Home Grown Great - ECPv6.7.0//NONSGML v1.0//EN
CALSCALE:GREGORIAN
METHOD:PUBLISH
X-ORIGINAL-URL:https://www.homegrowngreat.com
X-WR-CALDESC:Events for Home Grown Great
REFRESH-INTERVAL;VALUE=DURATION:PT1H
X-Robots-Tag:noindex
X-PUBLISHED-TTL:PT1H
BEGIN:VTIMEZONE
TZID:America/New_York
BEGIN:DAYLIGHT
TZOFFSETFROM:-0500
TZOFFSETTO:-0400
TZNAME:EDT
DTSTART:20260308T070000
END:DAYLIGHT
BEGIN:STANDARD
TZOFFSETFROM:-0400
TZOFFSETTO:-0500
TZNAME:EST
DTSTART:20261101T060000
END:STANDARD
END:VTIMEZONE
BEGIN:VEVENT
DTSTART;TZID=America/New_York:20260620T100000
DTEND;TZID=America/New_York:20260620T150000
DTSTAMP:20260425T062125
CREATED:20181002T141537Z
LAST-MODIFIED:20251218T162911Z
UID:10000560-1781949600-1781967600@www.homegrowngreat.com
SUMMARY:Vintage in the Village
DESCRIPTION:Lovely Downtown Tipp City will come alive with shopping for vintage\, antique and artisan treasures\, along with a wide array of food trucks and activities. This one-day activity will enhance the already wonderful downtown offerings of the permanent merchants and restaurants. Make sure to visit vendors both inside and out for the amazing experience that will be offered!\n \n 
URL:https://www.homegrowngreat.com/event/vintage-in-the-village/
LOCATION:Downtown Tipp City\, 6 South 3rd St.\, Tipp City\, OH\, 45371\, United States
CATEGORIES:Entertainment,Festivals,Tipp City
ATTACH;FMTTYPE=image/jpeg:https://www.homegrowngreat.com/wp-content/uploads/2018/10/Vintage-village-2.jpg
GEO:39.9610122;-84.1710803
X-APPLE-STRUCTURED-LOCATION;VALUE=URI;X-ADDRESS=Downtown Tipp City 6 South 3rd St. Tipp City OH 45371 United States;X-APPLE-RADIUS=500;X-TITLE=6 South 3rd St.:geo:-84.1710803,39.9610122
END:VEVENT
BEGIN:VEVENT
DTSTART;TZID=America/New_York:20260620T110000
DTEND;TZID=America/New_York:20260620T170000
DTSTAMP:20260425T062125
CREATED:20260209T143156Z
LAST-MODIFIED:20260209T143156Z
UID:10002179-1781953200-1781974800@www.homegrowngreat.com
SUMMARY:Father’s Day Celebration at The Exchange
DESCRIPTION:June 20\, 2026\n11:00 AM \n\nCome celebrate dad\nFree axe throwing\nYard games\nPhoto ops\nFood truck\nDads DIY\nSpecial local menu
URL:https://www.homegrowngreat.com/event/fathers-day-celebration-at-the-exchange/
LOCATION:The Exchange\, 210 West High St\, Pleasant Hill\, OH\, 45359\, United States
CATEGORIES:Entertainment
ATTACH;FMTTYPE=image/jpeg:https://www.homegrowngreat.com/wp-content/uploads/2026/02/Fathers-Day-e1770647489250.jpg
GEO:40.0529821;-84.3482536
X-APPLE-STRUCTURED-LOCATION;VALUE=URI;X-ADDRESS=The Exchange 210 West High St Pleasant Hill OH 45359 United States;X-APPLE-RADIUS=500;X-TITLE=210 West High St:geo:-84.3482536,40.0529821
END:VEVENT
BEGIN:VEVENT
DTSTART;TZID=America/New_York:20260620T190000
DTEND;TZID=America/New_York:20260620T210000
DTSTAMP:20260425T062125
CREATED:20250423T134437Z
LAST-MODIFIED:20260401T140030Z
UID:10001444-1781982000-1781989200@www.homegrowngreat.com
SUMMARY:Lock 9 Concert Series - Sanitarium | The Creed Tribute 
DESCRIPTION:The lineup for the 2026 Concert Series is: \n\nFriday\, May 29\, 7 to 10 p.m. — McGuffey Lane | The Gage Thomas Band\nFriday\, June 5\, 7 to 10 p.m. — The Groove Brothers Band | Vudu Childe\nSaturday\, June 13\, 7:30 to 9 p.m. — Let’s Sing Taylor\nSaturday\, June 20\, 7 to 10:30 p.m. — Sanitarium | The Creed Tribute\nFriday\, June 26\, 7 to 10 p.m. — Hotel California | Breakdown: A Tom Petty Tribute\nFriday\, July 3\, 7 to 10:30 p.m. — ReFlektion | Cadillac McSwain\nSaturday\, July 4\, 2 to 9:30 p.m. — The Menus | Shifferly Roads\, Kim Campbell and the Southern Memories\, The Driving Force Band\nFriday\, July 17\, 7 to 10:30 p.m. — Party Punch | Kevin and the Others\nFriday\, July 24\, 7 to 10:30 p.m. — Thunderbeard: A Tribute to ZZ Top | BJ Brown Band\nFriday\, July 31\, 7 to 10 p.m. — Neon 90s | Cory Breth\nFriday\, August 7\, 7 to 10 p.m. — Stranger | Latter\nSaturday\, August 15\, 6:30 to 10 p.m. — Eric Jerardi Band | Back to the Blues\nFriday\, August 21\, 7 to 10 p.m. — Naked Karate Girls | That One Party Band\nFriday\, August 28\, 7 to 10:30 p.m. — Alan Jackson Tribute | Strait Country\nSaturday\, August 29\, 7 to 10 p.m. — Jump: America’s Van Halen Experience | Roughouse\n\nConcerts are free to attend\, and guests are encouraged to bring lawn chairs or blankets to enjoy the performances comfortably on the park’s open green space. \nThe Treviño Performance Pavilion in Lock 9 Park was made possible by generous support from the A Better Community Fund of The Piqua Community Foundation.
URL:https://www.homegrowngreat.com/event/lock-9-concert-series-5/
LOCATION:Lock 9 Park – Trevino Performance Pavilion\, 125 East Water Street\, Piqua\, 45356\, United States
CATEGORIES:Entertainment,Live Music,Piqua
ATTACH;FMTTYPE=image/jpeg:https://www.homegrowngreat.com/wp-content/uploads/2025/04/Photo-2025-April-Lock-9-Concert-2024-scaled.jpg
END:VEVENT
BEGIN:VEVENT
DTSTART;TZID=America/New_York:20260620T193000
DTEND;TZID=America/New_York:20260620T210000
DTSTAMP:20260425T062125
CREATED:20180605T192052Z
LAST-MODIFIED:20260408T144234Z
UID:10000526-1781983800-1781989200@www.homegrowngreat.com
SUMMARY:Treasure Island Park Concert with Richie and The High Street Rockers
DESCRIPTION:Bring a chair and enjoy this amazing concert at Treasure Island Park. \nRichie and The High Street Rockers \n\nAll concerts are free and open to the public at Treasure Island Park\, 409 N. Elm Street. Each band begins at 7:30 p.m.\, and food trucks will be on site for all three concerts.\n\n\n\n– Saturday\, June 20: Richie and The High Street Rockers\n\n\n– Saturday\, July 4: Terry Lee Goffee: World’s Greatest Johnny Cash Experience\nStay for the fireworks show at 10 p.m. after the concert!\n\n\n– Saturday\, August 1: Pink Houses: The Ultimate Mellencamp Music Experience \n\n\n\nPlease note that Treasure Island Park only permits alcoholic beverages purchased at the venue’s concession area or within the DORA during a time when the DORA is active for Treasure Island. You can view the DORA activation area at www.troyohio.gov/DORA .\n\n\n. Additional information is available at www.troyohio.gov/treasureisland
URL:https://www.homegrowngreat.com/event/music-at-treasure-island-park/
LOCATION:Treasure Island Park\, 409 N. Elm St.\, Troy\, OH\, 45373\, United States
CATEGORIES:Entertainment,Live Music,Outdoors,Troy
ATTACH;FMTTYPE=image/jpeg:https://www.homegrowngreat.com/wp-content/uploads/2018/06/Treasure-Island-1.jpg
GEO:40.0471973;-84.2105028
X-APPLE-STRUCTURED-LOCATION;VALUE=URI;X-ADDRESS=Treasure Island Park 409 N. Elm St. Troy OH 45373 United States;X-APPLE-RADIUS=500;X-TITLE=409 N. Elm St.:geo:-84.2105028,40.0471973
END:VEVENT
END:VCALENDAR