BEGIN:VCALENDAR
VERSION:2.0
PRODID:-//Home Grown Great - ECPv6.7.0//NONSGML v1.0//EN
CALSCALE:GREGORIAN
METHOD:PUBLISH
X-ORIGINAL-URL:https://www.homegrowngreat.com
X-WR-CALDESC:Events for Home Grown Great
REFRESH-INTERVAL;VALUE=DURATION:PT1H
X-Robots-Tag:noindex
X-PUBLISHED-TTL:PT1H
BEGIN:VTIMEZONE
TZID:America/New_York
BEGIN:DAYLIGHT
TZOFFSETFROM:-0500
TZOFFSETTO:-0400
TZNAME:EDT
DTSTART:20260308T070000
END:DAYLIGHT
BEGIN:STANDARD
TZOFFSETFROM:-0400
TZOFFSETTO:-0500
TZNAME:EST
DTSTART:20261101T060000
END:STANDARD
END:VTIMEZONE
BEGIN:VEVENT
DTSTART;TZID=America/New_York:20260523T110000
DTEND;TZID=America/New_York:20260523T170000
DTSTAMP:20260423T115606
CREATED:20260402T125520Z
LAST-MODIFIED:20260402T125520Z
UID:10002218-1779534000-1779555600@www.homegrowngreat.com
SUMMARY:Barnyard Babies & Mother’s Day Blessings
DESCRIPTION:It’s spring and new life is in the air. Come meet our newest barnyard royalty!\nCost: $20 public\, mothers\, babies and members FREE.
URL:https://www.homegrowngreat.com/event/barnyard-babies-mothers-day-blessings/
LOCATION:Johnston Farm & Indian Agency\, 9845 North Hardin Rd.\, Piqua\, OH\, 45356\, United States
CATEGORIES:Entertainment,Heritage,Piqua
ATTACH;FMTTYPE=image/jpeg:https://www.homegrowngreat.com/wp-content/uploads/2019/06/Johnston-Farm9.jpg
GEO:40.1805329;-84.256978
X-APPLE-STRUCTURED-LOCATION;VALUE=URI;X-ADDRESS=Johnston Farm & Indian Agency 9845 North Hardin Rd. Piqua OH 45356 United States;X-APPLE-RADIUS=500;X-TITLE=9845 North Hardin Rd.:geo:-84.256978,40.1805329
END:VEVENT
END:VCALENDAR