BEGIN:VCALENDAR
VERSION:2.0
PRODID:-//Home Grown Great - ECPv6.7.0//NONSGML v1.0//EN
CALSCALE:GREGORIAN
METHOD:PUBLISH
X-WR-CALNAME:Home Grown Great
X-ORIGINAL-URL:https://www.homegrowngreat.com
X-WR-CALDESC:Events for Home Grown Great
REFRESH-INTERVAL;VALUE=DURATION:PT1H
X-Robots-Tag:noindex
X-PUBLISHED-TTL:PT1H
BEGIN:VTIMEZONE
TZID:America/New_York
BEGIN:DAYLIGHT
TZOFFSETFROM:-0500
TZOFFSETTO:-0400
TZNAME:EDT
DTSTART:20260308T070000
END:DAYLIGHT
BEGIN:STANDARD
TZOFFSETFROM:-0400
TZOFFSETTO:-0500
TZNAME:EST
DTSTART:20261101T060000
END:STANDARD
END:VTIMEZONE
BEGIN:VEVENT
DTSTART;TZID=America/New_York:20260521T110000
DTEND;TZID=America/New_York:20260521T140000
DTSTAMP:20260425T074114
CREATED:20260206T151110Z
LAST-MODIFIED:20260206T151110Z
UID:10002176-1779361200-1779372000@www.homegrowngreat.com
SUMMARY:End of School Bash at The Exchange
DESCRIPTION:Celebrate the kiddos and the beginning of summer!\nLunch from the Exchange bus\nCrafts in the garden\nSummer Bucket List making\nYard games\nSpecial ice cream hoodies from Local Coffee & Cream\nFun photo ops\nAnd so much more!
URL:https://www.homegrowngreat.com/event/end-of-school-bash-at-the-exchange/
LOCATION:The Exchange\, 210 West High St\, Pleasant Hill\, OH\, 45359\, United States
CATEGORIES:Entertainment
ATTACH;FMTTYPE=image/jpeg:https://www.homegrowngreat.com/wp-content/uploads/2026/02/End-Of-School-Event-e1770390652229.jpg
GEO:40.0529821;-84.3482536
X-APPLE-STRUCTURED-LOCATION;VALUE=URI;X-ADDRESS=The Exchange 210 West High St Pleasant Hill OH 45359 United States;X-APPLE-RADIUS=500;X-TITLE=210 West High St:geo:-84.3482536,40.0529821
END:VEVENT
BEGIN:VEVENT
DTSTART;TZID=America/New_York:20260521T190000
DTEND;TZID=America/New_York:20260521T203000
DTSTAMP:20260425T074114
CREATED:20251016T132853Z
LAST-MODIFIED:20260417T134145Z
UID:10001536-1779390000-1779395400@www.homegrowngreat.com
SUMMARY:Aviation Lecture Series at WACO
DESCRIPTION:Join us May 21 for the WACO Aviation Lecture Series! \n“The Path of the Eagle: from Pittsburgh to Ohio” explores how Bettis Field helped shape aviation during the Golden Age of Flight—and its surprising Ohio connections.\n\n\n7 PM | Doors open 6:30 PM\nWACO Air Museum – Willis Wing\nFree & open to the public (donations appreciated)\n\nAll aviation lectures are free and open to the public and are scheduled to last one hour\, beginning at 7 PM\, with questions to follow. The lecture is held in the Willis Wing of the WACO Air Museum at 1865 South County Road 25A in Troy\, OH. Doors will open at 6:30 PM. Donations to the WACO Air Museum are gratefully accepted. All lectures are sponsored in part by Collins Aerospace. For questions\, please call 937-335-9226 or visit www.wacoairmuseum.org. \n 
URL:https://www.homegrowngreat.com/event/aviation-lecture-series-at-waco/
LOCATION:WACO Air Museum\, 1865 S County Rd 25A\, Troy\, OH\, 45373\, United States
CATEGORIES:America250,Heritage,Highlights,Troy
ATTACH;FMTTYPE=image/jpeg:https://www.homegrowngreat.com/wp-content/uploads/2025/10/Bettis.jpg
GEO:40.014377;-84.198589
X-APPLE-STRUCTURED-LOCATION;VALUE=URI;X-ADDRESS=WACO Air Museum 1865 S County Rd 25A Troy OH 45373 United States;X-APPLE-RADIUS=500;X-TITLE=1865 S County Rd 25A:geo:-84.198589,40.014377
END:VEVENT
END:VCALENDAR