BEGIN:VCALENDAR
VERSION:2.0
PRODID:-//Home Grown Great - ECPv6.7.0//NONSGML v1.0//EN
CALSCALE:GREGORIAN
METHOD:PUBLISH
X-WR-CALNAME:Home Grown Great
X-ORIGINAL-URL:https://www.homegrowngreat.com
X-WR-CALDESC:Events for Home Grown Great
REFRESH-INTERVAL;VALUE=DURATION:PT1H
X-Robots-Tag:noindex
X-PUBLISHED-TTL:PT1H
BEGIN:VTIMEZONE
TZID:America/New_York
BEGIN:DAYLIGHT
TZOFFSETFROM:-0500
TZOFFSETTO:-0400
TZNAME:EDT
DTSTART:20260308T070000
END:DAYLIGHT
BEGIN:STANDARD
TZOFFSETFROM:-0400
TZOFFSETTO:-0500
TZNAME:EST
DTSTART:20261101T060000
END:STANDARD
END:VTIMEZONE
BEGIN:VEVENT
DTSTART;VALUE=DATE:20260508
DTEND;VALUE=DATE:20260518
DTSTAMP:20260423T180356
CREATED:20260421T125514Z
LAST-MODIFIED:20260421T125514Z
UID:10002240-1778198400-1779062399@www.homegrowngreat.com
SUMMARY:Piqua Center Spring Carnival
DESCRIPTION:May the Fun Begin! Join us for some Spring Carnival fun May 8-17\, 2026 at the Piqua Center! Rides\, games\, and carnival treats\, you shouldn’t miss! Don’t miss out on the excitement! Stay Tuned for ticket specials! \nFree Entry!! Free Parking!!\n\nLocation:Piqua Center 987 E Ash St\, Piqua\, OH 45356\nWhen:\nMay 8 5pm-10pmMay 9 Saturday 2pm-10pmMay 10 Sunday 2pm-10pmMay 11 5pm-10pmMay 12 5pm-10pmMay 13 5pm-10pmMay 14 5pm-10pmMay 15 5pm-10pmMay 16 Saturday 2pm-10pmMay 17 Sunday 2pm-10pm\n\nTickets: $1.50 Each$25 for 20 tickets$25 Wristband Weekdays$30 Wristband WeekendsRides require 3-6 tickets each\nCash and Credit are accepted for rides\, concessions and games.*Cards may be subject to a convenience fee\n*Number of tickets and height requirements vary for each ride. Rides require a minimum of 36″\n*Hours may change without notice due to inclement weather
URL:https://www.homegrowngreat.com/event/piqua-center-spring-carnival/
LOCATION:Piqua Center\, 987 E. Ash St\, Piqua\, OH\, 45356\, United States
CATEGORIES:Entertainment,Festivals,Piqua
ATTACH;FMTTYPE=image/jpeg:https://www.homegrowngreat.com/wp-content/uploads/2026/04/Piqua-Carnival-2026.jpg
END:VEVENT
BEGIN:VEVENT
DTSTART;VALUE=DATE:20260515
DTEND;VALUE=DATE:20260518
DTSTAMP:20260423T180356
CREATED:20181004T155740Z
LAST-MODIFIED:20250825T151158Z
UID:10000564-1778803200-1779062399@www.homegrowngreat.com
SUMMARY:Troy Strawberry Soccer Classic
DESCRIPTION:One of the oldest tournaments in Ohio\, the Classic has been successfully hosted since 1998. \nThe tournament prides itself on being a ‘mid-tier’ tournament\, focusing on teams that would commonly not be competitive against elite teams.  Commonly\, the tournament draws the second and third teams from large clubs looking for a regional tournament that offers the opportunity to play against well-matched teams. \nTroy Strawberry Soccer Classic presented by Dayton Futbol Academy and Trojans Soccer Club
URL:https://www.homegrowngreat.com/event/troy-strawberry-soccer-invitational/
LOCATION:OH
CATEGORIES:Outdoors,Troy
ATTACH;FMTTYPE=image/jpeg:https://www.homegrowngreat.com/wp-content/uploads/2018/10/051714-StrawberrySoccerStills0158.jpg
END:VEVENT
BEGIN:VEVENT
DTSTART;TZID=America/New_York:20260515T170000
DTEND;TZID=America/New_York:20260516T230000
DTSTAMP:20260423T180356
CREATED:20260304T194521Z
LAST-MODIFIED:20260304T194521Z
UID:10002193-1778864400-1778972400@www.homegrowngreat.com
SUMMARY:SchoolHouse Park Rocks Festival!
DESCRIPTION:The Covington Events Association (C.E.A.) is proud to present the 2nd Annual SchoolHouse Park Rocks Festival at Schoolhouse Park 25 N. Grant St. Covington\, OH 45318. \nWe will be celebrating America’s 250th Anniversary! \nThe festival will include live music on two stages (8 bands)\, food trucks\, a social tent\, local vendors\, kids activities/games\, and games of chance. \nThere will be a drone show to close the festival on Saturday night. \nBring a lawn chair and/or blanket(s) – no coolers\, pop-up tents\, or glass bottles. \nAdmission is FREE!\nFollow: Covington Events Association on Facebook for a more detailed schedule of events.
URL:https://www.homegrowngreat.com/event/schoolhouse-park-rocks-festival/
LOCATION:OH
CATEGORIES:America250,Covington,Entertainment
ATTACH;FMTTYPE=image/jpeg:https://www.homegrowngreat.com/wp-content/uploads/2026/03/Schoolhouse-Park-Event.jpg
END:VEVENT
BEGIN:VEVENT
DTSTART;TZID=America/New_York:20260516T110000
DTEND;TZID=America/New_York:20260516T150000
DTSTAMP:20260423T180356
CREATED:20260218T142921Z
LAST-MODIFIED:20260218T142921Z
UID:10002187-1778929200-1778943600@www.homegrowngreat.com
SUMMARY:Rally 4 Heroes Car Show
DESCRIPTION:Car show held during the Miami County Food Truck Rally to benefit Operation Veteran and Caregiver Support.\n$15.00 Registration per car. \nPin-Up Contest from 1-2pm.
URL:https://www.homegrowngreat.com/event/rally-4-heroes-car-show/
LOCATION:Miami County Fairgrounds\, 650 N. County. Rd 25A\, Troy\, OH\, 45373\, United States
CATEGORIES:Entertainment,Troy
ATTACH;FMTTYPE=image/png:https://www.homegrowngreat.com/wp-content/uploads/2026/02/Rally-4-Heroes-2026.png
GEO:40.0768004;-84.2201887
X-APPLE-STRUCTURED-LOCATION;VALUE=URI;X-ADDRESS=Miami County Fairgrounds 650 N. County. Rd 25A Troy OH 45373 United States;X-APPLE-RADIUS=500;X-TITLE=650 N. County. Rd 25A:geo:-84.2201887,40.0768004
END:VEVENT
BEGIN:VEVENT
DTSTART;TZID=America/New_York:20260516T110000
DTEND;TZID=America/New_York:20260516T210000
DTSTAMP:20260423T180356
CREATED:20180911T143503Z
LAST-MODIFIED:20250825T150612Z
UID:10000558-1778929200-1778965200@www.homegrowngreat.com
SUMMARY:Food Truck Rally & Competition
DESCRIPTION:This unique event promises to have something for nearly every culinary delight. Whether your passion is for the main course\, a sweet treat or a specialty beverage\, you will find the right truck for you! Entertainment is provided throughout the day as well as plenty of dining areas for your group to gather. \n$5.00 per carload\n$2.00 per person/walk-ins
URL:https://www.homegrowngreat.com/event/food-truck-rally-competition/
LOCATION:Miami County Fairgrounds\, 650 N. County. Rd 25A\, Troy\, OH\, 45373\, United States
CATEGORIES:Category,City,Entertainment,Festivals,Troy
ATTACH;FMTTYPE=image/jpeg:https://www.homegrowngreat.com/wp-content/uploads/2018/09/150516aw_Gourmet_TinRoof-1.jpg
GEO:40.0768004;-84.2201887
X-APPLE-STRUCTURED-LOCATION;VALUE=URI;X-ADDRESS=Miami County Fairgrounds 650 N. County. Rd 25A Troy OH 45373 United States;X-APPLE-RADIUS=500;X-TITLE=650 N. County. Rd 25A:geo:-84.2201887,40.0768004
END:VEVENT
BEGIN:VEVENT
DTSTART;TZID=America/New_York:20260516T190000
DTEND;TZID=America/New_York:20260516T210000
DTSTAMP:20260423T180356
CREATED:20250825T144919Z
LAST-MODIFIED:20250825T144919Z
UID:10001513-1778958000-1778965200@www.homegrowngreat.com
SUMMARY:Music of The Bee Gees at APAC
DESCRIPTION:Music of The Bee Gees\, Saturday\, May 16\, 2026\, 7:00pm\nThe New York Bee Gees Tribute Show is comprised of some of Long Island\, New York’s most versatile and exceptionally talented musicians.  This Bee Gees Tribute Show presents the most extravagant homage to the Brother Gibb that a fan can experience. This trio of musicians present all the classic 70s disco hits\, from “Stayin’ Alive” to “Night Fever\,” while also embracing the group’s early works\, including “To Love Somebody\,” “I’ve Got To Get A Message To You\,” and “Massachusetts.” The New York Bee Gees deliver songs from every decade of the Bee Gees catalog with stunning production\, powerful vocals\, and the professional stage presence that more than lives up to the hype. \n“You Should Be Dancing” as the APAC brings the 2025-2026 season to a close in spectacular style!
URL:https://www.homegrowngreat.com/event/music-of-the-bee-gees-at-apac/
LOCATION:Arbogast Performing Arts Center\, 500 S. Dorset Rd\, Troy\, OH\, 45373\, United States
CATEGORIES:Entertainment,Live Music,Troy
ATTACH;FMTTYPE=image/jpeg:https://www.homegrowngreat.com/wp-content/uploads/2025/08/688c3e2bebee5f14ff77dd46_New-York-Bee-Gees-Screen-Grab.jpg
GEO:40.0354785;-84.2296283
X-APPLE-STRUCTURED-LOCATION;VALUE=URI;X-ADDRESS=Arbogast Performing Arts Center 500 S. Dorset Rd Troy OH 45373 United States;X-APPLE-RADIUS=500;X-TITLE=500 S. Dorset Rd:geo:-84.2296283,40.0354785
END:VEVENT
END:VCALENDAR