BEGIN:VCALENDAR
VERSION:2.0
PRODID:-//Home Grown Great - ECPv6.7.0//NONSGML v1.0//EN
CALSCALE:GREGORIAN
METHOD:PUBLISH
X-ORIGINAL-URL:https://www.homegrowngreat.com
X-WR-CALDESC:Events for Home Grown Great
REFRESH-INTERVAL;VALUE=DURATION:PT1H
X-Robots-Tag:noindex
X-PUBLISHED-TTL:PT1H
BEGIN:VTIMEZONE
TZID:America/New_York
BEGIN:DAYLIGHT
TZOFFSETFROM:-0500
TZOFFSETTO:-0400
TZNAME:EDT
DTSTART:20260308T070000
END:DAYLIGHT
BEGIN:STANDARD
TZOFFSETFROM:-0400
TZOFFSETTO:-0500
TZNAME:EST
DTSTART:20261101T060000
END:STANDARD
END:VTIMEZONE
BEGIN:VEVENT
DTSTART;VALUE=DATE:20260508
DTEND;VALUE=DATE:20260518
DTSTAMP:20260423T102617
CREATED:20260421T125514Z
LAST-MODIFIED:20260421T125514Z
UID:10002240-1778198400-1779062399@www.homegrowngreat.com
SUMMARY:Piqua Center Spring Carnival
DESCRIPTION:May the Fun Begin! Join us for some Spring Carnival fun May 8-17\, 2026 at the Piqua Center! Rides\, games\, and carnival treats\, you shouldn’t miss! Don’t miss out on the excitement! Stay Tuned for ticket specials! \nFree Entry!! Free Parking!!\n\nLocation:Piqua Center 987 E Ash St\, Piqua\, OH 45356\nWhen:\nMay 8 5pm-10pmMay 9 Saturday 2pm-10pmMay 10 Sunday 2pm-10pmMay 11 5pm-10pmMay 12 5pm-10pmMay 13 5pm-10pmMay 14 5pm-10pmMay 15 5pm-10pmMay 16 Saturday 2pm-10pmMay 17 Sunday 2pm-10pm\n\nTickets: $1.50 Each$25 for 20 tickets$25 Wristband Weekdays$30 Wristband WeekendsRides require 3-6 tickets each\nCash and Credit are accepted for rides\, concessions and games.*Cards may be subject to a convenience fee\n*Number of tickets and height requirements vary for each ride. Rides require a minimum of 36″\n*Hours may change without notice due to inclement weather
URL:https://www.homegrowngreat.com/event/piqua-center-spring-carnival/
LOCATION:Piqua Center\, 987 E. Ash St\, Piqua\, OH\, 45356\, United States
CATEGORIES:Entertainment,Festivals,Piqua
ATTACH;FMTTYPE=image/jpeg:https://www.homegrowngreat.com/wp-content/uploads/2026/04/Piqua-Carnival-2026.jpg
END:VEVENT
BEGIN:VEVENT
DTSTART;TZID=America/New_York:20260509T110000
DTEND;TZID=America/New_York:20260509T170000
DTSTAMP:20260423T102617
CREATED:20260206T150513Z
LAST-MODIFIED:20260206T150513Z
UID:10002175-1778324400-1778346000@www.homegrowngreat.com
SUMMARY:Mother's Day at The Exchange
DESCRIPTION:Come spoil Mom with all of her favorite things! \n\nSpecial drink menu from Local Coffee & Cream\nPlant DIY\nPermanent Jewelry\nShopping\nFun photo ops\nFun for the kids in the yard\nLunch with Fren-Cheese food truck\nAnd so much more
URL:https://www.homegrowngreat.com/event/mothers-day-at-the-exchange/
LOCATION:The Exchange\, 210 West High St\, Pleasant Hill\, OH\, 45359\, United States
CATEGORIES:Entertainment
ATTACH;FMTTYPE=image/jpeg:https://www.homegrowngreat.com/wp-content/uploads/2026/02/Mothers-Day-e1770390281499.jpg
GEO:40.0529821;-84.3482536
X-APPLE-STRUCTURED-LOCATION;VALUE=URI;X-ADDRESS=The Exchange 210 West High St Pleasant Hill OH 45359 United States;X-APPLE-RADIUS=500;X-TITLE=210 West High St:geo:-84.3482536,40.0529821
END:VEVENT
BEGIN:VEVENT
DTSTART;TZID=America/New_York:20260509T113000
DTEND;TZID=America/New_York:20260509T150000
DTSTAMP:20260423T102617
CREATED:20190123T161400Z
LAST-MODIFIED:20260204T155241Z
UID:10000500-1778326200-1778338800@www.homegrowngreat.com
SUMMARY:Taste of Tipp & Business Expo
DESCRIPTION:DATE: Saturday\, May 9th 11am-3pm\nLOCATION: Ginghamsburg Church in The Avenue \n$5 at the door and the event is open to the public\nLocal businesses\, restaurants and caterers will get the opportunity to share their business expertise with the community.\nTaste Foods from amazing local businesses \n \n\n  \n 
URL:https://www.homegrowngreat.com/event/taste-of-tipp-business-expo/
LOCATION:The Tipp Center\, 855 N 3rd St\, Tipp City\, OH\, 45371\, United States
CATEGORIES:Highlights,Tipp City
ATTACH;FMTTYPE=image/jpeg:https://www.homegrowngreat.com/wp-content/uploads/2019/01/The-Taste-of-Tipp_logo-smaller_14748229.jpg
END:VEVENT
BEGIN:VEVENT
DTSTART;TZID=America/New_York:20260509T180000
DTEND;TZID=America/New_York:20260509T200000
DTSTAMP:20260423T102617
CREATED:20260109T194604Z
LAST-MODIFIED:20260109T194604Z
UID:10002132-1778349600-1778356800@www.homegrowngreat.com
SUMMARY:Stories on the Stillwater - Underground Railroad
DESCRIPTION:Stories on the Stillwater is a program brought you to by Project Revival of West Milton in celebration of America250. \nThis event will feature live storytelling\, interactive experiences and entertainment that reflects the historical theme of the Underground Railroad in West Milton\, Ohio. Volunteer actors and storytellers help to bring this powerful history to life. \nCheck back for more details!
URL:https://www.homegrowngreat.com/event/stories-on-the-stillwater-underground-railroad/
LOCATION:Downtown West Milton\, 5 North Miami St.\, West Milton\, OH\, 45383\, United States
CATEGORIES:America250,Heritage,West Milton
ATTACH;FMTTYPE=image/png:https://www.homegrowngreat.com/wp-content/uploads/2026/01/Stores-Underground-Railroad.png
GEO:39.9625622;-84.3279977
X-APPLE-STRUCTURED-LOCATION;VALUE=URI;X-ADDRESS=Downtown West Milton 5 North Miami St. West Milton OH 45383 United States;X-APPLE-RADIUS=500;X-TITLE=5 North Miami St.:geo:-84.3279977,39.9625622
END:VEVENT
BEGIN:VEVENT
DTSTART;TZID=America/New_York:20260509T180000
DTEND;TZID=America/New_York:20260509T210000
DTSTAMP:20260423T102617
CREATED:20260330T175442Z
LAST-MODIFIED:20260330T175442Z
UID:10002210-1778349600-1778360400@www.homegrowngreat.com
SUMMARY:A Decadent Affair
DESCRIPTION:The Tipp City Area Arts Council is thrilled to announce an inaugural event – A Decadent Affair – on May 9\, 2026. This highly anticipated evening will bring together the best in local wine\, gourmet delights\, music\, and visual art in support of the arts in our community. Guests will have the opportunity to taste a curated selection of wines from fantastic local wineries\, while enjoying small bites from local caterers & pâtisseries\, live music\, and art displays (with items for sale) from local artists. Your participation will directly support the Tipp City Area Arts Council’s mission to foster and promote the arts in our region. \nEvent Highlights: \nThe Decadent Affair will be held at the Tipp Center\, located at 855 North Third Street\, Tipp City\, Ohio. The VIP experience will begin at 5:00 p.m.\, followed by general admission starting at 6:00 p.m. The event will conclude at 9:00 p.m. ALL tickets must be purchased in advance! \n• VIP Experience (5:00 p.m. – 6:00 p.m.): VIP guests will enjoy early access to the event\, exclusive tastings\, and a special VIP gift bag. VIP admission includes 10 tasting tickets. Additional tastings may be purchased. \n• General Admission (6:00 p.m. – 9:00 p.m.): General admission includes 8 tasting tickets. Additional tastings may be purchased. \n• Complimentary Tasting Glass: All attendees will receive a complimentary tasting glass to enjoy the evening’s wine offerings. \n• Local Wineries: We are excited to feature wines from three outstanding local wineries\, including: Dragonfly Winery (Urbana)\, Old School House Winery (Eaton)\, Old Mason Winery (West Milton) \n• Food and Chocolate: Delight in a variety of small bites throughout the evening with a charcuterie grazing table by the Dayton Charcuterie Gal and a dessert grazing table with sweets provided by a plethora of pâtisseries. And don’t miss the chance to sample exquisite-handcrafted chocolates from a local chocolatier\, Mosaic Chocolate. \n•Music by Matt of Dayton \n•Artists: Cathy Pearson (paintings)\, Sam Grillmeier (glass)\, Angela Marion (fiber)\, Anita Heras (jewelry)\, Frank Trick (paintings/jewelry)\, Steve Wohler (paintings)\, Tom Thompsen (Custom Bottle Lamps LLC)\, Alison Rusk (paper)\, Barrel & Wicks (custom bottle candles)\, and others. \nRAFFLE: Tickets may also be purchased at the event for the Decadent Affair Raffle! Win great prizes (including fabulous vacations\, art\, and more) to support the arts in our community! \n  \nTICKETS: This is a ticketed event! Get your tickets NOW by using the ticket link on the website at www.tippcityartscouncil.com/a-decadent-affair. Tickets may also be purchased at Tipp Monroe Community Services during their business hours. With only 150 tickets available for sale\, we anticipate this event will sell out quickly! \n  \nSponsored by: Alvetro Orthodontics\, Excellence in Dentistry with additional support from the Tipp Center.
URL:https://www.homegrowngreat.com/event/a-decadent-affair/
LOCATION:The Tipp Center\, 855 N 3rd St\, Tipp City\, OH\, 45371\, United States
ATTACH;FMTTYPE=image/jpeg:https://www.homegrowngreat.com/wp-content/uploads/2026/03/Decadent-Affair-with-date.jpg
END:VEVENT
END:VCALENDAR