BEGIN:VCALENDAR
VERSION:2.0
PRODID:-//Home Grown Great - ECPv6.7.0//NONSGML v1.0//EN
CALSCALE:GREGORIAN
METHOD:PUBLISH
X-WR-CALNAME:Home Grown Great
X-ORIGINAL-URL:https://www.homegrowngreat.com
X-WR-CALDESC:Events for Home Grown Great
REFRESH-INTERVAL;VALUE=DURATION:PT1H
X-Robots-Tag:noindex
X-PUBLISHED-TTL:PT1H
BEGIN:VTIMEZONE
TZID:America/New_York
BEGIN:DAYLIGHT
TZOFFSETFROM:-0500
TZOFFSETTO:-0400
TZNAME:EDT
DTSTART:20260308T070000
END:DAYLIGHT
BEGIN:STANDARD
TZOFFSETFROM:-0400
TZOFFSETTO:-0500
TZNAME:EST
DTSTART:20261101T060000
END:STANDARD
END:VTIMEZONE
BEGIN:VEVENT
DTSTART;TZID=America/New_York:20260329T130000
DTEND;TZID=America/New_York:20260329T143000
DTSTAMP:20260422T123621
CREATED:20260206T143250Z
LAST-MODIFIED:20260206T143250Z
UID:10002174-1774789200-1774794600@www.homegrowngreat.com
SUMMARY:Easter at the Exchange
DESCRIPTION:Egg hunt with over 20\,000 eggs\nParent eggs\nEaster Bunny + live bunnies\nFun specialty drink from a local vendor\nFood by BB Charcuterie\nKids DIY activities in the garden
URL:https://www.homegrowngreat.com/event/easter-at-the-exchange/
LOCATION:The Exchange\, 210 West High St\, Pleasant Hill\, OH\, 45359\, United States
CATEGORIES:Entertainment
ATTACH;FMTTYPE=image/heic:https://www.homegrowngreat.com/wp-content/uploads/2026/02/Easter-Event-e1770388345768.jpg
GEO:40.0529821;-84.3482536
X-APPLE-STRUCTURED-LOCATION;VALUE=URI;X-ADDRESS=The Exchange 210 West High St Pleasant Hill OH 45359 United States;X-APPLE-RADIUS=500;X-TITLE=210 West High St:geo:-84.3482536,40.0529821
END:VEVENT
BEGIN:VEVENT
DTSTART;TZID=America/New_York:20260329T150000
DTEND;TZID=America/New_York:20260329T170000
DTSTAMP:20260422T123621
CREATED:20250825T144357Z
LAST-MODIFIED:20250825T144357Z
UID:10001511-1774796400-1774803600@www.homegrowngreat.com
SUMMARY:Dr. Seuss's The Cat in The Hat Live on Stage! At APAC
DESCRIPTION:Dr. Seuss’s The Cat in the Hat Live on Stage!\, Sunday\, March 29\, 2026\, 3:00pm \nStep into the world of The Cat in the Hat and experience Dr. Seuss’s timeless classic come to life on stage! Since 2018\, this beloved show has delighted audiences worldwide\, bringing smiles to children and families alike. With its zany characters\, imaginative storytelling\, and playful humor\, The Cat in the Hat is more than just a children’s book—it’s a cultural phenomenon. Adapted for the stage in 2009 by the National Theatre of Great Britain\, this live show stays true to the original story. Join Sally\, her brother\, and their overprotective pet Fish as they meet the mischief-making Cat in his iconic red-striped hat on a rainy afternoon. \nWhat follows is an afternoon of fun\, chaos\, and valuable lessons about creativity and imagination.
URL:https://www.homegrowngreat.com/event/dr-seusss-the-cat-in-the-hat-live-on-stage-at-apac/
LOCATION:Arbogast Performing Arts Center\, 500 S. Dorset Rd\, Troy\, OH\, 45373\, United States
CATEGORIES:Entertainment,Troy
ATTACH;FMTTYPE=image/png:https://www.homegrowngreat.com/wp-content/uploads/2025/08/688c3cbcc04b37d1912f6e26_Cat-in-the-Hat-Cast-Logo-1920x1080-p-500.png
GEO:40.0354785;-84.2296283
X-APPLE-STRUCTURED-LOCATION;VALUE=URI;X-ADDRESS=Arbogast Performing Arts Center 500 S. Dorset Rd Troy OH 45373 United States;X-APPLE-RADIUS=500;X-TITLE=500 S. Dorset Rd:geo:-84.2296283,40.0354785
END:VEVENT
END:VCALENDAR