BEGIN:VCALENDAR
VERSION:2.0
PRODID:-//Home Grown Great - ECPv6.7.0//NONSGML v1.0//EN
CALSCALE:GREGORIAN
METHOD:PUBLISH
X-WR-CALNAME:Home Grown Great
X-ORIGINAL-URL:https://www.homegrowngreat.com
X-WR-CALDESC:Events for Home Grown Great
REFRESH-INTERVAL;VALUE=DURATION:PT1H
X-Robots-Tag:noindex
X-PUBLISHED-TTL:PT1H
BEGIN:VTIMEZONE
TZID:America/New_York
BEGIN:DAYLIGHT
TZOFFSETFROM:-0500
TZOFFSETTO:-0400
TZNAME:EDT
DTSTART:20260308T070000
END:DAYLIGHT
BEGIN:STANDARD
TZOFFSETFROM:-0400
TZOFFSETTO:-0500
TZNAME:EST
DTSTART:20261101T060000
END:STANDARD
END:VTIMEZONE
BEGIN:VEVENT
DTSTART;TZID=America/New_York:20260228T190000
DTEND;TZID=America/New_York:20260228T210000
DTSTAMP:20260425T074104
CREATED:20250825T143944Z
LAST-MODIFIED:20250924T130006Z
UID:10001509-1772305200-1772312400@www.homegrowngreat.com
SUMMARY:Earth\, Wind and Fire Tribute Band at APAC
DESCRIPTION:A Tribute to Earth\, Wind & Fire\, Saturday\, February 28\, 2026\, 7:00pm \nThis talented Earth\, Wind & Fire Tribute Band share a great love and appreciation for the style and musicianship of the premier band of the 70s\, 80s\, and 90s. They pay homage to one of the greatest bands of its era\, bringing to life the magical R&B\, funk\, and jazz sounds that continue to inspire and influence the contemporary entertainers of today. From the funky\, “earthy” grooves to the sophisticated and complex lyrics and orchestrations\, the Earth\, Wind & Fire Tribute band continue to keep the music alive so that everyone will know that these elements live on forever. With classic hits\, including “Got to Get You into My Life\,” “Sing a Song\,” “Shining Star\,” “Boogie Wonderland\,” “Let’s Groove\,” “September\,” and so many more\, you are sure to be on their feet\, clapping and singing along to the hits that live on and on and on. \nFrom the funky grooves to the sophisticated and complex lyrics and orchestrations\, the elements of Earth\, Wind & Fire live on. \nWhile you’re in Miami County\, check out our Ultimate Guide to Restaurants and find a great place for dinner the night of the concert!
URL:https://www.homegrowngreat.com/event/earth-wind-and-fire-tribute-band-at-apac/
LOCATION:Arbogast Performing Arts Center\, 500 S. Dorset Rd\, Troy\, OH\, 45373\, United States
CATEGORIES:Entertainment,Live Music,Troy
ATTACH;FMTTYPE=image/jpeg:https://www.homegrowngreat.com/wp-content/uploads/2025/08/688c3abcc0da982f17366383_Earth-Wind-Fire-rec-2-p-500.jpg
GEO:40.0354785;-84.2296283
X-APPLE-STRUCTURED-LOCATION;VALUE=URI;X-ADDRESS=Arbogast Performing Arts Center 500 S. Dorset Rd Troy OH 45373 United States;X-APPLE-RADIUS=500;X-TITLE=500 S. Dorset Rd:geo:-84.2296283,40.0354785
END:VEVENT
BEGIN:VEVENT
DTSTART;TZID=America/New_York:20260228T190000
DTEND;TZID=America/New_York:20260228T210000
DTSTAMP:20260425T074104
CREATED:20260203T145803Z
LAST-MODIFIED:20260203T145803Z
UID:10002171-1772305200-1772312400@www.homegrowngreat.com
SUMMARY:Midwest Comedy Tour at Crooked Handle Brewing
DESCRIPTION:COMEDY COMES TO CROOKED HANDLE! Get ready for a night of laughs as the Midwest Comedy Tour comes to Crooked Handle Brewing Co. on Saturday\, February 28!\nThe Midwest Comedy Tour has been traveling across the country\, bringing their unique blend of stand-up and improv to breweries\, wineries\, comedy clubs\, theaters\, and even baseball stadiums. Joining us will be MCT founder\, Austin Robertson [nationally-touring comedian known for his voiceover work\, writer for Blaze TV’s Normal World\, 2018’s 2nd place finalist in the “Funniest Person in Ohio” competition\, performing everywhere from Carnegie Hall to rural dive bars\, and even atop some school buses] and Becky Thompson [co-founder of the Midwest Comedy Tour\, finalist in the “Funniest Person in Ohio” competition\, featured in the satirical journal the Belladonna].\nWe are so excited to welcome you for an unforgettable evening of fun–come early and enjoy the brewery’s finest offerings\, sit back\, relax\, and laugh the night away!\nDate: Saturday\, February 28\, 2026Showtime: 7:00 pmTickets: $20 – on sale online (link in event) and at breweryAdults-only (mature content & language)
URL:https://www.homegrowngreat.com/event/midwest-comedy-tour-at-crooked-handle-brewing/
LOCATION:Crooked Handle Brewing Co.\, 123 N. Main St.\, Piqua\, OH\, 45356\, United States
CATEGORIES:Entertainment,Piqua
GEO:40.1472042;-84.2392813
X-APPLE-STRUCTURED-LOCATION;VALUE=URI;X-ADDRESS=Crooked Handle Brewing Co. 123 N. Main St. Piqua OH 45356 United States;X-APPLE-RADIUS=500;X-TITLE=123 N. Main St.:geo:-84.2392813,40.1472042
END:VEVENT
END:VCALENDAR