BEGIN:VCALENDAR
VERSION:2.0
PRODID:-//Home Grown Great - ECPv6.7.0//NONSGML v1.0//EN
CALSCALE:GREGORIAN
METHOD:PUBLISH
X-WR-CALNAME:Home Grown Great
X-ORIGINAL-URL:https://www.homegrowngreat.com
X-WR-CALDESC:Events for Home Grown Great
REFRESH-INTERVAL;VALUE=DURATION:PT1H
X-Robots-Tag:noindex
X-PUBLISHED-TTL:PT1H
BEGIN:VTIMEZONE
TZID:America/New_York
BEGIN:DAYLIGHT
TZOFFSETFROM:-0500
TZOFFSETTO:-0400
TZNAME:EDT
DTSTART:20260308T070000
END:DAYLIGHT
BEGIN:STANDARD
TZOFFSETFROM:-0400
TZOFFSETTO:-0500
TZNAME:EST
DTSTART:20261101T060000
END:STANDARD
END:VTIMEZONE
BEGIN:VEVENT
DTSTART;TZID=America/New_York:20260221T100000
DTEND;TZID=America/New_York:20260222T153000
DTSTAMP:20260423T163327
CREATED:20260202T134607Z
LAST-MODIFIED:20260202T134607Z
UID:10002169-1771668000-1771774200@www.homegrowngreat.com
SUMMARY:Collectibles Show at the Fairgrounds
DESCRIPTION:Get ready Feb 21-22nd 10am-3:20pm.\nCollectibles 2 day show. JSA Authentication will be at the show. \nFree admission. Family Fun Event!\nMiami County Fairgrounds\n650 N. County Rd. 25A.\nTroy\, Oh 45473\nBuilding 610. \nWant to set up? Contact Mike 937-301-7903.
URL:https://www.homegrowngreat.com/event/collectibles-show/
LOCATION:Miami County Fairgrounds\, 650 N. County. Rd 25A\, Troy\, OH\, 45373\, United States
CATEGORIES:Entertainment,Troy
ATTACH;FMTTYPE=image/jpeg:https://www.homegrowngreat.com/wp-content/uploads/2023/01/Sports-Cards-Color-1024x768-1.jpg
GEO:40.0768004;-84.2201887
X-APPLE-STRUCTURED-LOCATION;VALUE=URI;X-ADDRESS=Miami County Fairgrounds 650 N. County. Rd 25A Troy OH 45373 United States;X-APPLE-RADIUS=500;X-TITLE=650 N. County. Rd 25A:geo:-84.2201887,40.0768004
END:VEVENT
END:VCALENDAR