BEGIN:VCALENDAR
VERSION:2.0
PRODID:-//Home Grown Great - ECPv6.7.0//NONSGML v1.0//EN
CALSCALE:GREGORIAN
METHOD:PUBLISH
X-ORIGINAL-URL:https://www.homegrowngreat.com
X-WR-CALDESC:Events for Home Grown Great
REFRESH-INTERVAL;VALUE=DURATION:PT1H
X-Robots-Tag:noindex
X-PUBLISHED-TTL:PT1H
BEGIN:VTIMEZONE
TZID:America/New_York
BEGIN:DAYLIGHT
TZOFFSETFROM:-0500
TZOFFSETTO:-0400
TZNAME:EDT
DTSTART:20260308T070000
END:DAYLIGHT
BEGIN:STANDARD
TZOFFSETFROM:-0400
TZOFFSETTO:-0500
TZNAME:EST
DTSTART:20261101T060000
END:STANDARD
END:VTIMEZONE
BEGIN:VEVENT
DTSTART;VALUE=DATE:20260213
DTEND;VALUE=DATE:20260215
DTSTAMP:20260423T120850
CREATED:20221229T151620Z
LAST-MODIFIED:20251217T202548Z
UID:10000812-1770940800-1771113599@www.homegrowngreat.com
SUMMARY:Valentine Dinner and a Show at Troy-Hayner Cultural Center
DESCRIPTION:​Friday\, February 13 or Saturday\, February 14\, 2026\nOur doors will open at 5:00 pm.\n​Wine bar opens at 5:30 and dinner will be served at 6:00. \n\n\nCelebrate love with an elegant evening at the Hayner. This year’s Valentine’s Dinner & Show will feature comedian Todd Lamanske and Farm to Table dinner prepared by Starry Dream Catering. Local chef Amanda Starry sources everything from their farm and regional partners. Starry Dreams is known for inventive\, wholesome meals that celebrate fresh\, seasonal flavors. Guests can look forward to a beautifully crafted dining experience in the Hayner Ballroom before the live performance. \nThe Valentine’s Dinner & Show will take place on Thursday\, February 13 and Friday\, February 14\, 2026 at 6:00 pm. Tickets are $70 per person and must be reserved in advance. Seating is limited. Ticket sales will open to the public January\, 2026. Please check back soon. \nThis event and all Hayner programming are made possible through the generosity of the citizens of Troy and the Friends of Hayner. \nLearn more about this event and make your reservations at www.troyhayner.org/happenings
URL:https://www.homegrowngreat.com/event/valentine-dinner-and-a-show/
LOCATION:Troy-Hayner Cultural Center\, 301 West Main Street\, Troy\, OH\, 45373\, United States
CATEGORIES:Entertainment,Troy
GEO:40.0413541;-84.2063767
X-APPLE-STRUCTURED-LOCATION;VALUE=URI;X-ADDRESS=Troy-Hayner Cultural Center 301 West Main Street Troy OH 45373 United States;X-APPLE-RADIUS=500;X-TITLE=301 West Main Street:geo:-84.2063767,40.0413541
END:VEVENT
BEGIN:VEVENT
DTSTART;VALUE=DATE:20260213
DTEND;VALUE=DATE:20260216
DTSTAMP:20260423T120850
CREATED:20260121T152756Z
LAST-MODIFIED:20260121T152756Z
UID:10002153-1770940800-1771199999@www.homegrowngreat.com
SUMMARY:Miami County Home and Outdoor Living Show
DESCRIPTION:DATES:\nFebruary 13\, 14 & 15\, 2026 \nTIMES:\nFriday:       2:00 pm – 6pm\nSaturday: 10:00 am – 6:00 pm\nSunday:    10:00 am – 4:00 pm \nLOCATION:\nHobart Arena\, 255 Adams Street\, Troy\, OH 45373 \nGet Inspired at the Miami County Home and Outdoor Living Show!Spring is the perfect time to kick off those home improvement projects you’ve been thinking about all winter. Whether you’re updating your outdoor space\, remodeling a kitchen or bath\, or just looking for ideas to refresh your home—this is the place to start!\nIf your to-do list is growing\, we’ve got the experts to help you get it done right. From outdoor living specialists to skilled kitchen and bath remodelers\, our local contractors are ready to guide you every step of the way—so you can fall in love with your home all over again.\nThinking about selling? Boost your home’s value and curb appeal by tackling updates like fresh paint\, new siding\, or landscaping. Or improve energy efficiency with upgrades like windows\, doors\, insulation\, and HVAC systems. Whatever your goal\, early spring is the right time to get it done!\nWhile you’re here\, don’t miss our daily giveaways for great prizes! Just stop by\, explore\, and enter for your chance to win.\nAnd be sure to check out our marketplace vendors—offering everything from home products to décor and unique finds. There’s truly something for everyone at the Miami County Home and Outdoor Living Show!
URL:https://www.homegrowngreat.com/event/miami-county-home-and-outdoor-living-show/
LOCATION:Hobart Arena\, 255 Adams Street\, Troy\, OH\, 45373\, United States
CATEGORIES:Entertainment,Outdoors,Troy
ATTACH;FMTTYPE=image/png:https://www.homegrowngreat.com/wp-content/uploads/2026/01/HOme-Show.png
GEO:40.0458748;-84.2049873
X-APPLE-STRUCTURED-LOCATION;VALUE=URI;X-ADDRESS=DESCRIPTION:DATES:\nFebruary 13 14 & 15 2026 \nTIMES:\nFriday:       2:00 pm – 6pm\nSaturday: 10:00 am – 6:00 pm\nSunday:    10:00 am – 4:00 pm \n\nHobart Arena 255 Adams Street Troy OH 45373 \nGet Inspired at the Miami County Home and Outdoor Living Show!Spring is the perfect time to kick off those home improvement projects you’ve been thinking about all winter. Whether you’re updating your outdoor space remodeling a kitchen or bath or just looking for ideas to refresh your home—this is the place to start!\nIf your to-do list is growing we’ve got the experts to help you get it done right. From outdoor living specialists to skilled kitchen and bath remodelers our local contractors are ready to guide you every step of the way—so you can fall in love with your home all over again.\nThinking about selling? Boost your home’s value and curb appeal by tackling updates like fresh paint new siding or landscaping. Or improve energy efficiency with upgrades like windows doors insulation and HVAC systems. Whatever your goal early spring is the right time to get it done!\nWhile you’re here don’t miss our daily giveaways for great prizes! Just stop by explore and enter for your chance to win.\nAnd be sure to check out our marketplace vendors—offering everything from home products to décor and unique finds. There’s truly something for everyone at the Miami County Home and Outdoor Living Show!;X-APPLE-RADIUS=500;X-TITLE=255 Adams Street:geo:-84.2049873,40.0458748
END:VEVENT
BEGIN:VEVENT
DTSTART;TZID=America/New_York:20260214T100000
DTEND;TZID=America/New_York:20260214T140000
DTSTAMP:20260423T120850
CREATED:20260106T151947Z
LAST-MODIFIED:20260106T151947Z
UID:10002131-1771063200-1771077600@www.homegrowngreat.com
SUMMARY:Valentine Mini Market
DESCRIPTION:A curated market featuring high-quality small business vendors\, food trucks and trending experiences.\n\nADMISSION SCHEDULEVIP 10AM – 11AM: $5 (ONLINE ONLY)STANDARD 11AM – 1PM: $1 (AT THE DOOR ONLY)FREE ADMISSION 1PM – 2PM \nThe Warehouse\n619 Lincoln Ave\nTroy\, OH 45373
URL:https://www.homegrowngreat.com/event/valentine-mini-market/
LOCATION:OH
CATEGORIES:Entertainment,Troy
END:VEVENT
BEGIN:VEVENT
DTSTART;TZID=America/New_York:20260214T100000
DTEND;TZID=America/New_York:20260214T170000
DTSTAMP:20260423T120850
CREATED:20260105T141238Z
LAST-MODIFIED:20260106T150837Z
UID:10002122-1771063200-1771088400@www.homegrowngreat.com
SUMMARY:2nd Saturday Vendor Show
DESCRIPTION: Join us for our 2nd Saturday Vendor Events! —a monthly celebration of small businesses\, shopping\, and fun!\n10:00AM-5:00PM\n Explore 30+ vendors and discover unique finds while supporting local businesses.\n Where? Piqua Center Cost? FREE!\nMark your calendars\, and don’t miss it!
URL:https://www.homegrowngreat.com/event/2nd-saturday-vendor-show-2/
LOCATION:Piqua Center\, 987 E. Ash St\, Piqua\, OH\, 45356\, United States
CATEGORIES:Entertainment,Piqua
ATTACH;FMTTYPE=image/jpeg:https://www.homegrowngreat.com/wp-content/uploads/2025/02/Piqua-Center-Vendor-show-e1767712094546.jpg
END:VEVENT
BEGIN:VEVENT
DTSTART;TZID=America/New_York:20260214T180000
DTEND;TZID=America/New_York:20260214T200000
DTSTAMP:20260423T120850
CREATED:20251230T161713Z
LAST-MODIFIED:20251230T161713Z
UID:10002120-1771092000-1771099200@www.homegrowngreat.com
SUMMARY:Sweetheart Stroll
DESCRIPTION:Take your sweetheart on a stroll down a lighted luminary path in the woods while enjoying Winan’s coffee and Bake House Bread’s brownie bites as you learn about the wonderful world of animal courtship. This is a drop in program\, you can arrive any time within your selected hour.\nNote: The luminaries will not be lit until ~6:45PM.\nThe 6:00 time slot allows for you to complete your sweetheart’s stroll and enjoy the signs in the day light if you wish. $10/couple – 1 Registration per couple.
URL:https://www.homegrowngreat.com/event/sweetheart-stroll/
LOCATION:Charleston Falls Preserve\, 2535 ROSS ROAD\, Tipp City\, OH\, 45371\, United States
CATEGORIES:Outdoors,Tipp City
GEO:39.918222;-84.147685
X-APPLE-STRUCTURED-LOCATION;VALUE=URI;X-ADDRESS=Charleston Falls Preserve 2535 ROSS ROAD Tipp City OH 45371 United States;X-APPLE-RADIUS=500;X-TITLE=2535 ROSS ROAD:geo:-84.147685,39.918222
END:VEVENT
BEGIN:VEVENT
DTSTART;TZID=America/New_York:20260214T190000
DTEND;TZID=America/New_York:20260214T210000
DTSTAMP:20260423T120850
CREATED:20250825T143509Z
LAST-MODIFIED:20250924T125839Z
UID:10001507-1771095600-1771102800@www.homegrowngreat.com
SUMMARY:Three American Troubadours\, the Music of Taylor\, Simon and King at APAC
DESCRIPTION:Three American Troubadours\, Saturday\, February 14\, 2026\, 7:00pm \nJoin the Three American Troubadours as they celebrate the lives and music of James Taylor\, Carly Simon\, and Carole King. “How Sweet It Is\,” “Shower The People\,” “Anticipation\,” “You’re So Vain\,” “Mockingbird\,” “I Feel the Earth Move\,” “It’s Too Late”\, and “You’ve Got A Friend”—these are just a few of the fantastic songs. They celebrate the lives and careers of 6-time Grammy-winner James Taylor\, Rock & Roll Hall-of-Famer Carly Simon\, and the legendary Carole King\, who wrote or co-wrote over 118 Billboard Hot 100 hits. The personal lives and careers of these three iconic American singer/songwriters have intertwined throughout the years\, and their memorable hit songs offer ageless inspiration. \nTake a nostalgic journey through the personal lives of three iconic American singer/songwriters. \nWhile you’re in Miami County\, check out our Ultimate Guide to Restaurants and find a great place for dinner the night of the concert!
URL:https://www.homegrowngreat.com/event/three-american-troubadours/
LOCATION:Arbogast Performing Arts Center\, 500 S. Dorset Rd\, Troy\, OH\, 45373\, United States
CATEGORIES:Entertainment,Live Music,Troy
ATTACH;FMTTYPE=image/jpeg:https://www.homegrowngreat.com/wp-content/uploads/2025/08/688c385193488f10e38cf698_Troubadours-rec-p-500.jpg
GEO:40.0354785;-84.2296283
X-APPLE-STRUCTURED-LOCATION;VALUE=URI;X-ADDRESS=Arbogast Performing Arts Center 500 S. Dorset Rd Troy OH 45373 United States;X-APPLE-RADIUS=500;X-TITLE=500 S. Dorset Rd:geo:-84.2296283,40.0354785
END:VEVENT
END:VCALENDAR