BEGIN:VCALENDAR
VERSION:2.0
PRODID:-//Home Grown Great - ECPv6.7.0//NONSGML v1.0//EN
CALSCALE:GREGORIAN
METHOD:PUBLISH
X-ORIGINAL-URL:https://www.homegrowngreat.com
X-WR-CALDESC:Events for Home Grown Great
REFRESH-INTERVAL;VALUE=DURATION:PT1H
X-Robots-Tag:noindex
X-PUBLISHED-TTL:PT1H
BEGIN:VTIMEZONE
TZID:America/New_York
BEGIN:DAYLIGHT
TZOFFSETFROM:-0500
TZOFFSETTO:-0400
TZNAME:EDT
DTSTART:20250309T070000
END:DAYLIGHT
BEGIN:STANDARD
TZOFFSETFROM:-0400
TZOFFSETTO:-0500
TZNAME:EST
DTSTART:20251102T060000
END:STANDARD
END:VTIMEZONE
BEGIN:VEVENT
DTSTART;VALUE=DATE:20251205
DTEND;VALUE=DATE:20251207
DTSTAMP:20260421T085413
CREATED:20231102T124939Z
LAST-MODIFIED:20251029T132528Z
UID:10000874-1764892800-1765065599@www.homegrowngreat.com
SUMMARY:Annual Holiday Evening at Edison
DESCRIPTION:The Holidays at Edison State is an annual fundraising event organized by The Edison Foundation. The proceeds from this event support Edison State Community College in achieving its educational and community service goals. The funds raised will be directed to scholarships\, student emergency assistance\, employee grants\, capital improvements\, and more. \nFor the past 27 years\, The Holidays at Edison State has been celebrated for its outstanding entertainment and festive atmosphere. It marks the perfect way for many people in the northern Miami Valley to kick-start the holiday season. The event includes delicious food\, holiday decorations\, and engaging entertainment. \nThe 2025 Holidays at Edison State will feature a Madrigal Celebration—a Renaissance-themed theatrical performance by the Edison Stagelight Players\, complete with audience participation\, food\, music\, and merriment. Three performances will be held on Friday\, December 5\, at 6:30 p.m.\, and Saturday\, December 6\, 2025\, at 12:00 p.m. and 6:30 p.m.\, with doors opening 30 minutes before each show. With each ticket purchased\, patrons will enjoy light appetizers\, a formal three-course meal\, non-alcoholic drinks\, and entertainment. A cash bar will be available. Renaissance attire is encouraged\, but semi-formal attire is also acceptable. \nFor more information about the Holidays at Edison State\, please email Dr. Richard A. Hanes or call 937.778.7806.
URL:https://www.homegrowngreat.com/event/holiday-evening-at-edison/
LOCATION:Edison State Community College\, 1973 Edison Dr.\, Piqua\, OH\, 45356\, United States
CATEGORIES:Entertainment,Live Music,Piqua
GEO:40.1583581;-84.2117513
X-APPLE-STRUCTURED-LOCATION;VALUE=URI;X-ADDRESS=Edison State Community College 1973 Edison Dr. Piqua OH 45356 United States;X-APPLE-RADIUS=500;X-TITLE=1973 Edison Dr.:geo:-84.2117513,40.1583581
END:VEVENT
BEGIN:VEVENT
DTSTART;TZID=America/New_York:20251205T170000
DTEND;TZID=America/New_York:20251205T210000
DTSTAMP:20260421T085413
CREATED:20251124T145328Z
LAST-MODIFIED:20251124T145328Z
UID:10001841-1764954000-1764968400@www.homegrowngreat.com
SUMMARY:Moonlight & Mistletoe
DESCRIPTION:Moonlight and Mistletoe will feature shops staying open late\, specialty DORA drinks\, lit horse drawn wagon rides\, and the magic of our charming storybook downtown.\nIt is a wonderful way for the community to enjoy local shopping and experience the season in Tipp City.
URL:https://www.homegrowngreat.com/event/moonlight-mistletoe/
LOCATION:Downtown Tipp City\, 6 South 3rd St.\, Tipp City\, OH\, 45371\, United States
CATEGORIES:Highlights,Seasonal,Tipp City
GEO:39.9610122;-84.1710803
X-APPLE-STRUCTURED-LOCATION;VALUE=URI;X-ADDRESS=Downtown Tipp City 6 South 3rd St. Tipp City OH 45371 United States;X-APPLE-RADIUS=500;X-TITLE=6 South 3rd St.:geo:-84.1710803,39.9610122
END:VEVENT
BEGIN:VEVENT
DTSTART;TZID=America/New_York:20251205T180000
DTEND;TZID=America/New_York:20251205T220000
DTSTAMP:20260421T085413
CREATED:20250925T134902Z
LAST-MODIFIED:20250925T134902Z
UID:10001529-1764957600-1764972000@www.homegrowngreat.com
SUMMARY:Pink Ribbon Good Small Town Christmas
DESCRIPTION:A true Hallmark Christmas in Pleasant Hill all while helping PRG support local women fighting cancer!\nThe event starts off with a parade and then candlelit tree lighting\, live music\, food trucks\, kids village\, DIY stations and so much more
URL:https://www.homegrowngreat.com/event/pink-ribbon-good-small-town-christmas/
LOCATION:The Exchange\, 210 West High St\, Pleasant Hill\, OH\, 45359\, United States
CATEGORIES:Seasonal
ATTACH;FMTTYPE=image/jpeg:https://www.homegrowngreat.com/wp-content/uploads/2025/09/535779267_770650742587556_6165160453535247895_n.jpg
GEO:40.0529821;-84.3482536
X-APPLE-STRUCTURED-LOCATION;VALUE=URI;X-ADDRESS=The Exchange 210 West High St Pleasant Hill OH 45359 United States;X-APPLE-RADIUS=500;X-TITLE=210 West High St:geo:-84.3482536,40.0529821
END:VEVENT
END:VCALENDAR