BEGIN:VCALENDAR
VERSION:2.0
PRODID:-//Home Grown Great - ECPv6.7.0//NONSGML v1.0//EN
CALSCALE:GREGORIAN
METHOD:PUBLISH
X-ORIGINAL-URL:https://www.homegrowngreat.com
X-WR-CALDESC:Events for Home Grown Great
REFRESH-INTERVAL;VALUE=DURATION:PT1H
X-Robots-Tag:noindex
X-PUBLISHED-TTL:PT1H
BEGIN:VTIMEZONE
TZID:America/New_York
BEGIN:DAYLIGHT
TZOFFSETFROM:-0500
TZOFFSETTO:-0400
TZNAME:EDT
DTSTART:20250309T070000
END:DAYLIGHT
BEGIN:STANDARD
TZOFFSETFROM:-0400
TZOFFSETTO:-0500
TZNAME:EST
DTSTART:20251102T060000
END:STANDARD
END:VTIMEZONE
BEGIN:VEVENT
DTSTART;TZID=America/New_York:20250606T160000
DTEND;TZID=America/New_York:20250606T210000
DTSTAMP:20260423T121536
CREATED:20230512T123842Z
LAST-MODIFIED:20250512T130037Z
UID:10000645-1749225600-1749243600@www.homegrowngreat.com
SUMMARY:Jeep Cruise-In by Duck Duck Jeep Ohio
DESCRIPTION:Join us in beautiful Downtown Tipp City for our Annual Jeep Cruise-in!\nMark your calendars for the 3rd Annual Jeep Cruise-In in beautiful downtown Tipp City! This exciting event is the ultimate celebration for Jeep lovers\, families\, and anyone looking for a fun-filled day in our historic downtown. We are thrilled to continue our tradition of collaborating with Duck Duck Jeep Ohio to bring you this exciting event! Together\, we create a fun and unforgettable experience for Jeep enthusiasts and the community. Don’t miss your chance to support the Lunch On Us program\, which provides free summer meals to local children.Expect to see a variety of amazing jeeps lining the streets\, along with food trucks\, and plenty of opportunities to explore all that downtown Tipp City has to offer. Whether you’re a Jeep enthusiast or just enjoying the atmosphere\, there’s something for everyone! \nWe’ll also be presenting awards to the top jeeps of the day\, so be sure to check out the incredible jeeps on display. \nOur downtown businesses will be adding their own special touches to the event with promotions\, sales\, and surprises\, making your visit even more exciting. From unique shopping experiences to exclusive offers\, you won’t want to miss out on the action! \nBest of all\, the Jeep Cruise-In supports the Lunch On Us program\, which provides free meals to children in Tipp City and Monroe Township during the summer. So\, come enjoy the jeeps\, the community\, and the chance to support a great cause. \nGet ready for a fun and memorable day in downtown Tipp City\, we can’t wait to see you there!
URL:https://www.homegrowngreat.com/event/jeep-cruise-in/
LOCATION:Downtown Tipp City\, 6 South 3rd St.\, Tipp City\, OH\, 45371\, United States
CATEGORIES:Entertainment,Tipp City
ORGANIZER;CN="Downtown Tipp City Partnership":MAILTO:tweaver@downtowntippcity.org
GEO:39.9610122;-84.1710803
X-APPLE-STRUCTURED-LOCATION;VALUE=URI;X-ADDRESS=Downtown Tipp City 6 South 3rd St. Tipp City OH 45371 United States;X-APPLE-RADIUS=500;X-TITLE=6 South 3rd St.:geo:-84.1710803,39.9610122
END:VEVENT
BEGIN:VEVENT
DTSTART;TZID=America/New_York:20250606T170000
DTEND;TZID=America/New_York:20250606T210000
DTSTAMP:20260423T121536
CREATED:20250602T140712Z
LAST-MODIFIED:20250602T140712Z
UID:10001471-1749229200-1749243600@www.homegrowngreat.com
SUMMARY:Strawberry Jam - Hometown Celebration
DESCRIPTION:Strawberry Jam – Hometown Celebration\nLet’s Celebrate Troy\, Ohio!\nJoin us on Friday\, June 6th for the Hometown Celebration of everything strawberry!\nWhen: 5:00 – 9:00 pm\nWhere: Downtown Troy\nThe evening will kick off with a ribbon cutting celebration at 4:45pm\, followed by the dying of the fountain. There will be a Concert on Prouty Plaza from 6:00pm-9:00pm.\nDowntown Restaurants & Boutiques may have adjusted hours\, please follow their pages for more information. A limited number of Strawberry Festival vendors will be open throughout the venue on both the Levee and Downtown. \n\nPLEASE NOTE: This event is put on by the The Troy Area Chamber of Commerce but it is NOT the full festival The Festival will begin on Saturday & Sunday June 7th & 8th.
URL:https://www.homegrowngreat.com/event/strawberry-jam-hometown-celebration/
LOCATION:Downtown Troy – Prouty Plaza\, 1 West Main Street\, Troy\, OH\, 45373\, United States
CATEGORIES:Entertainment,Festivals,Live Music,Troy
ATTACH;FMTTYPE=image/jpeg:https://www.homegrowngreat.com/wp-content/uploads/2025/06/Strawberry-Jam-2025.jpg
GEO:40.0396227;-84.2035748
X-APPLE-STRUCTURED-LOCATION;VALUE=URI;X-ADDRESS=Downtown Troy – Prouty Plaza 1 West Main Street Troy OH 45373 United States;X-APPLE-RADIUS=500;X-TITLE=1 West Main Street:geo:-84.2035748,40.0396227
END:VEVENT
END:VCALENDAR