BEGIN:VCALENDAR
VERSION:2.0
PRODID:-//Home Grown Great - ECPv6.7.0//NONSGML v1.0//EN
CALSCALE:GREGORIAN
METHOD:PUBLISH
X-WR-CALNAME:Home Grown Great
X-ORIGINAL-URL:https://www.homegrowngreat.com
X-WR-CALDESC:Events for Home Grown Great
REFRESH-INTERVAL;VALUE=DURATION:PT1H
X-Robots-Tag:noindex
X-PUBLISHED-TTL:PT1H
BEGIN:VTIMEZONE
TZID:America/New_York
BEGIN:DAYLIGHT
TZOFFSETFROM:-0500
TZOFFSETTO:-0400
TZNAME:EDT
DTSTART:20250309T070000
END:DAYLIGHT
BEGIN:STANDARD
TZOFFSETFROM:-0400
TZOFFSETTO:-0500
TZNAME:EST
DTSTART:20251102T060000
END:STANDARD
END:VTIMEZONE
BEGIN:VEVENT
DTSTART;TZID=America/New_York:20250410T100000
DTEND;TZID=America/New_York:20250412T170000
DTSTAMP:20260423T121438
CREATED:20220216T144153Z
LAST-MODIFIED:20250409T182351Z
UID:10000676-1744279200-1744477200@www.homegrowngreat.com
SUMMARY:Spring Open House in West Milton
DESCRIPTION:Visit the shops of West Milton during their Open house April 10\, 11 & 12\, 10am-5pm Thurs & Fri\, 10am-4pm Saturday. There will be door prizes and treats!
URL:https://www.homegrowngreat.com/event/spring-open-house-in-west-milton/
LOCATION:OH
CATEGORIES:Entertainment,West Milton
ATTACH;FMTTYPE=image/jpeg:https://www.homegrowngreat.com/wp-content/uploads/2024/06/ReviveIt-2024-scaled_444x300_acf_cropped.jpg
END:VEVENT
BEGIN:VEVENT
DTSTART;VALUE=DATE:20250411
DTEND;VALUE=DATE:20250414
DTSTAMP:20260423T121438
CREATED:20250310T132243Z
LAST-MODIFIED:20250310T132243Z
UID:10001405-1744329600-1744588799@www.homegrowngreat.com
SUMMARY:Small Town Springtime Market
DESCRIPTION:The Small Town Springtime Market is a Small Business vendor market\, showcasing some of Ohio’s most unique handmade items and small businesses. 100% of our vendors are local & trusted Small Business owners with unique and quality products!\nEnjoy the small town charm of The Miami County Fairgrounds while you shop everything from home decor to clothing\, jewelry\, handmade soaps\, candles\, and more! Don’t forget to grab a bite to eat from our local food trucks while you shop!
URL:https://www.homegrowngreat.com/event/small-town-springtime-market/
LOCATION:Miami County Fairgrounds\, 650 N. County. Rd 25A\, Troy\, OH\, 45373\, United States
CATEGORIES:Troy
GEO:40.0768004;-84.2201887
X-APPLE-STRUCTURED-LOCATION;VALUE=URI;X-ADDRESS=Miami County Fairgrounds 650 N. County. Rd 25A Troy OH 45373 United States;X-APPLE-RADIUS=500;X-TITLE=650 N. County. Rd 25A:geo:-84.2201887,40.0768004
END:VEVENT
END:VCALENDAR